BEGIN:VCALENDAR
VERSION:2.0
PRODID:-//Evok Collection - ECPv6.15.17.1//NONSGML v1.0//EN
CALSCALE:GREGORIAN
METHOD:PUBLISH
X-ORIGINAL-URL:https://evokcollection.com/en/
X-WR-CALDESC:Events for Evok Collection
REFRESH-INTERVAL;VALUE=DURATION:PT1H
X-Robots-Tag:noindex
X-PUBLISHED-TTL:PT1H
BEGIN:VTIMEZONE
TZID:Europe/London
BEGIN:DAYLIGHT
TZOFFSETFROM:+0000
TZOFFSETTO:+0100
TZNAME:BST
DTSTART:20250330T010000
END:DAYLIGHT
BEGIN:STANDARD
TZOFFSETFROM:+0100
TZOFFSETTO:+0000
TZNAME:GMT
DTSTART:20251026T010000
END:STANDARD
BEGIN:DAYLIGHT
TZOFFSETFROM:+0000
TZOFFSETTO:+0100
TZNAME:BST
DTSTART:20260329T010000
END:DAYLIGHT
BEGIN:STANDARD
TZOFFSETFROM:+0100
TZOFFSETTO:+0000
TZNAME:GMT
DTSTART:20261025T010000
END:STANDARD
BEGIN:DAYLIGHT
TZOFFSETFROM:+0000
TZOFFSETTO:+0100
TZNAME:BST
DTSTART:20270328T010000
END:DAYLIGHT
BEGIN:STANDARD
TZOFFSETFROM:+0100
TZOFFSETTO:+0000
TZNAME:GMT
DTSTART:20271031T010000
END:STANDARD
END:VTIMEZONE
BEGIN:VEVENT
DTSTART;TZID=Europe/London:20260511T193000
DTEND;TZID=Europe/London:20260511T210000
DTSTAMP:20260421T091028
CREATED:20260402T140423Z
LAST-MODIFIED:20260402T141001Z
UID:10000707-1778527800-1778533200@evokcollection.com
SUMMARY:Brilliant Women Circle x Brach Madrid avec Lucía Yturriaga and Bárbara Fernández del Bas
DESCRIPTION:We are delighted to welcome you to a conversation with Lucía Yturriaga et Bárbara Fernández del Bas as part of the Brilliant Women Circle\, a monthly conversation series led by Sara Zaldívar that highlights accomplished women across diverse fields. Each session offers an intimate conversation with a featured guest\, sharing their personal journey\, lessons learned\, and the challenges they have overcome along the way. \nLucía Yturriaga\, Founder Partner and CEO of Womanhood\, and Bárbara Fernández del Bas\, Founder Partner and CEO of Womanhood Clinic\, bring together their expertise and experience to support women at every stage of life. \nLucía\, after over thirty years in retail and a personal experience with menopause\, created Womanhood as a platform and community for women’s health\, providing information\, support\, and practical solutions. Bárbara\, a gynecologist specialized in integrative\, functional gynecology and anti-aging medicine\, offers a holistic and personalized approach to women’s health\, combining medical expertise\, innovation\, and multidisciplinary care. \nMonday 11 May at 7:30pm \nFree event with registration
URL:https://evokcollection.com/en/event/brilliant-women-circle-x-brach-madrid-avec-lucia-yturriaga-et-barbara-fernandez-del-bas/
LOCATION:Brach Madrid\, 28004\, Spain
CATEGORIES:Brilliant Woman Circle
ATTACH;FMTTYPE=image/png:https://evokcollection.com/wp-content/uploads/2026/04/sara-x-lucia-yturriaga-et-barbara-fernandez-del-bas.png
GEO:40.4200395;-3.7019354
END:VEVENT
END:VCALENDAR