BEGIN:VCALENDAR
VERSION:2.0
PRODID:-//Evok Collection - ECPv6.15.17.1//NONSGML v1.0//EN
CALSCALE:GREGORIAN
METHOD:PUBLISH
X-ORIGINAL-URL:https://evokcollection.com/en/
X-WR-CALDESC:Events for Evok Collection
REFRESH-INTERVAL;VALUE=DURATION:PT1H
X-Robots-Tag:noindex
X-PUBLISHED-TTL:PT1H
BEGIN:VTIMEZONE
TZID:Europe/London
BEGIN:DAYLIGHT
TZOFFSETFROM:+0000
TZOFFSETTO:+0100
TZNAME:BST
DTSTART:20250330T010000
END:DAYLIGHT
BEGIN:STANDARD
TZOFFSETFROM:+0100
TZOFFSETTO:+0000
TZNAME:GMT
DTSTART:20251026T010000
END:STANDARD
BEGIN:DAYLIGHT
TZOFFSETFROM:+0000
TZOFFSETTO:+0100
TZNAME:BST
DTSTART:20260329T010000
END:DAYLIGHT
BEGIN:STANDARD
TZOFFSETFROM:+0100
TZOFFSETTO:+0000
TZNAME:GMT
DTSTART:20261025T010000
END:STANDARD
BEGIN:DAYLIGHT
TZOFFSETFROM:+0000
TZOFFSETTO:+0100
TZNAME:BST
DTSTART:20270328T010000
END:DAYLIGHT
BEGIN:STANDARD
TZOFFSETFROM:+0100
TZOFFSETTO:+0000
TZNAME:GMT
DTSTART:20271031T010000
END:STANDARD
END:VTIMEZONE
BEGIN:VEVENT
DTSTART;TZID=Europe/London:20260513T190000
DTEND;TZID=Europe/London:20260513T203000
DTSTAMP:20260423T102041
CREATED:20260402T143948Z
LAST-MODIFIED:20260402T144351Z
UID:10000709-1778698800-1778704200@evokcollection.com
SUMMARY:Piano concert at Nolinski Paris
DESCRIPTION:Evok Collection invites you to enjoy a unique musical experience through a series of piano recitals given by young virtuoso artists who will make music resonate between the Nolinski Paris and the Nolinski Venezia\, exceptional venues where melody resonates with particular importance. \nWe are delighted to invite you to a concert by Félicité Lainé on Wednesday 13 May at 7pm\, at Nolinski Paris. \nTrained at the Conservatoire National Supérieur de Musique de Paris in Frank Braley’s class\, Félicité Laîné graduated with the jury’s highest honors. A laureate of several international competitions\, she performs regularly in France and abroad\, and complements her musical practice with a master’s degree in philosophy and studies in piano accompaniment for singers. \nThis concert\, organised in partnership with Coline en Ré\, combines musical excellence with a commitment to helping the children of Madagascar. \n  \n 
URL:https://evokcollection.com/en/event/concert-de-piano-au-nolinski-paris-3/
LOCATION:Nolinski Paris\, Avenue de l'Opéra\, Paris\, Département de Paris\, 75001\, France
CATEGORIES:Charity piano concert
ATTACH;FMTTYPE=image/png:https://evokcollection.com/wp-content/uploads/2025/01/nolinski-paris-grand-salon.png
GEO:48.8667241;2.3339412
X-APPLE-STRUCTURED-LOCATION;VALUE=URI;X-ADDRESS=Nolinski Paris Avenue de l'Opéra Paris Département de Paris 75001 France;X-APPLE-RADIUS=500;X-TITLE=Avenue de l'Opéra:geo:2.3339412,48.8667241
END:VEVENT
END:VCALENDAR