BEGIN:VCALENDAR
VERSION:2.0
PRODID:-//Evok Collection - ECPv6.15.17.1//NONSGML v1.0//EN
CALSCALE:GREGORIAN
METHOD:PUBLISH
X-WR-CALNAME:Evok Collection
X-ORIGINAL-URL:https://evokcollection.com/en/
X-WR-CALDESC:Events for Evok Collection
REFRESH-INTERVAL;VALUE=DURATION:PT1H
X-Robots-Tag:noindex
X-PUBLISHED-TTL:PT1H
BEGIN:VTIMEZONE
TZID:Europe/London
BEGIN:DAYLIGHT
TZOFFSETFROM:+0000
TZOFFSETTO:+0100
TZNAME:BST
DTSTART:20230326T010000
END:DAYLIGHT
BEGIN:STANDARD
TZOFFSETFROM:+0100
TZOFFSETTO:+0000
TZNAME:GMT
DTSTART:20231029T010000
END:STANDARD
BEGIN:DAYLIGHT
TZOFFSETFROM:+0000
TZOFFSETTO:+0100
TZNAME:BST
DTSTART:20240331T010000
END:DAYLIGHT
BEGIN:STANDARD
TZOFFSETFROM:+0100
TZOFFSETTO:+0000
TZNAME:GMT
DTSTART:20241027T010000
END:STANDARD
BEGIN:DAYLIGHT
TZOFFSETFROM:+0000
TZOFFSETTO:+0100
TZNAME:BST
DTSTART:20250330T010000
END:DAYLIGHT
BEGIN:STANDARD
TZOFFSETFROM:+0100
TZOFFSETTO:+0000
TZNAME:GMT
DTSTART:20251026T010000
END:STANDARD
BEGIN:DAYLIGHT
TZOFFSETFROM:+0000
TZOFFSETTO:+0100
TZNAME:BST
DTSTART:20260329T010000
END:DAYLIGHT
BEGIN:STANDARD
TZOFFSETFROM:+0100
TZOFFSETTO:+0000
TZNAME:GMT
DTSTART:20261025T010000
END:STANDARD
BEGIN:DAYLIGHT
TZOFFSETFROM:+0000
TZOFFSETTO:+0100
TZNAME:BST
DTSTART:20270328T010000
END:DAYLIGHT
BEGIN:STANDARD
TZOFFSETFROM:+0100
TZOFFSETTO:+0000
TZNAME:GMT
DTSTART:20271031T010000
END:STANDARD
END:VTIMEZONE
BEGIN:VEVENT
DTSTART;TZID=Europe/London:20260108T193000
DTEND;TZID=Europe/London:20260108T220000
DTSTAMP:20260422T114207
CREATED:20250917T091532Z
LAST-MODIFIED:20260216T130620Z
UID:10000611-1767900600-1767909600@evokcollection.com
SUMMARY:John Gade x Nolinski Paris - piano recital
DESCRIPTION:A series of monthly piano recitals in the Grand Salon\, performed by John Gade\, renowned for his virtuosity and artistic sensitivity. \nAmbassador of the Mediterranean Banque Populaire Foundation\, John Gade is a well-known French pianist\, violinist and composer of international renown. He has won many prestigious prizes\, including first prize in the international Scriabin competition. \nEvery month\, Nolinski Paris vibrates to the rhythm of his rich\, captivating soundscape\, where every note will ring out with grace and emotion. \nWhether you’re a knowledgeable music lover or a curious amateur\, these monthly concerts are a unique opportunity to discover or rediscover the magic of classical music in the elegant and intimate setting of the Nolinski Paris.
URL:https://evokcollection.com/en/event/john-gade-x-nolinski-paris-recital-de-piano-11/
LOCATION:Nolinski Paris\, Avenue de l'Opéra\, Paris\, Département de Paris\, 75001\, France
CATEGORIES:John Gade x Nolinski Paris - piano recital
ATTACH;FMTTYPE=image/png:https://evokcollection.com/wp-content/uploads/2025/01/recital-piano-john-gade.png
GEO:48.8667241;2.3339412
X-APPLE-STRUCTURED-LOCATION;VALUE=URI;X-ADDRESS=Nolinski Paris Avenue de l'Opéra Paris Département de Paris 75001 France;X-APPLE-RADIUS=500;X-TITLE=Avenue de l'Opéra:geo:2.3339412,48.8667241
END:VEVENT
BEGIN:VEVENT
DTSTART;TZID=Europe/London:20251211T193000
DTEND;TZID=Europe/London:20251211T220000
DTSTAMP:20260422T114207
CREATED:20250912T155236Z
LAST-MODIFIED:20251212T111919Z
UID:10000609-1765481400-1765490400@evokcollection.com
SUMMARY:John Gade x Nolinski Paris – piano recital
DESCRIPTION:A series of monthly piano recitals in the Grand Salon\, performed by John Gade\, renowned for his virtuosity and artistic sensitivity. \nAmbassador of the Mediterranean Banque Populaire Foundation\, John Gade is a well-known French pianist\, violinist and composer of international renown. He has won many prestigious prizes\, including first prize in the international Scriabin competition. \nEvery month\, Nolinski Paris vibrates to the rhythm of his rich\, captivating soundscape\, where every note will ring out with grace and emotion. \nWhether you’re a knowledgeable music lover or a curious amateur\, these monthly concerts are a unique opportunity to discover or rediscover the magic of classical music in the elegant and intimate setting of the Nolinski Paris.
URL:https://evokcollection.com/en/event/john-gade-x-nolinski-paris-recital-de-piano-10/
LOCATION:Nolinski Paris\, Avenue de l'Opéra\, Paris\, Département de Paris\, 75001\, France
CATEGORIES:John Gade x Nolinski Paris - piano recital
ATTACH;FMTTYPE=image/png:https://evokcollection.com/wp-content/uploads/2025/09/photo-john-gade-new-in.png
GEO:48.8667241;2.3339412
X-APPLE-STRUCTURED-LOCATION;VALUE=URI;X-ADDRESS=Nolinski Paris Avenue de l'Opéra Paris Département de Paris 75001 France;X-APPLE-RADIUS=500;X-TITLE=Avenue de l'Opéra:geo:2.3339412,48.8667241
END:VEVENT
BEGIN:VEVENT
DTSTART;TZID=Europe/London:20251112T193000
DTEND;TZID=Europe/London:20251112T220000
DTSTAMP:20260422T114207
CREATED:20250912T152547Z
LAST-MODIFIED:20251112T142923Z
UID:10000607-1762975800-1762984800@evokcollection.com
SUMMARY:John Gade x Nolinski Paris - piano recital
DESCRIPTION:A series of monthly piano recitals in the Grand Salon\, performed by John Gade\, renowned for his virtuosity and artistic sensitivity. \nAmbassador of the Mediterranean Banque Populaire Foundation\, John Gade is a well-known French pianist\, violinist and composer of international renown. He has won many prestigious prizes\, including first prize in the international Scriabin competition. \nEvery month\, Nolinski Paris vibrates to the rhythm of his rich\, captivating soundscape\, where every note will ring out with grace and emotion. \nWhether you’re a knowledgeable music lover or a curious amateur\, these monthly concerts are a unique opportunity to discover or rediscover the magic of classical music in the elegant and intimate setting of the Nolinski Paris.
URL:https://evokcollection.com/en/event/john-gade-x-nolinski-paris-piano-recital-2/
LOCATION:Nolinski Paris\, Avenue de l'Opéra\, Paris\, Département de Paris\, 75001\, France
CATEGORIES:John Gade x Nolinski Paris - piano recital
ATTACH;FMTTYPE=image/png:https://evokcollection.com/wp-content/uploads/2025/01/recital-piano-john-gade.png
GEO:48.8667241;2.3339412
X-APPLE-STRUCTURED-LOCATION;VALUE=URI;X-ADDRESS=Nolinski Paris Avenue de l'Opéra Paris Département de Paris 75001 France;X-APPLE-RADIUS=500;X-TITLE=Avenue de l'Opéra:geo:2.3339412,48.8667241
END:VEVENT
BEGIN:VEVENT
DTSTART;TZID=Europe/London:20251009T193000
DTEND;TZID=Europe/London:20251009T220000
DTSTAMP:20260422T114207
CREATED:20250912T142426Z
LAST-MODIFIED:20251013T152802Z
UID:10000605-1760038200-1760047200@evokcollection.com
SUMMARY:John Gade x Nolinski Paris - piano recital
DESCRIPTION:A series of monthly piano recitals in the Grand Salon\, performed by John Gade\, renowned for his virtuosity and artistic sensitivity. \nAmbassador of the Mediterranean Banque Populaire Foundation\, John Gade is a well-known French pianist\, violinist and composer of international renown. He has won many prestigious prizes\, including first prize in the international Scriabin competition. \nEvery month\, Nolinski Paris vibrates to the rhythm of his rich\, captivating soundscape\, where every note will ring out with grace and emotion. \nWhether you’re a knowledgeable music lover or a curious amateur\, these monthly concerts are a unique opportunity to discover or rediscover the magic of classical music in the elegant and intimate setting of the Nolinski Paris. \nFree event with registration.
URL:https://evokcollection.com/en/event/john-gade-x-nolinski-paris-piano-recital/
LOCATION:Nolinski Paris\, Avenue de l'Opéra\, Paris\, Département de Paris\, 75001\, France
CATEGORIES:John Gade x Nolinski Paris - piano recital
ATTACH;FMTTYPE=image/png:https://evokcollection.com/wp-content/uploads/2025/01/recital-piano-john-gade.png
GEO:48.8667241;2.3339412
X-APPLE-STRUCTURED-LOCATION;VALUE=URI;X-ADDRESS=Nolinski Paris Avenue de l'Opéra Paris Département de Paris 75001 France;X-APPLE-RADIUS=500;X-TITLE=Avenue de l'Opéra:geo:2.3339412,48.8667241
END:VEVENT
BEGIN:VEVENT
DTSTART;TZID=Europe/London:20250925T193000
DTEND;TZID=Europe/London:20250925T220000
DTSTAMP:20260422T114207
CREATED:20250911T155123Z
LAST-MODIFIED:20251013T153011Z
UID:10000603-1758828600-1758837600@evokcollection.com
SUMMARY:John Gade x Nolinski Paris - piano recital
DESCRIPTION:A series of monthly piano recitals in the Grand Salon\, performed by John Gade\, renowned for his virtuosity and artistic sensitivity.\nAmbassador of the Mediterranean Banque Populaire Foundation\, John Gade is a well-known French pianist\, violinist and composer of international renown. He has won many prestigious prizes\, including first prize in the international Scriabin competition. \nEvery month\, Nolinski Paris vibrates to the rhythm of his rich\, captivating soundscape\, where every note will ring out with grace and emotion. \nWhether you’re a knowledgeable music lover or a curious amateur\, these monthly concerts are a unique opportunity to discover or rediscover the magic of classical music in the elegant and intimate setting of the Nolinski Paris.
URL:https://evokcollection.com/en/event/john-gade-x-nolinski-paris-recital-de-piano-7/
LOCATION:Nolinski Paris\, Avenue de l'Opéra\, Paris\, Département de Paris\, 75001\, France
CATEGORIES:John Gade x Nolinski Paris - piano recital
ATTACH;FMTTYPE=image/png:https://evokcollection.com/wp-content/uploads/2024/07/recital-piano-john-gade.png
GEO:48.8667241;2.3339412
X-APPLE-STRUCTURED-LOCATION;VALUE=URI;X-ADDRESS=Nolinski Paris Avenue de l'Opéra Paris Département de Paris 75001 France;X-APPLE-RADIUS=500;X-TITLE=Avenue de l'Opéra:geo:2.3339412,48.8667241
END:VEVENT
BEGIN:VEVENT
DTSTART;TZID=Europe/London:20250619T193000
DTEND;TZID=Europe/London:20250619T210000
DTSTAMP:20260422T114207
CREATED:20250123T102624Z
LAST-MODIFIED:20250724T154354Z
UID:10000497-1750361400-1750366800@evokcollection.com
SUMMARY:John Gade x Nolinski Paris – piano recital
DESCRIPTION:A series of monthly piano recitals in the Grand Salon\, performed by John Gade\, renowned for his virtuosity and artistic sensitivity.\nAmbassador of the Mediterranean Banque Populaire Foundation\, John Gade is a well-known French pianist\, violinist and composer of international renown. He has won many prestigious prizes\, including first prize in the international Scriabin competition. \nEvery month\, Nolinski Paris vibrates to the rhythm of his rich\, captivating soundscape\, where every note will ring out with grace and emotion. \nWhether you’re a knowledgeable music lover or a curious amateur\, these monthly concerts are a unique opportunity to discover or rediscover the magic of classical music in the elegant and intimate setting of the Nolinski Paris.
URL:https://evokcollection.com/en/event/john-gade-x-nolinski-paris-recital-de-piano-6/
LOCATION:Nolinski Paris\, Avenue de l'Opéra\, Paris\, Département de Paris\, 75001\, France
CATEGORIES:John Gade x Nolinski Paris - piano recital
ATTACH;FMTTYPE=image/png:https://evokcollection.com/wp-content/uploads/2024/07/recital-piano-john-gade.png
GEO:48.8667241;2.3339412
X-APPLE-STRUCTURED-LOCATION;VALUE=URI;X-ADDRESS=Nolinski Paris Avenue de l'Opéra Paris Département de Paris 75001 France;X-APPLE-RADIUS=500;X-TITLE=Avenue de l'Opéra:geo:2.3339412,48.8667241
END:VEVENT
BEGIN:VEVENT
DTSTART;TZID=Europe/London:20250527T193000
DTEND;TZID=Europe/London:20250527T210000
DTSTAMP:20260422T114207
CREATED:20250123T102200Z
LAST-MODIFIED:20250724T153326Z
UID:10000495-1748374200-1748379600@evokcollection.com
SUMMARY:John Gade x Nolinski Paris – piano recital
DESCRIPTION:A series of monthly piano recitals in the Grand Salon\, performed by John Gade\, renowned for his virtuosity and artistic sensitivity.\nAmbassador of the Mediterranean Banque Populaire Foundation\, John Gade is a well-known French pianist\, violinist and composer of international renown. He has won many prestigious prizes\, including first prize in the international Scriabin competition. \nEvery month\, Nolinski Paris vibrates to the rhythm of his rich\, captivating soundscape\, where every note will ring out with grace and emotion. \nWhether you’re a knowledgeable music lover or a curious amateur\, these monthly concerts are a unique opportunity to discover or rediscover the magic of classical music in the elegant and intimate setting of the Nolinski Paris. \nFree event with registration
URL:https://evokcollection.com/en/event/john-gade-x-nolinski-paris-recital-de-piano-5/
LOCATION:Nolinski Paris\, Avenue de l'Opéra\, Paris\, Département de Paris\, 75001\, France
CATEGORIES:John Gade x Nolinski Paris - piano recital
ATTACH;FMTTYPE=image/png:https://evokcollection.com/wp-content/uploads/2024/07/recital-piano-john-gade.png
GEO:48.8667241;2.3339412
X-APPLE-STRUCTURED-LOCATION;VALUE=URI;X-ADDRESS=Nolinski Paris Avenue de l'Opéra Paris Département de Paris 75001 France;X-APPLE-RADIUS=500;X-TITLE=Avenue de l'Opéra:geo:2.3339412,48.8667241
END:VEVENT
BEGIN:VEVENT
DTSTART;TZID=Europe/London:20250410T193000
DTEND;TZID=Europe/London:20250410T210000
DTSTAMP:20260422T114207
CREATED:20250123T094605Z
LAST-MODIFIED:20250725T072337Z
UID:10000492-1744313400-1744318800@evokcollection.com
SUMMARY:John Gade x Nolinski Paris – piano recital
DESCRIPTION:A series of monthly piano recitals in the Grand Salon\, performed by John Gade\, renowned for his virtuosity and artistic sensitivity.\nAmbassador of the Mediterranean Banque Populaire Foundation\, John Gade is a well-known French pianist\, violinist and composer of international renown. He has won many prestigious prizes\, including first prize in the international Scriabin competition. \nWhether you’re a knowledgeable music lover or a curious amateur\, these monthly concerts are a unique opportunity to discover or rediscover the magic of classical music in the elegant and intimate setting of the Nolinski Paris. \nOn Thursday 10 April\, let yourself be enchanted by an exceptional programme featuring masterpieces by Bach\, Chopin\, Liszt and Ravel.
URL:https://evokcollection.com/en/event/john-gade-x-nolinski-paris-recital-de-piano-4/
LOCATION:Nolinski Paris\, Avenue de l'Opéra\, Paris\, Département de Paris\, 75001\, France
CATEGORIES:John Gade x Nolinski Paris - piano recital
ATTACH;FMTTYPE=image/png:https://evokcollection.com/wp-content/uploads/2024/07/recital-piano-john-gade.png
GEO:48.8667241;2.3339412
X-APPLE-STRUCTURED-LOCATION;VALUE=URI;X-ADDRESS=Nolinski Paris Avenue de l'Opéra Paris Département de Paris 75001 France;X-APPLE-RADIUS=500;X-TITLE=Avenue de l'Opéra:geo:2.3339412,48.8667241
END:VEVENT
BEGIN:VEVENT
DTSTART;TZID=Europe/London:20250327T193000
DTEND;TZID=Europe/London:20250327T210000
DTSTAMP:20260422T114207
CREATED:20250106T145743Z
LAST-MODIFIED:20250725T073414Z
UID:10000493-1743103800-1743109200@evokcollection.com
SUMMARY:John Gade x Nolinski Paris – piano recital
DESCRIPTION:A series of monthly piano recitals in the Grand Salon\, performed by John Gade\, renowned for his virtuosity and artistic sensitivity.\nAmbassador of the Mediterranean Banque Populaire Foundation\, John Gade is a well-known French pianist\, violinist and composer of international renown. He has won many prestigious prizes\, including first prize in the international Scriabin competition. \nEvery month\, Nolinski Paris vibrates to the rhythm of his rich\, captivating soundscape\, where every note will ring out with grace and emotion. \nWhether you’re a knowledgeable music lover or a curious amateur\, these monthly concerts are a unique opportunity to discover or rediscover the magic of classical music in the elegant and intimate setting of the Nolinski Paris.
URL:https://evokcollection.com/en/event/john-gade-x-nolinski-paris-recital-de-piano-3/
LOCATION:Nolinski Paris\, Avenue de l'Opéra\, Paris\, Département de Paris\, 75001\, France
CATEGORIES:John Gade x Nolinski Paris - piano recital
ATTACH;FMTTYPE=image/png:https://evokcollection.com/wp-content/uploads/2024/07/recital-piano-john-gade.png
GEO:48.8667241;2.3339412
X-APPLE-STRUCTURED-LOCATION;VALUE=URI;X-ADDRESS=Nolinski Paris Avenue de l'Opéra Paris Département de Paris 75001 France;X-APPLE-RADIUS=500;X-TITLE=Avenue de l'Opéra:geo:2.3339412,48.8667241
END:VEVENT
BEGIN:VEVENT
DTSTART;TZID=Europe/London:20250213T193000
DTEND;TZID=Europe/London:20250213T210000
DTSTAMP:20260422T114207
CREATED:20250106T145155Z
LAST-MODIFIED:20250725T074524Z
UID:10000486-1739475000-1739480400@evokcollection.com
SUMMARY:John Gade x Nolinski Paris - piano recital
DESCRIPTION:A series of monthly piano recitals in the Grand Salon\, performed by John Gade\, renowned for his virtuosity and artistic sensitivity.\nAmbassador of the Mediterranean Banque Populaire Foundation\, John Gade is a well-known French pianist\, violinist and composer of international renown. He has won many prestigious prizes\, including first prize in the international Scriabin competition. \nEvery month\, Nolinski Paris vibrates to the rhythm of his rich\, captivating soundscape\, where every note will ring out with grace and emotion. \nWhether you’re a knowledgeable music lover or a curious amateur\, these monthly concerts are a unique opportunity to discover or rediscover the magic of classical music in the elegant and intimate setting of the Nolinski Paris.
URL:https://evokcollection.com/en/event/john-gade-x-nolinski-paris-recital-de-piano-2/
LOCATION:Nolinski Paris\, Avenue de l'Opéra\, Paris\, Département de Paris\, 75001\, France
CATEGORIES:John Gade x Nolinski Paris - piano recital
ATTACH;FMTTYPE=image/png:https://evokcollection.com/wp-content/uploads/2024/07/recital-piano-john-gade.png
GEO:48.8667241;2.3339412
X-APPLE-STRUCTURED-LOCATION;VALUE=URI;X-ADDRESS=Nolinski Paris Avenue de l'Opéra Paris Département de Paris 75001 France;X-APPLE-RADIUS=500;X-TITLE=Avenue de l'Opéra:geo:2.3339412,48.8667241
END:VEVENT
BEGIN:VEVENT
DTSTART;TZID=Europe/London:20250116T200000
DTEND;TZID=Europe/London:20250116T204500
DTSTAMP:20260422T114207
CREATED:20250106T141236Z
LAST-MODIFIED:20250203T143421Z
UID:10000451-1737057600-1737060300@evokcollection.com
SUMMARY:John Gade x Nolinski Paris - récital de piano
DESCRIPTION:A series of monthly piano recitals in the Grand Salon\, performed by John Gade\, renowned for his virtuosity and artistic sensitivity.\nAmbassador of the Mediterranean Banque Populaire Foundation\, John Gade is a well-known French pianist\, violinist and composer of international renown. He has won many prestigious prizes\, including first prize in the international Scriabin competition. \nEvery month\, Nolinski Paris vibrates to the rhythm of his rich\, captivating soundscape\, where every note will ring out with grace and emotion. \nWhether you’re a knowledgeable music lover or a curious amateur\, these monthly concerts are a unique opportunity to discover or rediscover the magic of classical music in the elegant and intimate setting of the Nolinski Paris.
URL:https://evokcollection.com/en/event/john-gade-x-nolinski-paris-recital-de-piano/
LOCATION:Nolinski Paris\, Avenue de l'Opéra\, Paris\, Département de Paris\, 75001\, France
CATEGORIES:John Gade x Nolinski Paris - piano recital
ATTACH;FMTTYPE=image/png:https://evokcollection.com/wp-content/uploads/2024/07/recital-piano-john-gade.png
GEO:48.8667241;2.3339412
X-APPLE-STRUCTURED-LOCATION;VALUE=URI;X-ADDRESS=Nolinski Paris Avenue de l'Opéra Paris Département de Paris 75001 France;X-APPLE-RADIUS=500;X-TITLE=Avenue de l'Opéra:geo:2.3339412,48.8667241
END:VEVENT
BEGIN:VEVENT
DTSTART;TZID=Europe/London:20241219T200000
DTEND;TZID=Europe/London:20241219T213000
DTSTAMP:20260422T114207
CREATED:20240712T142249Z
LAST-MODIFIED:20250725T083140Z
UID:10000344-1734638400-1734643800@evokcollection.com
SUMMARY:Piano recital by John Gade
DESCRIPTION:A series of monthly piano recitals in the Grand Salon\, performed by John Gade\, renowned for his virtuosity and artistic sensitivity.\nAmbassador of the Mediterranean Banque Populaire Foundation\, John Gade is a well-known French pianist\, violinist and composer of international renown. He has won many prestigious prizes\, including first prize in the international Scriabin competition. \nAt 8pm on Thursday 19th December\, Nolinski Paris will vibrate to the rhythm of his rich\, captivating soundscape\, where every note will ring out with grace and emotion. \nThese monthly concerts are a unique opportunity to discover or rediscover the magic of classical music in the elegant and intimate setting of the Nolinski Paris. Whether you’re a knowledgeable music lover or a curious amateur.
URL:https://evokcollection.com/en/event/recital-de-piano-par-john-gade-3/
LOCATION:Nolinski Paris\, Avenue de l'Opéra\, Paris\, Département de Paris\, 75001\, France
CATEGORIES:John Gade x Nolinski Paris - piano recital
ATTACH;FMTTYPE=image/png:https://evokcollection.com/wp-content/uploads/2024/07/recital-piano-john-gade.png
GEO:48.8667241;2.3339412
X-APPLE-STRUCTURED-LOCATION;VALUE=URI;X-ADDRESS=Nolinski Paris Avenue de l'Opéra Paris Département de Paris 75001 France;X-APPLE-RADIUS=500;X-TITLE=Avenue de l'Opéra:geo:2.3339412,48.8667241
END:VEVENT
BEGIN:VEVENT
DTSTART;TZID=Europe/London:20241128T200000
DTEND;TZID=Europe/London:20241128T213000
DTSTAMP:20260422T114207
CREATED:20240712T141834Z
LAST-MODIFIED:20250725T075002Z
UID:10000342-1732824000-1732829400@evokcollection.com
SUMMARY:Piano recital by John Gade
DESCRIPTION:A series of monthly piano recitals in the Grand Salon\, performed by John Gade\, renowned for his virtuosity and artistic sensitivity.\nAmbassador of the Mediterranean Banque Populaire Foundation\, John Gade is a well-known French pianist\, violinist and composer of international renown. He has won many prestigious prizes\, including first prize in the international Scriabin competition. \nAt 8pm on Thursday 28th November\, Nolinski Paris will vibrate to the rhythm of his rich\, captivating soundscape\, where every note will ring out with grace and emotion. \nThese monthly concerts are a unique opportunity to discover or rediscover the magic of classical music in the elegant and intimate setting of the Nolinski Paris. Whether you’re a knowledgeable music lover or a curious amateur.
URL:https://evokcollection.com/en/event/recital-de-piano-par-john-gade-2/
LOCATION:Nolinski Paris\, Avenue de l'Opéra\, Paris\, Département de Paris\, 75001\, France
CATEGORIES:John Gade x Nolinski Paris - piano recital
ATTACH;FMTTYPE=image/png:https://evokcollection.com/wp-content/uploads/2024/07/recital-piano-john-gade.png
GEO:48.8667241;2.3339412
X-APPLE-STRUCTURED-LOCATION;VALUE=URI;X-ADDRESS=Nolinski Paris Avenue de l'Opéra Paris Département de Paris 75001 France;X-APPLE-RADIUS=500;X-TITLE=Avenue de l'Opéra:geo:2.3339412,48.8667241
END:VEVENT
BEGIN:VEVENT
DTSTART;TZID=Europe/London:20241017T200000
DTEND;TZID=Europe/London:20241017T213000
DTSTAMP:20260422T114207
CREATED:20240712T135645Z
LAST-MODIFIED:20250725T081217Z
UID:10000340-1729195200-1729200600@evokcollection.com
SUMMARY:Piano recital by John Gade
DESCRIPTION:A series of monthly piano recitals in the Grand Salon\, performed by John Gade\, renowned for his virtuosity and artistic sensitivity.\nAmbassador of the Mediterranean Banque Populaire Foundation\, John Gade is a well-known French pianist\, violinist and composer of international renown. He has won many prestigious prizes\, including first prize in the international Scriabin competition. \nAt 8pm on Thursday 17th October\, Nolinski Paris will vibrate to the rhythm of his rich\, captivating soundscape\, where every note will ring out with grace and emotion. \nThese monthly concerts are a unique opportunity to discover or rediscover the magic of classical music in the elegant and intimate setting of the Nolinski Paris. Whether you’re a knowledgeable music lover or a curious amateur. \nPROGRAMME \n\nFrédéric Chopin\nSonata n°2 op.35\nFranz Liszt\n“Vallée d’Obermann” (Obermann’s Valley)\nMephisto Waltz
URL:https://evokcollection.com/en/event/recital-de-piano-par-john-gade/
LOCATION:Nolinski Paris\, Avenue de l'Opéra\, Paris\, Département de Paris\, 75001\, France
CATEGORIES:John Gade x Nolinski Paris - piano recital
ATTACH;FMTTYPE=image/png:https://evokcollection.com/wp-content/uploads/2024/07/recital-piano-john-gade.png
GEO:48.8667241;2.3339412
X-APPLE-STRUCTURED-LOCATION;VALUE=URI;X-ADDRESS=Nolinski Paris Avenue de l'Opéra Paris Département de Paris 75001 France;X-APPLE-RADIUS=500;X-TITLE=Avenue de l'Opéra:geo:2.3339412,48.8667241
END:VEVENT
END:VCALENDAR