BEGIN:VCALENDAR
VERSION:2.0
PRODID:-//Evok Collection - ECPv6.15.17.1//NONSGML v1.0//EN
CALSCALE:GREGORIAN
METHOD:PUBLISH
X-WR-CALNAME:Evok Collection
X-ORIGINAL-URL:https://evokcollection.com/en/
X-WR-CALDESC:Events for Evok Collection
REFRESH-INTERVAL;VALUE=DURATION:PT1H
X-Robots-Tag:noindex
X-PUBLISHED-TTL:PT1H
BEGIN:VTIMEZONE
TZID:Europe/London
BEGIN:DAYLIGHT
TZOFFSETFROM:+0000
TZOFFSETTO:+0100
TZNAME:BST
DTSTART:20240331T010000
END:DAYLIGHT
BEGIN:STANDARD
TZOFFSETFROM:+0100
TZOFFSETTO:+0000
TZNAME:GMT
DTSTART:20241027T010000
END:STANDARD
BEGIN:DAYLIGHT
TZOFFSETFROM:+0000
TZOFFSETTO:+0100
TZNAME:BST
DTSTART:20250330T010000
END:DAYLIGHT
BEGIN:STANDARD
TZOFFSETFROM:+0100
TZOFFSETTO:+0000
TZNAME:GMT
DTSTART:20251026T010000
END:STANDARD
BEGIN:DAYLIGHT
TZOFFSETFROM:+0000
TZOFFSETTO:+0100
TZNAME:BST
DTSTART:20260329T010000
END:DAYLIGHT
BEGIN:STANDARD
TZOFFSETFROM:+0100
TZOFFSETTO:+0000
TZNAME:GMT
DTSTART:20261025T010000
END:STANDARD
END:VTIMEZONE
BEGIN:VEVENT
DTSTART;TZID=Europe/London:20250203T194500
DTEND;TZID=Europe/London:20250203T213000
DTSTAMP:20260423T094735
CREATED:20250120T082331Z
LAST-MODIFIED:20250725T073557Z
UID:10000488-1738611900-1738618200@evokcollection.com
SUMMARY:Philosophical meeting with Christiane Lambert
DESCRIPTION:The Grand Salon at the Nolinski Paris is the setting for a monthly discussion between the philosopher Emmanuel Leclercq\, founder of “Devenir pour Agir”\, and a public figure. \nJust a few days before the Salon International de l’Agriculture\, we are pleased to invite you to a meeting with Christiane Lambert\, President of the FICT (Fédération des entreprises de charcuterie traiteur). \nMonday 3rd February at 7:45pm
URL:https://evokcollection.com/en/event/rencontre-philosophique-avec-christiane-lambert/
LOCATION:Nolinski Paris\, Avenue de l'Opéra\, Paris\, Département de Paris\, 75001\, France
CATEGORIES:Philosophical meetings
ATTACH;FMTTYPE=image/png:https://evokcollection.com/wp-content/uploads/2025/01/rencontre-philosophique-christiane-lambert.png
GEO:48.8667241;2.3339412
X-APPLE-STRUCTURED-LOCATION;VALUE=URI;X-ADDRESS=Nolinski Paris Avenue de l'Opéra Paris Département de Paris 75001 France;X-APPLE-RADIUS=500;X-TITLE=Avenue de l'Opéra:geo:2.3339412,48.8667241
END:VEVENT
BEGIN:VEVENT
DTSTART;TZID=Europe/London:20250204T190000
DTEND;TZID=Europe/London:20250204T210000
DTSTAMP:20260423T094735
CREATED:20250120T082715Z
LAST-MODIFIED:20250725T073625Z
UID:10000490-1738695600-1738702800@evokcollection.com
SUMMARY:Harawell Masterclass lead by Céline Benche
DESCRIPTION:We are pleased to invite you to the masterclass “Learn to manage your energy to transform your life”\, led by Céline Benche\, Founder of the Harawell® immersive method of well-being and global health. \nTuesday\, February 4\, 2025 at 7pm \nEvery day\, stress\, fatigue and unforeseen personal or professional events sap our energy and hold us back. And yet\, our energy is the driving force that enables us to move forward\, reveal our potential and enjoy life to the full. \nImagine discovering the keys to regulating and maximizing your energy\, making it your lever for achieving your personal and professional goals. What if you possessed the code to open the doors to the greatest opportunities in your life\, thanks to your new-found energy? \n“In this hyper-connected world\, Harawell® offers a space for sharing\, transformation and concrete tools to reconnect with your vital energy. Your energy makes the impossible possible again! \nLet’s activate it together at this masterclass!
URL:https://evokcollection.com/en/event/masterclass-harawell-animee-par-celine-benche/
LOCATION:Brach Paris\, 75016\, France
CATEGORIES:Wellness Masterclass
ATTACH;FMTTYPE=image/png:https://evokcollection.com/wp-content/uploads/2024/10/masterclass-harawell.png
GEO:48.8615812;2.2744242
END:VEVENT
BEGIN:VEVENT
DTSTART;TZID=Europe/London:20250209T160000
DTEND;TZID=Europe/London:20250209T180000
DTSTAMP:20260423T094735
CREATED:20251013T153649Z
LAST-MODIFIED:20251013T153649Z
UID:10000639-1739116800-1739124000@evokcollection.com
SUMMARY:Showgirl Workshop at Nolinski Paris
DESCRIPTION:Once a month\, Kalon offers “Showgirl” workshops in the cosy and intimate atmosphere of the Grand Salon at the Nolinski Paris.\nThe Kalon method and its various workshops are designed to tone and sculpt the body like a dancer\, without needing to be one. Join the Kalon dancers for an intense Cardio Barre session followed by instruction in an authentic “Showgirl” choreography. \nPROGRAM\n4PM\n30 minutes of Kalon Cardio Barre to tone\, strengthen and sculpt your body\, while warming your muscles up for the choreography afterwards\n4.30PM\nLearning the walk elegantly in heels followed by showgirl choreography\n5.30 – 6PM\nCocktails and conversation \nFor this workshop\, please bring comfortable heels\, leggings or shorts\, bra or crop top and socks.
URL:https://evokcollection.com/en/event/atelier-showgirl-au-nolinski-paris-2-2/2025-02-09/
LOCATION:Nolinski Paris\, Avenue de l'Opéra\, Paris\, Département de Paris\, 75001\, France
CATEGORIES:Showgirl Kalon workshops
ATTACH;FMTTYPE=image/png:https://evokcollection.com/wp-content/uploads/2024/07/ateliers-showgirl-kalon-nolinski-paris.png
GEO:48.8667241;2.3339412
X-APPLE-STRUCTURED-LOCATION;VALUE=URI;X-ADDRESS=Nolinski Paris Avenue de l'Opéra Paris Département de Paris 75001 France;X-APPLE-RADIUS=500;X-TITLE=Avenue de l'Opéra:geo:2.3339412,48.8667241
END:VEVENT
BEGIN:VEVENT
DTSTART;TZID=Europe/London:20250212T190000
DTEND;TZID=Europe/London:20250212T210000
DTSTAMP:20260423T094735
CREATED:20250123T104347Z
LAST-MODIFIED:20250725T074258Z
UID:10000499-1739386800-1739394000@evokcollection.com
SUMMARY:Conversation with Enchanting people - Pierre-Louis Mascia
DESCRIPTION:Nolinski Paris and Laurence Benaïm have devised a meeting place for inspired and inspiring designers. From fashion to literature\, from design to flowers\, this is a tribute to craftsmanship and the art of brightening up everyday life. \nYou are invited to a meeting with Pierre-Louis Mascia. After studying Fine Arts in Toulouse\, in the south of France\, he worked as a fashion illustrator for twenty years before launching his own brand in 2007.
URL:https://evokcollection.com/en/event/conversations-avec-des-enchanteurs-pierre-louis-mascia/
LOCATION:Nolinski Paris\, Avenue de l'Opéra\, Paris\, Département de Paris\, 75001\, France
CATEGORIES:Conversations with enchanting people
ATTACH;FMTTYPE=image/png:https://evokcollection.com/wp-content/uploads/2025/01/conversations-enchanteurs-pierre-louis-mascia.png
GEO:48.8667241;2.3339412
X-APPLE-STRUCTURED-LOCATION;VALUE=URI;X-ADDRESS=Nolinski Paris Avenue de l'Opéra Paris Département de Paris 75001 France;X-APPLE-RADIUS=500;X-TITLE=Avenue de l'Opéra:geo:2.3339412,48.8667241
END:VEVENT
BEGIN:VEVENT
DTSTART;TZID=Europe/London:20250213T190000
DTEND;TZID=Europe/London:20250213T210000
DTSTAMP:20260423T094735
CREATED:20250123T105038Z
LAST-MODIFIED:20250725T074349Z
UID:10000501-1739473200-1739480400@evokcollection.com
SUMMARY:Champions x Brach Paris - Romane Dicko
DESCRIPTION:Brach Paris organizes meetings with top athletes who are shaping the sport of today and tomorrow. These champions share their journeys\, their successes and their challenges\, offering invaluable lessons. \nWe are delighted to invite you to a meeting in the company of judoka\, Romane Dicko\, bronze medalist at the Paris 2024 Olympic Games\, fashion enthusiast and committed woman.
URL:https://evokcollection.com/en/event/champions-x-brach-paris-romane-dicko/
LOCATION:Brach Paris\, 75016\, France
CATEGORIES:Champions x Brach Paris
ATTACH;FMTTYPE=image/png:https://evokcollection.com/wp-content/uploads/2025/01/romane-dicko-new-in.png
GEO:48.8615812;2.2744242
END:VEVENT
BEGIN:VEVENT
DTSTART;TZID=Europe/London:20250213T193000
DTEND;TZID=Europe/London:20250213T210000
DTSTAMP:20260423T094735
CREATED:20250106T145155Z
LAST-MODIFIED:20250725T074524Z
UID:10000486-1739475000-1739480400@evokcollection.com
SUMMARY:John Gade x Nolinski Paris - piano recital
DESCRIPTION:A series of monthly piano recitals in the Grand Salon\, performed by John Gade\, renowned for his virtuosity and artistic sensitivity.\nAmbassador of the Mediterranean Banque Populaire Foundation\, John Gade is a well-known French pianist\, violinist and composer of international renown. He has won many prestigious prizes\, including first prize in the international Scriabin competition. \nEvery month\, Nolinski Paris vibrates to the rhythm of his rich\, captivating soundscape\, where every note will ring out with grace and emotion. \nWhether you’re a knowledgeable music lover or a curious amateur\, these monthly concerts are a unique opportunity to discover or rediscover the magic of classical music in the elegant and intimate setting of the Nolinski Paris.
URL:https://evokcollection.com/en/event/john-gade-x-nolinski-paris-recital-de-piano-2/
LOCATION:Nolinski Paris\, Avenue de l'Opéra\, Paris\, Département de Paris\, 75001\, France
CATEGORIES:John Gade x Nolinski Paris - piano recital
ATTACH;FMTTYPE=image/png:https://evokcollection.com/wp-content/uploads/2024/07/recital-piano-john-gade.png
GEO:48.8667241;2.3339412
X-APPLE-STRUCTURED-LOCATION;VALUE=URI;X-ADDRESS=Nolinski Paris Avenue de l'Opéra Paris Département de Paris 75001 France;X-APPLE-RADIUS=500;X-TITLE=Avenue de l'Opéra:geo:2.3339412,48.8667241
END:VEVENT
END:VCALENDAR