BEGIN:VCALENDAR
VERSION:2.0
PRODID:-//Evok Collection - ECPv6.15.17.1//NONSGML v1.0//EN
CALSCALE:GREGORIAN
METHOD:PUBLISH
X-WR-CALNAME:Evok Collection
X-ORIGINAL-URL:https://evokcollection.com/en/
X-WR-CALDESC:Events for Evok Collection
REFRESH-INTERVAL;VALUE=DURATION:PT1H
X-Robots-Tag:noindex
X-PUBLISHED-TTL:PT1H
BEGIN:VTIMEZONE
TZID:Europe/London
BEGIN:DAYLIGHT
TZOFFSETFROM:+0000
TZOFFSETTO:+0100
TZNAME:BST
DTSTART:20240331T010000
END:DAYLIGHT
BEGIN:STANDARD
TZOFFSETFROM:+0100
TZOFFSETTO:+0000
TZNAME:GMT
DTSTART:20241027T010000
END:STANDARD
BEGIN:DAYLIGHT
TZOFFSETFROM:+0000
TZOFFSETTO:+0100
TZNAME:BST
DTSTART:20250330T010000
END:DAYLIGHT
BEGIN:STANDARD
TZOFFSETFROM:+0100
TZOFFSETTO:+0000
TZNAME:GMT
DTSTART:20251026T010000
END:STANDARD
BEGIN:DAYLIGHT
TZOFFSETFROM:+0000
TZOFFSETTO:+0100
TZNAME:BST
DTSTART:20260329T010000
END:DAYLIGHT
BEGIN:STANDARD
TZOFFSETFROM:+0100
TZOFFSETTO:+0000
TZNAME:GMT
DTSTART:20261025T010000
END:STANDARD
END:VTIMEZONE
BEGIN:VTIMEZONE
TZID:Europe/Paris
BEGIN:DAYLIGHT
TZOFFSETFROM:+0100
TZOFFSETTO:+0200
TZNAME:CEST
DTSTART:20240331T010000
END:DAYLIGHT
BEGIN:STANDARD
TZOFFSETFROM:+0200
TZOFFSETTO:+0100
TZNAME:CET
DTSTART:20241027T010000
END:STANDARD
BEGIN:DAYLIGHT
TZOFFSETFROM:+0100
TZOFFSETTO:+0200
TZNAME:CEST
DTSTART:20250330T010000
END:DAYLIGHT
BEGIN:STANDARD
TZOFFSETFROM:+0200
TZOFFSETTO:+0100
TZNAME:CET
DTSTART:20251026T010000
END:STANDARD
BEGIN:DAYLIGHT
TZOFFSETFROM:+0100
TZOFFSETTO:+0200
TZNAME:CEST
DTSTART:20260329T010000
END:DAYLIGHT
BEGIN:STANDARD
TZOFFSETFROM:+0200
TZOFFSETTO:+0100
TZNAME:CET
DTSTART:20261025T010000
END:STANDARD
END:VTIMEZONE
BEGIN:VEVENT
DTSTART;TZID=Europe/London:20250301T110000
DTEND;TZID=Europe/London:20250301T123000
DTSTAMP:20260423T081505
CREATED:20250127T094956Z
LAST-MODIFIED:20250725T072817Z
UID:10000505-1740826800-1740832200@evokcollection.com
SUMMARY:Meeting @Brach Paris with Mohamed Bouhafsi led by Stéphane Tortora
DESCRIPTION:In collaboration with Stéphane Tortora\, Brach Paris hosts monthly encounters with public figures from all walks of life.\nWe are delighted to invite you to a meeting on Saturday 1st March 2025 at 11am with Mohamed Bouhafsi. As a sports journalist who specialises in football\, covered the U20 World Cup in 2013 and then again in 2014. Having worked his way up from editor-in-chief to football editor and then director of football for the Altice group\, he is now a commentator for C à vous and a journalist for France Télévisions. Throughout his career\, he has also been active as a supporter of the charity L’Enfant Bleu.
URL:https://evokcollection.com/en/event/rencontre-brach-paris-tortora-avec-mohammed-bouhafsi/
LOCATION:Brach Paris\, 75016\, France
CATEGORIES:Meetings @Brach Paris
ATTACH;FMTTYPE=image/png:https://evokcollection.com/wp-content/uploads/2025/01/ni-rencontre-brach-mohamed-bouhafsi.png
GEO:48.8615812;2.2744242
END:VEVENT
BEGIN:VEVENT
DTSTART;TZID=Europe/London:20250312T080000
DTEND;TZID=Europe/London:20250312T103000
DTSTAMP:20260423T081505
CREATED:20250203T114708Z
LAST-MODIFIED:20250724T151333Z
UID:10000525-1741766400-1741775400@evokcollection.com
SUMMARY:Legend Ladies breakfast with Hélène Gherbi
DESCRIPTION:With the complicity of Laura Lesueur\, Nolinski Paris organizes meetings with inspiring personalities from diverse backgrounds. \nWe are delighted to invite you to a Legend Ladies meeting with Hélène Gherbi\, co-founder of FEMCA\, the first financial education platform for women. \nWednesday\, March 12\, 8am to 10:30am
URL:https://evokcollection.com/en/event/petit-dejeuner-legend-ladies-avec-helene-gherbi/
LOCATION:Nolinski Paris\, Avenue de l'Opéra\, Paris\, Département de Paris\, 75001\, France
CATEGORIES:Legend Ladies Breakfasts
ATTACH;FMTTYPE=image/png:https://evokcollection.com/wp-content/uploads/2025/02/legend-ladies-helene-gherbi.png
GEO:48.8667241;2.3339412
X-APPLE-STRUCTURED-LOCATION;VALUE=URI;X-ADDRESS=Nolinski Paris Avenue de l'Opéra Paris Département de Paris 75001 France;X-APPLE-RADIUS=500;X-TITLE=Avenue de l'Opéra:geo:2.3339412,48.8667241
END:VEVENT
BEGIN:VEVENT
DTSTART;TZID=Europe/London:20250312T190000
DTEND;TZID=Europe/London:20250312T203000
DTSTAMP:20260423T081505
CREATED:20250127T101635Z
LAST-MODIFIED:20250725T072944Z
UID:10000507-1741806000-1741811400@evokcollection.com
SUMMARY:Champions x Brach Paris - Manon et Boladé Apithy
DESCRIPTION:Brach Paris organises meetings with top athletes who are shaping the sport of today and tomorrow. These champions share their journey\, their successes and their challenges\, offering valuable lessons. \nWe are delighted to invite you to a meeting with Manon and Boladé Apithy\, the fencing couple who won medals at the 2024 Olympic Games. \nWednesday 12th March.
URL:https://evokcollection.com/en/event/champions-x-brach-paris-manon-et-bolade-apithy-12-mars/
LOCATION:Brach Paris\, 75016\, France
CATEGORIES:Champions x Brach Paris
ATTACH;FMTTYPE=image/png:https://evokcollection.com/wp-content/uploads/2025/01/couple-apithy.png
GEO:48.8615812;2.2744242
END:VEVENT
BEGIN:VEVENT
DTSTART;TZID=Europe/London:20250316T160000
DTEND;TZID=Europe/London:20250316T180000
DTSTAMP:20260423T081505
CREATED:20251013T153649Z
LAST-MODIFIED:20251013T153649Z
UID:10000640-1742140800-1742148000@evokcollection.com
SUMMARY:Showgirl Workshop at Nolinski Paris
DESCRIPTION:Once a month\, Kalon offers “Showgirl” workshops in the cosy and intimate atmosphere of the Grand Salon at the Nolinski Paris.\nThe Kalon method and its various workshops are designed to tone and sculpt the body like a dancer\, without needing to be one. Join the Kalon dancers for an intense Cardio Barre session followed by instruction in an authentic “Showgirl” choreography. \nPROGRAM\n4PM\n30 minutes of Kalon Cardio Barre to tone\, strengthen and sculpt your body\, while warming your muscles up for the choreography afterwards\n4.30PM\nLearning the walk elegantly in heels followed by showgirl choreography\n5.30 – 6PM\nCocktails and conversation \nFor this workshop\, please bring comfortable heels\, leggings or shorts\, bra or crop top and socks.
URL:https://evokcollection.com/en/event/atelier-showgirl-au-nolinski-paris-2-2/2025-03-16/
LOCATION:Nolinski Paris\, Avenue de l'Opéra\, Paris\, Département de Paris\, 75001\, France
CATEGORIES:Showgirl Kalon workshops
ATTACH;FMTTYPE=image/png:https://evokcollection.com/wp-content/uploads/2024/07/ateliers-showgirl-kalon-nolinski-paris.png
GEO:48.8667241;2.3339412
X-APPLE-STRUCTURED-LOCATION;VALUE=URI;X-ADDRESS=Nolinski Paris Avenue de l'Opéra Paris Département de Paris 75001 France;X-APPLE-RADIUS=500;X-TITLE=Avenue de l'Opéra:geo:2.3339412,48.8667241
END:VEVENT
BEGIN:VEVENT
DTSTART;TZID=Europe/London:20250317T190000
DTEND;TZID=Europe/London:20250317T210000
DTSTAMP:20260423T081505
CREATED:20250306T083136Z
LAST-MODIFIED:20250725T073017Z
UID:10000539-1742238000-1742245200@evokcollection.com
SUMMARY:Evok Collection Prize-giving ceremony
DESCRIPTION:On the occasion of the Prix Mode Evok Collection created with Atelier Chardon Savard and the help of Nathalie Baumgartner\, 60 students drew up sketch of a complete outfit inspired by Paris & Venice. The 15 finalists selected gave free rein to their imagination by creating a total look from a white sheet supplied by Garnier Thiebaud for the Nolinski Paris. \nFrom the 10th to the 17th of March\, the public is invited to discover the students’ creations at Nolinski Paris and vote for their favourite outfit. The jury’s deliberations and the prize-giving ceremony will take place on the 17th of March. \nVoting opens on 10 March here.
URL:https://evokcollection.com/en/event/remise-du-prix-mode-evok-collection/
LOCATION:Nolinski Paris\, Avenue de l'Opéra\, Paris\, Département de Paris\, 75001\, France
CATEGORIES:Prix Mode Evok Collection
ATTACH;FMTTYPE=image/png:https://evokcollection.com/wp-content/uploads/2025/03/capture-decran-2025-03-06-a-09-50-25.png
GEO:48.8667241;2.3339412
X-APPLE-STRUCTURED-LOCATION;VALUE=URI;X-ADDRESS=Nolinski Paris Avenue de l'Opéra Paris Département de Paris 75001 France;X-APPLE-RADIUS=500;X-TITLE=Avenue de l'Opéra:geo:2.3339412,48.8667241
END:VEVENT
BEGIN:VEVENT
DTSTART;TZID=Europe/Paris:20250318T190000
DTEND;TZID=Europe/Paris:20250318T203000
DTSTAMP:20260423T081505
CREATED:20250127T120133Z
LAST-MODIFIED:20250725T073204Z
UID:10000513-1742324400-1742329800@evokcollection.com
SUMMARY:Wellness Masterclass led by Valérie Espinasse - Detox: for whom? For whom? For what?
DESCRIPTION:We are delighted to welcome you on Tuesday 18 March for a Wellness Masterclass on the theme of detox\, led by micro-nutritionist Valérie Espinasse. \nValérie Espinasse\nValérie Espinasse is a Doctor of Pharmacy\, a micro-nutritionist and also holds a diploma in predictive and anti-ageing medicine. Specialising in food intolerances and the gut microbiome\, she practices in Paris and has created the “ESPINASSE METHOD”\, which is a personalised\, global approach to health.
URL:https://evokcollection.com/en/event/masterclass-wellness-animee-par-valerie-espinasse-la-detox-pour-qui-pour-quoi-18-mars/
LOCATION:Brach Paris\, 75016\, France
CATEGORIES:Wellness Masterclass
ATTACH;FMTTYPE=image/png:https://evokcollection.com/wp-content/uploads/2025/01/valerie-espinasse-fr-page-events.png
GEO:48.8615812;2.2744242
END:VEVENT
BEGIN:VEVENT
DTSTART;TZID=Europe/London:20250319T190000
DTEND;TZID=Europe/London:20250319T203000
DTSTAMP:20260423T081505
CREATED:20250127T133408Z
LAST-MODIFIED:20250725T073232Z
UID:10000510-1742410800-1742416200@evokcollection.com
SUMMARY:Charity piano concert at Nolinski Paris
DESCRIPTION:Alongside the Coline en Ré association\, Evok Collection is organising charity piano concerts by young virtuoso artists.\nThe music will travel between Nolinski Paris and Nolinski Venezia\, places where melody resonates with particular importance. Coline en Ré combines classical music played at the highest level with a humanitarian cause. The donations collected at the end of each concert and the contribution from Evok Collection help to ‘renutrir’ children from extremely poor Madagascan families. Saving a malnourished child costs €10. \nYou are invited to a concert by Arthur Gautier on Wednesday 19th March 2025 at 7pm\, at Nolinski Paris.
URL:https://evokcollection.com/en/event/concert-de-piano-caritatif-au-nolinski-paris-3/
LOCATION:Nolinski Paris\, Avenue de l'Opéra\, Paris\, Département de Paris\, 75001\, France
CATEGORIES:Charity piano concert
ATTACH;FMTTYPE=image/png:https://evokcollection.com/wp-content/uploads/2025/01/nolinski-paris-grand-salon.png
GEO:48.8667241;2.3339412
X-APPLE-STRUCTURED-LOCATION;VALUE=URI;X-ADDRESS=Nolinski Paris Avenue de l'Opéra Paris Département de Paris 75001 France;X-APPLE-RADIUS=500;X-TITLE=Avenue de l'Opéra:geo:2.3339412,48.8667241
END:VEVENT
BEGIN:VEVENT
DTSTART;TZID=Europe/London:20250324T194500
DTEND;TZID=Europe/London:20250324T213000
DTSTAMP:20260423T081505
CREATED:20250123T155828Z
LAST-MODIFIED:20250725T073343Z
UID:10000503-1742845500-1742851800@evokcollection.com
SUMMARY:Philosophical meeting led by Emmanuel Leclercq
DESCRIPTION:The Grand Salon at the Nolinski Paris is the setting for a monthly discussion between the philosopher Emmanuel Leclercq\, founder of “Devenir pour Agir”\, and a public figure. \nYou are invited to a philosophical discussion with the dancer and choreographer Anthony Colette\, winner of Danse avec les Stars 2024. \nMonday 24 March at 7.45pm
URL:https://evokcollection.com/en/event/rencontre-philosophique-animee-par-emmanuel-leclercq/
LOCATION:Nolinski Paris\, Avenue de l'Opéra\, Paris\, Département de Paris\, 75001\, France
CATEGORIES:Philosophical meetings
ATTACH;FMTTYPE=image/png:https://evokcollection.com/wp-content/uploads/2025/01/rencontre-philosophique-anthony-colette.png
GEO:48.8667241;2.3339412
X-APPLE-STRUCTURED-LOCATION;VALUE=URI;X-ADDRESS=Nolinski Paris Avenue de l'Opéra Paris Département de Paris 75001 France;X-APPLE-RADIUS=500;X-TITLE=Avenue de l'Opéra:geo:2.3339412,48.8667241
END:VEVENT
BEGIN:VEVENT
DTSTART;TZID=Europe/London:20250327T193000
DTEND;TZID=Europe/London:20250327T210000
DTSTAMP:20260423T081505
CREATED:20250106T145743Z
LAST-MODIFIED:20250725T073414Z
UID:10000493-1743103800-1743109200@evokcollection.com
SUMMARY:John Gade x Nolinski Paris – piano recital
DESCRIPTION:A series of monthly piano recitals in the Grand Salon\, performed by John Gade\, renowned for his virtuosity and artistic sensitivity.\nAmbassador of the Mediterranean Banque Populaire Foundation\, John Gade is a well-known French pianist\, violinist and composer of international renown. He has won many prestigious prizes\, including first prize in the international Scriabin competition. \nEvery month\, Nolinski Paris vibrates to the rhythm of his rich\, captivating soundscape\, where every note will ring out with grace and emotion. \nWhether you’re a knowledgeable music lover or a curious amateur\, these monthly concerts are a unique opportunity to discover or rediscover the magic of classical music in the elegant and intimate setting of the Nolinski Paris.
URL:https://evokcollection.com/en/event/john-gade-x-nolinski-paris-recital-de-piano-3/
LOCATION:Nolinski Paris\, Avenue de l'Opéra\, Paris\, Département de Paris\, 75001\, France
CATEGORIES:John Gade x Nolinski Paris - piano recital
ATTACH;FMTTYPE=image/png:https://evokcollection.com/wp-content/uploads/2024/07/recital-piano-john-gade.png
GEO:48.8667241;2.3339412
X-APPLE-STRUCTURED-LOCATION;VALUE=URI;X-ADDRESS=Nolinski Paris Avenue de l'Opéra Paris Département de Paris 75001 France;X-APPLE-RADIUS=500;X-TITLE=Avenue de l'Opéra:geo:2.3339412,48.8667241
END:VEVENT
END:VCALENDAR