BEGIN:VCALENDAR
VERSION:2.0
PRODID:-//Evok Collection - ECPv6.15.17.1//NONSGML v1.0//EN
CALSCALE:GREGORIAN
METHOD:PUBLISH
X-WR-CALNAME:Evok Collection
X-ORIGINAL-URL:https://evokcollection.com/en/
X-WR-CALDESC:Events for Evok Collection
REFRESH-INTERVAL;VALUE=DURATION:PT1H
X-Robots-Tag:noindex
X-PUBLISHED-TTL:PT1H
BEGIN:VTIMEZONE
TZID:Europe/London
BEGIN:DAYLIGHT
TZOFFSETFROM:+0000
TZOFFSETTO:+0100
TZNAME:BST
DTSTART:20240331T010000
END:DAYLIGHT
BEGIN:STANDARD
TZOFFSETFROM:+0100
TZOFFSETTO:+0000
TZNAME:GMT
DTSTART:20241027T010000
END:STANDARD
BEGIN:DAYLIGHT
TZOFFSETFROM:+0000
TZOFFSETTO:+0100
TZNAME:BST
DTSTART:20250330T010000
END:DAYLIGHT
BEGIN:STANDARD
TZOFFSETFROM:+0100
TZOFFSETTO:+0000
TZNAME:GMT
DTSTART:20251026T010000
END:STANDARD
BEGIN:DAYLIGHT
TZOFFSETFROM:+0000
TZOFFSETTO:+0100
TZNAME:BST
DTSTART:20260329T010000
END:DAYLIGHT
BEGIN:STANDARD
TZOFFSETFROM:+0100
TZOFFSETTO:+0000
TZNAME:GMT
DTSTART:20261025T010000
END:STANDARD
END:VTIMEZONE
BEGIN:VTIMEZONE
TZID:Europe/Paris
BEGIN:DAYLIGHT
TZOFFSETFROM:+0100
TZOFFSETTO:+0200
TZNAME:CEST
DTSTART:20240331T010000
END:DAYLIGHT
BEGIN:STANDARD
TZOFFSETFROM:+0200
TZOFFSETTO:+0100
TZNAME:CET
DTSTART:20241027T010000
END:STANDARD
BEGIN:DAYLIGHT
TZOFFSETFROM:+0100
TZOFFSETTO:+0200
TZNAME:CEST
DTSTART:20250330T010000
END:DAYLIGHT
BEGIN:STANDARD
TZOFFSETFROM:+0200
TZOFFSETTO:+0100
TZNAME:CET
DTSTART:20251026T010000
END:STANDARD
BEGIN:DAYLIGHT
TZOFFSETFROM:+0100
TZOFFSETTO:+0200
TZNAME:CEST
DTSTART:20260329T010000
END:DAYLIGHT
BEGIN:STANDARD
TZOFFSETFROM:+0200
TZOFFSETTO:+0100
TZNAME:CET
DTSTART:20261025T010000
END:STANDARD
END:VTIMEZONE
BEGIN:VEVENT
DTSTART;TZID=Europe/London:20250403T190000
DTEND;TZID=Europe/London:20250403T210000
DTSTAMP:20260423T064201
CREATED:20250129T094802Z
LAST-MODIFIED:20250724T155426Z
UID:10000512-1743706800-1743714000@evokcollection.com
SUMMARY:Masterclass Harawell led by Céline Benche
DESCRIPTION:We are pleased to invite you to a masterclass led by Céline Benche\, Founder of the Harawell® immersive method of well-being and global health. \nThursday\, April 3\, 2025 at 7pm. \n“In this hyper-connected world\, Harawell® offers a space for sharing\, transformation and concrete tools to reconnect with your vital energy. Your energy makes the impossible possible again! \nLet’s activate it together at this masterclass!
URL:https://evokcollection.com/en/event/masterclass-harawell-animee-par-celine-benche-2/
LOCATION:Brach Paris\, 75016\, France
CATEGORIES:Wellness Masterclass
ATTACH;FMTTYPE=image/png:https://evokcollection.com/wp-content/uploads/2024/10/masterclass-harawell.png
GEO:48.8615812;2.2744242
END:VEVENT
BEGIN:VEVENT
DTSTART;TZID=Europe/London:20250406T160000
DTEND;TZID=Europe/London:20250406T180000
DTSTAMP:20260423T064201
CREATED:20251013T153649Z
LAST-MODIFIED:20251013T153649Z
UID:10000641-1743955200-1743962400@evokcollection.com
SUMMARY:Showgirl Workshop at Nolinski Paris
DESCRIPTION:Once a month\, Kalon offers “Showgirl” workshops in the cosy and intimate atmosphere of the Grand Salon at the Nolinski Paris.\nThe Kalon method and its various workshops are designed to tone and sculpt the body like a dancer\, without needing to be one. Join the Kalon dancers for an intense Cardio Barre session followed by instruction in an authentic “Showgirl” choreography. \nPROGRAM\n4PM\n30 minutes of Kalon Cardio Barre to tone\, strengthen and sculpt your body\, while warming your muscles up for the choreography afterwards\n4.30PM\nLearning the walk elegantly in heels followed by showgirl choreography\n5.30 – 6PM\nCocktails and conversation \nFor this workshop\, please bring comfortable heels\, leggings or shorts\, bra or crop top and socks.
URL:https://evokcollection.com/en/event/atelier-showgirl-au-nolinski-paris-2-2/2025-04-06/
LOCATION:Nolinski Paris\, Avenue de l'Opéra\, Paris\, Département de Paris\, 75001\, France
CATEGORIES:Showgirl Kalon workshops
ATTACH;FMTTYPE=image/png:https://evokcollection.com/wp-content/uploads/2024/07/ateliers-showgirl-kalon-nolinski-paris.png
GEO:48.8667241;2.3339412
X-APPLE-STRUCTURED-LOCATION;VALUE=URI;X-ADDRESS=Nolinski Paris Avenue de l'Opéra Paris Département de Paris 75001 France;X-APPLE-RADIUS=500;X-TITLE=Avenue de l'Opéra:geo:2.3339412,48.8667241
END:VEVENT
BEGIN:VEVENT
DTSTART;TZID=Europe/London:20250407T080000
DTEND;TZID=Europe/London:20250420T170000
DTSTAMP:20260423T064201
CREATED:20250411T101957Z
LAST-MODIFIED:20250411T154251Z
UID:10000551-1744012800-1745168400@evokcollection.com
SUMMARY:Easter 2025 Evok Collection
DESCRIPTION:In his Easter 2025 collection\, Fabien Emery has been inspired by\nthe architecture of Notre- Dame\, blending substance and light. As a tribute to the reopening of the cathedral\, he has captured its timeless beauty and distinctive lines in three unique creations. Each piece\, set on a pedestal\, echoes the building’s carved decorative features\, transforming chocolate into a true work of art. \n800g. 18cm – 80 €\nA limited edition collection\, available exclusively by prior order. \n TAKING ORDERS*\nfrom 7 to 20 April 2025\nCOLLECTING ORDERS\nfrom 14 April 2025 \nORDER IN PARIS \nORDER IN MADRID \n\n		\n		\n			\n				\n			\n				\n				ROSE – The brilliance of stained glass windows \n				\n			\n				\n			\n				\n				TRÉSOR – An interplay of shadows and relief\n				\n			\n				\n			\n				\n				 GRÂCE – The architectural features\n				\n		\n\n  \nROSE : Combining heritage and excellence\, expertise and artistic flair\, Rose embodies the essence of the Evok Collection. Inspired by Notre-Dame’s rose windows\, this creation is a masterpiece of elegant chocolate sculpture. Inside\, Gaya 64% dark chocolate encases a hazelnut praline. \nTRÉSOR : The Trésor egg reflects the unique world of Brach\, with its powerful\, rich textures. Its structure reveals an intriguing duality: a smooth\, unadorned shell that opens to reveal an interior decorated with sculpted motifs inspired by the engraved stones of Notre-Dame. The contrast between the Tanea 43% milk chocolate and the golden hues accentuates this impression of exposed architecture. Beneath this shell\, an almond praline studded with delicate caramelised almonds adds extra depth\, blending strength and sweetness. \nGRÂCE : The Grâce egg is a subtle interpretation of the cathedral’s monumental arches\, encapsulating the elegance of Nolinski Paris. Its sculpted structure represents a balance between strength and lightness. The clean lines\, enhanced by touches of gold\, add a graphic dimension. Gaya 64% dark chocolate\, rich and delicate\, encases a pumpkin seed praline enhanced by a hint of lime\, whose freshness contrasts with the richness of the chocolate. \n  \nBRACH PARIS\nPastry counter\n1-7 rue Jean Richepin\, 75116 Paris\nTél : +33 (0)1 44 30 10 00\n———\nNOLINSKI PARIS\n16 avenue de l’Opéra\, 75001 Paris\nTél. : +33 (0)1 42 86 10 10\n———\nCOUR DES VOSGES\nBrach Pastry counter\n19 place des Vosges\, 75004 Paris\nTél : +33 (0)1 42 50 30 30\n———\nBRACH MADRID\nPastry counter\nC/ Gran Via\, 20\, 28013 Madrid\nTél : +34 915 463 639
URL:https://evokcollection.com/en/event/collection-de-paques-2025-evok-collection/
ATTACH;FMTTYPE=image/jpeg:https://evokcollection.com/wp-content/uploads/2025/03/2501-brach-paques-11-bis-scaled.jpg
END:VEVENT
BEGIN:VEVENT
DTSTART;TZID=Europe/Paris:20250407T190000
DTEND;TZID=Europe/Paris:20250407T210000
DTSTAMP:20260423T064201
CREATED:20250207T100716Z
LAST-MODIFIED:20250724T155501Z
UID:10000527-1744052400-1744059600@evokcollection.com
SUMMARY:Meeting with Brahim Asloum hosted by Stéphane Tortora
DESCRIPTION:In collaboration with Stéphane Tortora\, Brach Paris hosts monthly encounters with public figures from all walks of life.\nWe are delighted to invite you to a meeting on Monday 7th April 2025 at 7pm with the french boxer Brahim Asloum. Gold medallist at the Sydney Olympic Games in 2000 and world flyweight champion in 2007\, Brahim Asloum is now involved in media projects and remains an influential figure in French boxing.
URL:https://evokcollection.com/en/event/rencontre-avec-brahim-asloum-animee-par-stephane-tortora/
LOCATION:Brach Paris\, 75016\, France
CATEGORIES:Meetings @Brach Paris
ATTACH;FMTTYPE=image/png:https://evokcollection.com/wp-content/uploads/2025/02/rencontre-brach-brahim-asloum.png
GEO:48.8615812;2.2744242
END:VEVENT
BEGIN:VEVENT
DTSTART;TZID=Europe/London:20250408T190000
DTEND;TZID=Europe/London:20250408T210000
DTSTAMP:20260423T064201
CREATED:20250210T104011Z
LAST-MODIFIED:20250725T072213Z
UID:10000529-1744138800-1744146000@evokcollection.com
SUMMARY:Conversation with Enchanting people - Olivier Echaudemaison
DESCRIPTION:Nolinski Paris and Laurence Benaïm have devised a meeting place for inspired and inspiring designers. From fashion to literature\, from design to flowers\, this is a tribute to craftsmanship and the art of brightening up everyday life. \nOn Tuesday 8th April at 7pm\, we invite you to a meeting with the French make-up expert and designer Olivier Echaudemaison. After starting out as a hairdresser\, he moved into make-up before becoming creative director of Guerlain. Olivier Echaudemaison is a Chevalier des Arts et des Lettres and has been promoted to Officier de l’ordre des Arts et des Lettres in 2019.
URL:https://evokcollection.com/en/event/conversation-avec-des-enchanteurs-olivier-echaudemaison/
LOCATION:Nolinski Paris\, Avenue de l'Opéra\, Paris\, Département de Paris\, 75001\, France
CATEGORIES:Conversations with enchanting people
ATTACH;FMTTYPE=image/png:https://evokcollection.com/wp-content/uploads/2025/02/conversations-enchanteurs-olivier-echaudemaison.png
GEO:48.8667241;2.3339412
X-APPLE-STRUCTURED-LOCATION;VALUE=URI;X-ADDRESS=Nolinski Paris Avenue de l'Opéra Paris Département de Paris 75001 France;X-APPLE-RADIUS=500;X-TITLE=Avenue de l'Opéra:geo:2.3339412,48.8667241
END:VEVENT
BEGIN:VEVENT
DTSTART;TZID=Europe/London:20250410T193000
DTEND;TZID=Europe/London:20250410T210000
DTSTAMP:20260423T064201
CREATED:20250123T094605Z
LAST-MODIFIED:20250725T072337Z
UID:10000492-1744313400-1744318800@evokcollection.com
SUMMARY:John Gade x Nolinski Paris – piano recital
DESCRIPTION:A series of monthly piano recitals in the Grand Salon\, performed by John Gade\, renowned for his virtuosity and artistic sensitivity.\nAmbassador of the Mediterranean Banque Populaire Foundation\, John Gade is a well-known French pianist\, violinist and composer of international renown. He has won many prestigious prizes\, including first prize in the international Scriabin competition. \nWhether you’re a knowledgeable music lover or a curious amateur\, these monthly concerts are a unique opportunity to discover or rediscover the magic of classical music in the elegant and intimate setting of the Nolinski Paris. \nOn Thursday 10 April\, let yourself be enchanted by an exceptional programme featuring masterpieces by Bach\, Chopin\, Liszt and Ravel.
URL:https://evokcollection.com/en/event/john-gade-x-nolinski-paris-recital-de-piano-4/
LOCATION:Nolinski Paris\, Avenue de l'Opéra\, Paris\, Département de Paris\, 75001\, France
CATEGORIES:John Gade x Nolinski Paris - piano recital
ATTACH;FMTTYPE=image/png:https://evokcollection.com/wp-content/uploads/2024/07/recital-piano-john-gade.png
GEO:48.8667241;2.3339412
X-APPLE-STRUCTURED-LOCATION;VALUE=URI;X-ADDRESS=Nolinski Paris Avenue de l'Opéra Paris Département de Paris 75001 France;X-APPLE-RADIUS=500;X-TITLE=Avenue de l'Opéra:geo:2.3339412,48.8667241
END:VEVENT
BEGIN:VEVENT
DTSTART;TZID=Europe/London:20250417T140000
DTEND;TZID=Europe/London:20250417T173000
DTSTAMP:20260423T064201
CREATED:20250310T153421Z
LAST-MODIFIED:20250725T072402Z
UID:10000541-1744898400-1744911000@evokcollection.com
SUMMARY:Egg Hunt in Nolinski Venezia
DESCRIPTION:Evok Collection is perpetuating the traditional the Egg Hunt by offering children the opportunity to experience a playful adventure through the floors of the Nolinski Venezia. Using a map and accompanied by a friend or relative\, children will set off to discover images hidden in the hotel before being rewarded with a chocolate surprise and a snack. \nThursday 17th April 2025 from 2pm to 5.30pm \n  \n 
URL:https://evokcollection.com/en/event/chasse-a-loeuf-au-nolinski-venise/
LOCATION:Nolinski Venezia\, 30124\, Italy
CATEGORIES:Egg Hunt,Les chasses aux œufs
ATTACH;FMTTYPE=image/png:https://evokcollection.com/wp-content/uploads/2025/03/nl-nol.png
GEO:45.4329337;12.3347398
END:VEVENT
BEGIN:VEVENT
DTSTART;TZID=Europe/London:20250425T110000
DTEND;TZID=Europe/London:20250425T120000
DTSTAMP:20260423T064201
CREATED:20250321T150246Z
LAST-MODIFIED:20250725T072509Z
UID:10000549-1745578800-1745582400@evokcollection.com
SUMMARY:Literary meeting with Muriel Barbery at Brach Madrid
DESCRIPTION:Brach Madrid is delighted to host Muriel Barbery on Friday\, April 25\, 2025\, for a literary meeting during La Noche de los Libros. The author will present and sign her latest book\, “Thomas Helder”. The event will be held in French with simultaneous translation into Spanish.\nFriday 25 April at 11am
URL:https://evokcollection.com/en/event/rencontre-avec-muriel-barbery-brach-madrid-x-magma-cultura/
LOCATION:Brach Madrid\, 28004\, Spain
ATTACH;FMTTYPE=image/png:https://evokcollection.com/wp-content/uploads/2025/03/magma-cultura.png
GEO:40.4200395;-3.7019354
END:VEVENT
BEGIN:VEVENT
DTSTART;TZID=Europe/London:20250426T140000
DTEND;TZID=Europe/London:20250426T173000
DTSTAMP:20260423T064201
CREATED:20250314T094434Z
LAST-MODIFIED:20250725T072614Z
UID:10000547-1745676000-1745688600@evokcollection.com
SUMMARY:Egg Hunt at Brach Madrid
DESCRIPTION:Evok Collection is perpetuating the traditional Egg Hunt by offering children the opportunity to experience a playful adventure through the floors of the Brach Madrid. Using a map and accompanied by a friend or relative\, children will set off to discover images hidden in the hotel before being rewarded with a chocolate surprise and a snack. \nSaturday 26th April from 2pm to 5.30pm
URL:https://evokcollection.com/en/event/chasse-aux-oeufs-evok-collection-brach-madrid/
LOCATION:Brach Madrid\, 28004\, Spain
CATEGORIES:Egg Hunt,Les chasses aux œufs
ATTACH;FMTTYPE=image/png:https://evokcollection.com/wp-content/uploads/2025/03/hippo.png
GEO:40.4200395;-3.7019354
END:VEVENT
BEGIN:VEVENT
DTSTART;VALUE=DATE:20250428
DTEND;VALUE=DATE:20250429
DTSTAMP:20260423T064201
CREATED:20250523T143935Z
LAST-MODIFIED:20250527T142929Z
UID:10000567-1745798400-1745884799@evokcollection.com
SUMMARY:Selection of the six books for the Evok Collection Literary Prize 2025
DESCRIPTION:On Monday April\, 2025\, the Evok Collection Literary Prize juries met to deliberate and select six novels published between August 2024 and April 2025. The prize will be announced on Monday June 16\, 2025. \nThe six books are as follows: \n\nTout le bruit du Guéliz by Ruben Barrouk (Albin Michel)\nLe lit clos by Sophie Brocas (Mialet – Barrault)\nTout le monde garde son calme by Dimitri Kantcheloff (Finitude)\nImpardonnable by Mathieu Menegaux (Grasset)\nCeinture by Céline Robert (Calmann Levy)\nCélèbre by Maud Ventura (L’Iconoclaste)\n\nThe jury is made up of: Tristane Banon\, Eleonore Baudry\, Laurence Benaïm\, Valérie Bonneton\, Charlotte Bouteloup\, Romain Brau\, Philippe Caverivière\, Karima Charni\, Emmanuelle de Boysson\, Boris Derichebourg\, Karine Dijoud\, Arielle Dombasle\, Raphaël Enthoven\, Laurence Ferrari\, Roland Perez\, Anne-Marie Revol\, Aurélie Saada\, Laura Tenoudji\, Keren Ann Zeidel\, Oli\, Emmanuel Sauvage (Co-founder\, Managing Director of Evok Collection)
URL:https://evokcollection.com/en/event/selection-des-six-livres-du-prix-litteraire-evok-collection/
ATTACH;FMTTYPE=image/png:https://evokcollection.com/wp-content/uploads/2025/05/prix-litteraire-2025-new-in-scaled.png
END:VEVENT
BEGIN:VEVENT
DTSTART;TZID=Europe/London:20250428T194500
DTEND;TZID=Europe/London:20250428T213000
DTSTAMP:20260423T064201
CREATED:20250129T115659Z
LAST-MODIFIED:20250724T154635Z
UID:10000515-1745869500-1745875800@evokcollection.com
SUMMARY:Philosophical meeting with Nathalie Dionne
DESCRIPTION:The Grand Salon at the Nolinski Paris is the setting for a monthly discussion between the philosopher Emmanuel Leclercq and a public figure.\nA Doctor of Philosophy\, Emmanuel Leclercq teaches philosophy in high schools and the Ethics of AI at the Ecole de Commerce in Paris. He is the founder of “Devenir pour Agir”\, the first French program to feature philosophical interviews with public figures. \nWe are delighted to invite you to a philosophical encounter with CEO Nathalie Dionne\, founder of Brand Creatives and the Haute Maroquinerie Thalie fashion house. Passionate about design\, technology and sustainability\, she founded Brand Creatives\, a textile innovation studio dedicated to biomaterials. Thalie Paris embodies a vision of sustainable\, refined luxury\, offering eco-designed bags made from innovative materials such as vegetable and recycled leather. \n  \n 
URL:https://evokcollection.com/en/event/rencontre-philosophique-animee-par-emmanuel-leclercq-2/
LOCATION:Nolinski Paris\, Avenue de l'Opéra\, Paris\, Département de Paris\, 75001\, France
CATEGORIES:Philosophical meetings
ATTACH;FMTTYPE=image/png:https://evokcollection.com/wp-content/uploads/2025/01/2-rencontre-philosophique-nathalie-dionne-scaled.png
GEO:48.8667241;2.3339412
X-APPLE-STRUCTURED-LOCATION;VALUE=URI;X-ADDRESS=Nolinski Paris Avenue de l'Opéra Paris Département de Paris 75001 France;X-APPLE-RADIUS=500;X-TITLE=Avenue de l'Opéra:geo:2.3339412,48.8667241
END:VEVENT
BEGIN:VEVENT
DTSTART;TZID=Europe/London:20250430T140000
DTEND;TZID=Europe/London:20250430T173000
DTSTAMP:20260423T064201
CREATED:20250310T160608Z
LAST-MODIFIED:20250724T154913Z
UID:10000543-1746021600-1746034200@evokcollection.com
SUMMARY:Egg Hunt at Brach Paris
DESCRIPTION:Evok Collection is perpetuating the traditional Egg Hunt by offering children the opportunity to experience a playful adventure through the floors of the Brach Paris. Using a map and accompanied by a friend or relative\, children will set off to discover images hidden in the hotel before being rewarded with a chocolate surprise and a snack. \nThursday 30th April 2025 from 2pm to 5.30pm
URL:https://evokcollection.com/en/event/chasse-a-loeuf-au-brach-paris/
LOCATION:Brach Paris\, 75016\, France
CATEGORIES:Egg Hunt,Les chasses aux œufs
ATTACH;FMTTYPE=image/png:https://evokcollection.com/wp-content/uploads/2025/03/cover-chasse-a-loeuf-52x.png
GEO:48.8615812;2.2744242
END:VEVENT
BEGIN:VEVENT
DTSTART;TZID=Europe/London:20250430T150000
DTEND;TZID=Europe/London:20250430T180000
DTSTAMP:20260423T064201
CREATED:20250314T091211Z
LAST-MODIFIED:20250324T105121Z
UID:10000545-1746025200-1746036000@evokcollection.com
SUMMARY:Egg Hunt - Nolinski Paris
DESCRIPTION:Evok Collection is perpetuating the traditional Egg Hunt by offering children the opportunity to experience a playful adventure through the floors of the Nolinski Paris. Using a map and accompanied by a friend or relative\, children will set off to discover images hidden in the hotel before being rewarded with a chocolate surprise and a snack. \nWednesday 30th April 2025 from 3pm to 6pm. 
URL:https://evokcollection.com/en/event/chasse-aux-oeufs-evok-collection-nolinski-paris/
LOCATION:Nolinski Paris\, Avenue de l'Opéra\, Paris\, Département de Paris\, 75001\, France
CATEGORIES:Egg Hunt,Les chasses aux œufs
ATTACH;FMTTYPE=image/jpeg:https://evokcollection.com/wp-content/uploads/2025/03/chasse-aux-oeufs-2024-nolinski-simondetraz-28-scaled.jpg
GEO:48.8667241;2.3339412
X-APPLE-STRUCTURED-LOCATION;VALUE=URI;X-ADDRESS=Nolinski Paris Avenue de l'Opéra Paris Département de Paris 75001 France;X-APPLE-RADIUS=500;X-TITLE=Avenue de l'Opéra:geo:2.3339412,48.8667241
END:VEVENT
END:VCALENDAR