BEGIN:VCALENDAR
VERSION:2.0
PRODID:-//Evok Collection - ECPv6.15.17.1//NONSGML v1.0//EN
CALSCALE:GREGORIAN
METHOD:PUBLISH
X-WR-CALNAME:Evok Collection
X-ORIGINAL-URL:https://evokcollection.com/en/
X-WR-CALDESC:Events for Evok Collection
REFRESH-INTERVAL;VALUE=DURATION:PT1H
X-Robots-Tag:noindex
X-PUBLISHED-TTL:PT1H
BEGIN:VTIMEZONE
TZID:Europe/London
BEGIN:DAYLIGHT
TZOFFSETFROM:+0000
TZOFFSETTO:+0100
TZNAME:BST
DTSTART:20240331T010000
END:DAYLIGHT
BEGIN:STANDARD
TZOFFSETFROM:+0100
TZOFFSETTO:+0000
TZNAME:GMT
DTSTART:20241027T010000
END:STANDARD
BEGIN:DAYLIGHT
TZOFFSETFROM:+0000
TZOFFSETTO:+0100
TZNAME:BST
DTSTART:20250330T010000
END:DAYLIGHT
BEGIN:STANDARD
TZOFFSETFROM:+0100
TZOFFSETTO:+0000
TZNAME:GMT
DTSTART:20251026T010000
END:STANDARD
BEGIN:DAYLIGHT
TZOFFSETFROM:+0000
TZOFFSETTO:+0100
TZNAME:BST
DTSTART:20260329T010000
END:DAYLIGHT
BEGIN:STANDARD
TZOFFSETFROM:+0100
TZOFFSETTO:+0000
TZNAME:GMT
DTSTART:20261025T010000
END:STANDARD
END:VTIMEZONE
BEGIN:VEVENT
DTSTART;TZID=Europe/London:20250507T190000
DTEND;TZID=Europe/London:20250507T203000
DTSTAMP:20260423T045948
CREATED:20250129T162748Z
LAST-MODIFIED:20250724T154806Z
UID:10000519-1746644400-1746649800@evokcollection.com
SUMMARY:Charity piano concert at Nolinski Venezia
DESCRIPTION:In partnership with the Coline en Ré association\, Evok Collection is holding charity piano concerts featuring young virtuoso artists.\nThis music will be performed in Nolinski Paris and Nolinski Venezia\, two settings where melody resounds in a particularly meaningful way. Coline en Ré offers a combination of world-class classical music and a humanitarian cause dedicated to helping children at risk. Donations collected at the end of each concert and Evok Collection’s contribution will help to “renourish” children from extremely poor families in Madagascar. It costs €10 to save a malnourished child. \nYou are invited to a concert by Diana Cooper on Wednesday 7th May at 7pm\, at Nolinski Venezia. \nFree event with registration
URL:https://evokcollection.com/en/event/concert-de-piano-caritatif-coline-en-re-nolinski-venezia-mercredi-7-mai/
LOCATION:Nolinski Venezia\, 30124\, Italy
CATEGORIES:Charity piano concert
ATTACH;FMTTYPE=image/png:https://evokcollection.com/wp-content/uploads/2025/01/nolinski-venezia-bar-biliotheque.png
GEO:45.4329337;12.3347398
END:VEVENT
BEGIN:VEVENT
DTSTART;TZID=Europe/London:20250512T194500
DTEND;TZID=Europe/London:20250512T213000
DTSTAMP:20260423T045948
CREATED:20250130T092254Z
LAST-MODIFIED:20250724T155135Z
UID:10000523-1747079100-1747085400@evokcollection.com
SUMMARY:Philosophical meeting with Mathieu Lehanneur
DESCRIPTION:The Grand Salon at the Nolinski Paris is the setting for a monthly discussion between the philosopher Emmanuel Leclercq\, founder of “Devenir pour Agir”\, and a public figure. We are delighted to invite you to a philosophical encounter with Mathieu Lehanneur\, the visionary French designer behind the Paris 2024 Cauldron and Torch\, whose creations combine art\, science and innovation\, on Monday 12 May 2025. \nFree event with registration
URL:https://evokcollection.com/en/event/rencontre-philosophique-animee-par-emmanuel-leclercq-3/
LOCATION:Nolinski Paris\, Avenue de l'Opéra\, Paris\, Département de Paris\, 75001\, France
CATEGORIES:Philosophical meetings
ATTACH;FMTTYPE=image/png:https://evokcollection.com/wp-content/uploads/2025/01/nolinski-paris-grand-salon.png
GEO:48.8667241;2.3339412
X-APPLE-STRUCTURED-LOCATION;VALUE=URI;X-ADDRESS=Nolinski Paris Avenue de l'Opéra Paris Département de Paris 75001 France;X-APPLE-RADIUS=500;X-TITLE=Avenue de l'Opéra:geo:2.3339412,48.8667241
END:VEVENT
BEGIN:VEVENT
DTSTART;TZID=Europe/London:20250513T190000
DTEND;TZID=Europe/London:20250513T203000
DTSTAMP:20260423T045948
CREATED:20250129T165943Z
LAST-MODIFIED:20250724T155239Z
UID:10000521-1747162800-1747168200@evokcollection.com
SUMMARY:Wellness Masterclass led by Valérie Espinasse - ‘Morphonutrition for a harmonious figure’
DESCRIPTION:We are delighted to welcome you on Tuesday\, May 13th\, for a Wellness Masterclass on the theme of morphonutrition\, led by micro-nutritionist Valérie Espinasse. \nFree event with registration
URL:https://evokcollection.com/en/event/masterclass-wellness-animee-par-valerie-espinasse-la-morphonutrition-pour-retrouver-une-silhouette-harmonieuse/
LOCATION:Brach Paris\, 75016\, France
CATEGORIES:Wellness Masterclass
ATTACH;FMTTYPE=image/png:https://evokcollection.com/wp-content/uploads/2025/01/valerie-espinasse-fr-page-events.png
GEO:48.8615812;2.2744242
END:VEVENT
BEGIN:VEVENT
DTSTART;VALUE=DATE:20250526
DTEND;VALUE=DATE:20250609
DTSTAMP:20260423T045948
CREATED:20250519T143724Z
LAST-MODIFIED:20250519T151215Z
UID:10000563-1748217600-1749427199@evokcollection.com
SUMMARY:Sweat & Match Lacoste x Brach Pop-up
DESCRIPTION:Sweat And Match\nThe most beautiful encounters are not announced. They are worn. As proof\, this year\, Brach Paris and Lacoste are bringing you a unisex monochrome sweatshirt; a signature item of clothing that allies comfort with understated elegance. The restyled crocodile enters the world of Brach as the symbol of a unique partnership\, both subtle and distinct. \nThis limited-edition sweatshirt is available in sizes XS to XXL from Brach Paris\, the Evok Collection’s e-shop. The sweatshirt is also available at Brach Madrid. \nPop-up at Brach Paris from the 26th of May to the 8th of June. Free admission.
URL:https://evokcollection.com/en/event/pop-up-sweat-lacoste-au-brach-paris/
LOCATION:Brach Paris\, 75016\, France
CATEGORIES:Pop-up at Brach Paris
ATTACH;FMTTYPE=image/png:https://evokcollection.com/wp-content/uploads/2025/05/pop-up-sweat-lacoste-brach-paris-scaled.png
GEO:48.8615812;2.2744242
END:VEVENT
BEGIN:VEVENT
DTSTART;TZID=Europe/London:20250527T193000
DTEND;TZID=Europe/London:20250527T210000
DTSTAMP:20260423T045948
CREATED:20250123T102200Z
LAST-MODIFIED:20250724T153326Z
UID:10000495-1748374200-1748379600@evokcollection.com
SUMMARY:John Gade x Nolinski Paris – piano recital
DESCRIPTION:A series of monthly piano recitals in the Grand Salon\, performed by John Gade\, renowned for his virtuosity and artistic sensitivity.\nAmbassador of the Mediterranean Banque Populaire Foundation\, John Gade is a well-known French pianist\, violinist and composer of international renown. He has won many prestigious prizes\, including first prize in the international Scriabin competition. \nEvery month\, Nolinski Paris vibrates to the rhythm of his rich\, captivating soundscape\, where every note will ring out with grace and emotion. \nWhether you’re a knowledgeable music lover or a curious amateur\, these monthly concerts are a unique opportunity to discover or rediscover the magic of classical music in the elegant and intimate setting of the Nolinski Paris. \nFree event with registration
URL:https://evokcollection.com/en/event/john-gade-x-nolinski-paris-recital-de-piano-5/
LOCATION:Nolinski Paris\, Avenue de l'Opéra\, Paris\, Département de Paris\, 75001\, France
CATEGORIES:John Gade x Nolinski Paris - piano recital
ATTACH;FMTTYPE=image/png:https://evokcollection.com/wp-content/uploads/2024/07/recital-piano-john-gade.png
GEO:48.8667241;2.3339412
X-APPLE-STRUCTURED-LOCATION;VALUE=URI;X-ADDRESS=Nolinski Paris Avenue de l'Opéra Paris Département de Paris 75001 France;X-APPLE-RADIUS=500;X-TITLE=Avenue de l'Opéra:geo:2.3339412,48.8667241
END:VEVENT
BEGIN:VEVENT
DTSTART;TZID=Europe/London:20250528T193000
DTEND;TZID=Europe/London:20250528T210000
DTSTAMP:20260423T045948
CREATED:20250430T152308Z
LAST-MODIFIED:20250724T153438Z
UID:10000554-1748460600-1748466000@evokcollection.com
SUMMARY:Brilliant Women Circle x Brach Madrid with Irene Cano
DESCRIPTION:We are delighted to welcome you to a conversation with Irene Cano\, as part of the Brilliant Women Circle\, a monthly conversation series led by Sara Zaldívar that highlights accomplished women across diverse fields. Each session offers an intimate conversation with a featured guest\, sharing their personal journey\, lessons learned\, and the challenges they have overcome along the way. \nWednesday 28 May at 7.30pm  \nFree event with registration 
URL:https://evokcollection.com/en/event/brilliant-women-circle-avec-sara-zaldivar-au-brach-madrid/
LOCATION:Brach Madrid\, 28004\, Spain
CATEGORIES:Brilliant Women Circle
ATTACH;FMTTYPE=image/png:https://evokcollection.com/wp-content/uploads/2025/04/sara-x-irene-scaled.png
GEO:40.4200395;-3.7019354
END:VEVENT
END:VCALENDAR