BEGIN:VCALENDAR
VERSION:2.0
PRODID:-//Evok Collection - ECPv6.15.17.1//NONSGML v1.0//EN
CALSCALE:GREGORIAN
METHOD:PUBLISH
X-ORIGINAL-URL:https://evokcollection.com/en/
X-WR-CALDESC:Events for Evok Collection
REFRESH-INTERVAL;VALUE=DURATION:PT1H
X-Robots-Tag:noindex
X-PUBLISHED-TTL:PT1H
BEGIN:VTIMEZONE
TZID:Europe/London
BEGIN:DAYLIGHT
TZOFFSETFROM:+0000
TZOFFSETTO:+0100
TZNAME:BST
DTSTART:20240331T010000
END:DAYLIGHT
BEGIN:STANDARD
TZOFFSETFROM:+0100
TZOFFSETTO:+0000
TZNAME:GMT
DTSTART:20241027T010000
END:STANDARD
BEGIN:DAYLIGHT
TZOFFSETFROM:+0000
TZOFFSETTO:+0100
TZNAME:BST
DTSTART:20250330T010000
END:DAYLIGHT
BEGIN:STANDARD
TZOFFSETFROM:+0100
TZOFFSETTO:+0000
TZNAME:GMT
DTSTART:20251026T010000
END:STANDARD
BEGIN:DAYLIGHT
TZOFFSETFROM:+0000
TZOFFSETTO:+0100
TZNAME:BST
DTSTART:20260329T010000
END:DAYLIGHT
BEGIN:STANDARD
TZOFFSETFROM:+0100
TZOFFSETTO:+0000
TZNAME:GMT
DTSTART:20261025T010000
END:STANDARD
END:VTIMEZONE
BEGIN:VEVENT
DTSTART;VALUE=DATE:20250526
DTEND;VALUE=DATE:20250609
DTSTAMP:20260423T032616
CREATED:20250519T143724Z
LAST-MODIFIED:20250519T151215Z
UID:10000563-1748217600-1749427199@evokcollection.com
SUMMARY:Sweat & Match Lacoste x Brach Pop-up
DESCRIPTION:Sweat And Match\nThe most beautiful encounters are not announced. They are worn. As proof\, this year\, Brach Paris and Lacoste are bringing you a unisex monochrome sweatshirt; a signature item of clothing that allies comfort with understated elegance. The restyled crocodile enters the world of Brach as the symbol of a unique partnership\, both subtle and distinct. \nThis limited-edition sweatshirt is available in sizes XS to XXL from Brach Paris\, the Evok Collection’s e-shop. The sweatshirt is also available at Brach Madrid. \nPop-up at Brach Paris from the 26th of May to the 8th of June. Free admission.
URL:https://evokcollection.com/en/event/pop-up-sweat-lacoste-au-brach-paris/
LOCATION:Brach Paris\, 75016\, France
CATEGORIES:Pop-up at Brach Paris
ATTACH;FMTTYPE=image/png:https://evokcollection.com/wp-content/uploads/2025/05/pop-up-sweat-lacoste-brach-paris-scaled.png
GEO:48.8615812;2.2744242
END:VEVENT
BEGIN:VEVENT
DTSTART;TZID=Europe/London:20250604T080000
DTEND;TZID=Europe/London:20250604T103000
DTSTAMP:20260423T032616
CREATED:20250506T100344Z
LAST-MODIFIED:20250523T151513Z
UID:10000568-1749024000-1749033000@evokcollection.com
SUMMARY:Legend Ladies Breakfast with Sidonie Mérieux
DESCRIPTION:With the complicity of Laura Lesueur\, Nolinski Paris organizes meetings with inspiring personalities from diverse backgrounds. \nWe are delighted to invite you to a Legend Ladies meeting with Sidonie Mérieux\, founder of HeR Value\, a recruitment agency for women directors. She has also developed a training program with EM Lyon in the role of independent director. \nWednesday June 4\, 2025 from 8am to 10.30am \nFree event with registration
URL:https://evokcollection.com/en/event/petit-dejeuner-legend-ladies-avec-sidonie-merieux/
LOCATION:Nolinski Paris\, Avenue de l'Opéra\, Paris\, Département de Paris\, 75001\, France
CATEGORIES:Legend Ladies Breakfasts
ATTACH;FMTTYPE=image/png:https://evokcollection.com/wp-content/uploads/2025/05/legend-ladies-sidonie-merieux-scaled.png
GEO:48.8667241;2.3339412
X-APPLE-STRUCTURED-LOCATION;VALUE=URI;X-ADDRESS=Nolinski Paris Avenue de l'Opéra Paris Département de Paris 75001 France;X-APPLE-RADIUS=500;X-TITLE=Avenue de l'Opéra:geo:2.3339412,48.8667241
END:VEVENT
BEGIN:VEVENT
DTSTART;TZID=Europe/London:20250604T190000
DTEND;TZID=Europe/London:20250604T210000
DTSTAMP:20260423T032616
CREATED:20250417T135952Z
LAST-MODIFIED:20250724T153053Z
UID:10000553-1749063600-1749070800@evokcollection.com
SUMMARY:Meeting with Michel Drucker at Brach Paris
DESCRIPTION:In collaboration with Stéphane Tortora\, Brach Paris hosts monthly encounters with public figures from all walks of life.\nWe are delighted to invite you to a meeting on Wednesday 4 June 2025 with Michel Drucker. A renowned French presenter and journalist\, Michel Drucker is particularly famous for his programme Vivement dimanche\, which he has hosted since 1998. With decades of experience under his belt\, he has left a lasting imprint on French television\, hosting numerous celebrities and iconic programmes. \nWednesday 4 June at 7pm \nFree event with registration
URL:https://evokcollection.com/en/event/rencontre-avec-michel-drucker-au-brach-paris-le-mercredi-4-juin/
LOCATION:Brach Paris\, 75016\, France
CATEGORIES:Meetings @Brach Paris
ATTACH;FMTTYPE=image/png:https://evokcollection.com/wp-content/uploads/2025/04/04-06-25-michel-drucker-1-scaled.png
GEO:48.8615812;2.2744242
END:VEVENT
BEGIN:VEVENT
DTSTART;TZID=Europe/London:20250611T190000
DTEND;TZID=Europe/London:20250611T210000
DTSTAMP:20260423T032616
CREATED:20250212T130759Z
LAST-MODIFIED:20250724T153654Z
UID:10000531-1749668400-1749675600@evokcollection.com
SUMMARY:Coline en Ré charity piano concert at Nolinski Paris by Raphaël Collard
DESCRIPTION:In partnership with the Coline en Ré association\, Evok Collection is holding charity piano concerts featuring young virtuoso artists. \nThis music will be performed in Nolinski Paris and Nolinski Venezia\, two settings where melody resounds in a particularly meaningful way. Coline en Ré offers a combination of world-class classical music and a humanitarian cause dedicated to helping children at risk. Donations collected at the end of each concert and Evok Collection’s contribution will help to “renourish” children from extremely poor families in Madagascar. It costs €10 to save a malnourished child. \nYou are invited to a concert by Raphaël Collard on Wednesday 11th June 2025 at 7pm\, at Nolinski Paris.
URL:https://evokcollection.com/en/event/concert-de-piano-caritatif-au-nolinski-paris-4/
LOCATION:Nolinski Paris\, Avenue de l'Opéra\, Paris\, Département de Paris\, 75001\, France
CATEGORIES:Charity piano concert
ATTACH;FMTTYPE=image/png:https://evokcollection.com/wp-content/uploads/2025/01/nolinski-paris-grand-salon.png
GEO:48.8667241;2.3339412
X-APPLE-STRUCTURED-LOCATION;VALUE=URI;X-ADDRESS=Nolinski Paris Avenue de l'Opéra Paris Département de Paris 75001 France;X-APPLE-RADIUS=500;X-TITLE=Avenue de l'Opéra:geo:2.3339412,48.8667241
END:VEVENT
BEGIN:VEVENT
DTSTART;TZID=Europe/London:20250615T160000
DTEND;TZID=Europe/London:20250615T180000
DTSTAMP:20260423T032616
CREATED:20251013T153649Z
LAST-MODIFIED:20251013T153649Z
UID:10000642-1750003200-1750010400@evokcollection.com
SUMMARY:Showgirl Workshop at Nolinski Paris
DESCRIPTION:Once a month\, Kalon offers “Showgirl” workshops in the cosy and intimate atmosphere of the Grand Salon at the Nolinski Paris.\nThe Kalon method and its various workshops are designed to tone and sculpt the body like a dancer\, without needing to be one. Join the Kalon dancers for an intense Cardio Barre session followed by instruction in an authentic “Showgirl” choreography. \nPROGRAM\n4PM\n30 minutes of Kalon Cardio Barre to tone\, strengthen and sculpt your body\, while warming your muscles up for the choreography afterwards\n4.30PM\nLearning the walk elegantly in heels followed by showgirl choreography\n5.30 – 6PM\nCocktails and conversation \nFor this workshop\, please bring comfortable heels\, leggings or shorts\, bra or crop top and socks.
URL:https://evokcollection.com/en/event/atelier-showgirl-au-nolinski-paris-2-2/2025-06-15/
LOCATION:Nolinski Paris\, Avenue de l'Opéra\, Paris\, Département de Paris\, 75001\, France
CATEGORIES:Showgirl Kalon workshops
ATTACH;FMTTYPE=image/png:https://evokcollection.com/wp-content/uploads/2024/07/ateliers-showgirl-kalon-nolinski-paris.png
GEO:48.8667241;2.3339412
X-APPLE-STRUCTURED-LOCATION;VALUE=URI;X-ADDRESS=Nolinski Paris Avenue de l'Opéra Paris Département de Paris 75001 France;X-APPLE-RADIUS=500;X-TITLE=Avenue de l'Opéra:geo:2.3339412,48.8667241
END:VEVENT
BEGIN:VEVENT
DTSTART;TZID=Europe/London:20250616T194500
DTEND;TZID=Europe/London:20250616T213000
DTSTAMP:20260423T032616
CREATED:20250515T085225Z
LAST-MODIFIED:20250724T153900Z
UID:10000559-1750103100-1750109400@evokcollection.com
SUMMARY:Philosophical meeting with Mathias Barthes at Nolinski Paris
DESCRIPTION:The Grand Salon at the Nolinski Paris is the setting for a monthly discussion between the philosopher Emmanuel Leclercq and public figure. \nA Doctor of Philosophy\, Emmanuel Leclercq teaches philosophy in high schools and the Ethics of AI at the Ecole de Commerce in Paris. He is the founder of “Devenir pour Agir”\, the first French program to feature philosophical interviews with public figures. \nYou are cordially invited to meet the mentalist Mathias Barthes. The event will include a book signing for his book L’expérience\, published on the 8th of January 2025 by Fayard Editions. \nMonday 16th of June at 7pm
URL:https://evokcollection.com/en/event/rencontre-philosophique-animee-par-emmanuel-leclercq-au-nolinski-paris/
LOCATION:Nolinski Paris\, Avenue de l'Opéra\, Paris\, Département de Paris\, 75001\, France
CATEGORIES:Philosophical meetings
ATTACH;FMTTYPE=image/png:https://evokcollection.com/wp-content/uploads/2025/05/new-in-rencontre-philosophique-mathias-barthes.png
GEO:48.8667241;2.3339412
X-APPLE-STRUCTURED-LOCATION;VALUE=URI;X-ADDRESS=Nolinski Paris Avenue de l'Opéra Paris Département de Paris 75001 France;X-APPLE-RADIUS=500;X-TITLE=Avenue de l'Opéra:geo:2.3339412,48.8667241
END:VEVENT
BEGIN:VEVENT
DTSTART;TZID=Europe/London:20250618T180000
DTEND;TZID=Europe/London:20250618T200000
DTSTAMP:20260423T032616
CREATED:20250515T142554Z
LAST-MODIFIED:20250724T154125Z
UID:10000561-1750269600-1750276800@evokcollection.com
SUMMARY:Presentation and book signing of À Toi by the philosopher Emmanuel Leclercq at Brach Paris
DESCRIPTION:You are cordially invited to the official launch and book signing of À Toi by the philosopher Emmanuel Leclercq on the 18th of June 2025 at 6pm at Brach Paris. À Toi is a vibrant appeal to the youth of Europe\, but also to anyone who carries within them that quiet force of hope: inner youth. \nEmmanuel Leclercq is a philosopher\, essayist and lecturer. He teaches philosophy & ethics of AI and is the founder of  “Devenir pour Agir”. \nWednesday 18th June at 6pm
URL:https://evokcollection.com/en/event/presentation-et-signature-du-livre-a-toi-du-philosophe-emmanuel-leclercq-au-brach-paris/
LOCATION:Brach Paris Rue Jean Richepin\, Paris\, Département de Paris\, France\, Rue Jean Richepin\, Paris\, Paris\, 75016\, France
ATTACH;FMTTYPE=image/png:https://evokcollection.com/wp-content/uploads/2025/05/emmanuel-leclercq-signature.png
GEO:48.8615812;2.2744242
X-APPLE-STRUCTURED-LOCATION;VALUE=URI;X-ADDRESS=Brach Paris Rue Jean Richepin Paris Département de Paris France Rue Jean Richepin Paris Paris 75016 France;X-APPLE-RADIUS=500;X-TITLE=Rue Jean Richepin:geo:2.2744242,48.8615812
END:VEVENT
BEGIN:VEVENT
DTSTART;TZID=Europe/London:20250619T193000
DTEND;TZID=Europe/London:20250619T210000
DTSTAMP:20260423T032616
CREATED:20250123T102624Z
LAST-MODIFIED:20250724T154354Z
UID:10000497-1750361400-1750366800@evokcollection.com
SUMMARY:John Gade x Nolinski Paris – piano recital
DESCRIPTION:A series of monthly piano recitals in the Grand Salon\, performed by John Gade\, renowned for his virtuosity and artistic sensitivity.\nAmbassador of the Mediterranean Banque Populaire Foundation\, John Gade is a well-known French pianist\, violinist and composer of international renown. He has won many prestigious prizes\, including first prize in the international Scriabin competition. \nEvery month\, Nolinski Paris vibrates to the rhythm of his rich\, captivating soundscape\, where every note will ring out with grace and emotion. \nWhether you’re a knowledgeable music lover or a curious amateur\, these monthly concerts are a unique opportunity to discover or rediscover the magic of classical music in the elegant and intimate setting of the Nolinski Paris.
URL:https://evokcollection.com/en/event/john-gade-x-nolinski-paris-recital-de-piano-6/
LOCATION:Nolinski Paris\, Avenue de l'Opéra\, Paris\, Département de Paris\, 75001\, France
CATEGORIES:John Gade x Nolinski Paris - piano recital
ATTACH;FMTTYPE=image/png:https://evokcollection.com/wp-content/uploads/2024/07/recital-piano-john-gade.png
GEO:48.8667241;2.3339412
X-APPLE-STRUCTURED-LOCATION;VALUE=URI;X-ADDRESS=Nolinski Paris Avenue de l'Opéra Paris Département de Paris 75001 France;X-APPLE-RADIUS=500;X-TITLE=Avenue de l'Opéra:geo:2.3339412,48.8667241
END:VEVENT
BEGIN:VEVENT
DTSTART;TZID=Europe/London:20250621T100000
DTEND;TZID=Europe/London:20250621T130000
DTSTAMP:20260423T032616
CREATED:20250612T120957Z
LAST-MODIFIED:20250724T154430Z
UID:10000572-1750500000-1750510800@evokcollection.com
SUMMARY:Botanical watercolor workshop at Brach Madrid
DESCRIPTION:We are delighted to welcome you to a workshop with the artisan Kata Zapata\, as part of the Madrid Craft Week. This event celebrates and highlights fine craftsmanship and luxury at a national level. It is supported by some of the most nationally and internationally renowned artisans and brands\, through training\, workshops and unique experiences with the help of the Madrid City Council\, and the tourism\, commerce and hotel and catering delegations. \nDuring this workshop\, you will learn how to paint peonies in watercolor technique\, step by step\, in a relaxed and stimulating atmosphere. \nKata is a botanical watercolor artist and the founder of Save the Date Projects\, known for leading creative workshops across various cities for over five years. \nSaturday 21st of June 2025 from 10am to 1pm \nFee-paying event on registration.
URL:https://evokcollection.com/en/event/painting-workshop-at-brach-madrid/
LOCATION:Brach Madrid\, 28004\, Spain
ATTACH;FMTTYPE=image/png:https://evokcollection.com/wp-content/uploads/2025/06/kata-zapata-madrid-craft-week-scaled.png
GEO:40.4200395;-3.7019354
END:VEVENT
BEGIN:VEVENT
DTSTART;TZID=Europe/London:20250625T110000
DTEND;TZID=Europe/London:20250629T213000
DTSTAMP:20260423T032616
CREATED:20250613T092246Z
LAST-MODIFIED:20250613T094818Z
UID:10000574-1750849200-1751232600@evokcollection.com
SUMMARY:Pop-up House of Ayala at Brach Madrid
DESCRIPTION:We are delighted to welcome you to the pop-up House of Ayala at Brach Madrid from the 25th of June 2025 to the 29th of June 2025. \nHouse of Ayala is a Firm that fuses Art\, Architecture and Fashion\, founded in 2015 by the Mexican fashion designer Jorge Ayala de Riberolles. Each Ayala garment is a manifesto of creativity. The vision of Jorge Ayala reinvents silhouettes through architecture using disconcerting materials with avant-garde designs that show the constant evolution within his creation\, establishing himself as one of the most avant-garde figures in the industry. \nDuring this pop-up\, you will discover the carrés and scarves\, 100% silk\, handcrafted in Lake Como. \nWednesday 25th June 2025 to Sunday 29th June 2025\nWednesday – Friday : 1pm – 9.30pm\nSaturday – Sunday : 11am – 9pm
URL:https://evokcollection.com/en/event/pop-up-house-of-ayala-au-brach-madrid/
LOCATION:Brach Madrid\, 28004\, Spain
ATTACH;FMTTYPE=image/png:https://evokcollection.com/wp-content/uploads/2025/06/pop-up-ayala-vert-new-in.png
GEO:40.4200395;-3.7019354
END:VEVENT
BEGIN:VEVENT
DTSTART;TZID=Europe/London:20250625T193000
DTEND;TZID=Europe/London:20250625T210000
DTSTAMP:20260423T032616
CREATED:20250604T142412Z
LAST-MODIFIED:20250724T154547Z
UID:10000570-1750879800-1750885200@evokcollection.com
SUMMARY:Brilliant Women Circle with Valentina Suárez Zuloaga & Margarita Ruyra de Andrade at Brach Madrid
DESCRIPTION:We are delighted to welcome you to a conversation with Valentina Suárez Zuloaga and Margarita Ruyra de Andrade as part of the Brilliant Women Circle\, a monthly conversation series led by Sara Zaldívar that highlights accomplished women across diverse fields. Each session offers an intimate conversation with a featured guest\, sharing their personal journey\, lessons learned\, and the challenges they have overcome along the way. \nValentina is the founder and CEO of ES Fascinante\, leading the project with a sustainable and ethical vision. Margarita\, co-founder\, brings her expertise in art\, design\, and culture to the brand. \nWednesday 25th of June at 7.30pm \nFree event with registration
URL:https://evokcollection.com/en/event/brilliant-women-circle-avec-valentina-suarez-zuloaga-et-margarita-ruyra-de-andrade-25-juin-2025/
LOCATION:Brach Madrid\, 28004\, Spain
CATEGORIES:Brilliant Women Circle
ATTACH;FMTTYPE=image/png:https://evokcollection.com/wp-content/uploads/2025/06/new-in-sara-x-valentina-et-margarita-scaled.png
GEO:40.4200395;-3.7019354
END:VEVENT
END:VCALENDAR