BEGIN:VCALENDAR
VERSION:2.0
PRODID:-//Evok Collection - ECPv6.15.17.1//NONSGML v1.0//EN
CALSCALE:GREGORIAN
METHOD:PUBLISH
X-ORIGINAL-URL:https://evokcollection.com/en/
X-WR-CALDESC:Events for Evok Collection
REFRESH-INTERVAL;VALUE=DURATION:PT1H
X-Robots-Tag:noindex
X-PUBLISHED-TTL:PT1H
BEGIN:VTIMEZONE
TZID:Europe/London
BEGIN:DAYLIGHT
TZOFFSETFROM:+0000
TZOFFSETTO:+0100
TZNAME:BST
DTSTART:20240331T010000
END:DAYLIGHT
BEGIN:STANDARD
TZOFFSETFROM:+0100
TZOFFSETTO:+0000
TZNAME:GMT
DTSTART:20241027T010000
END:STANDARD
BEGIN:DAYLIGHT
TZOFFSETFROM:+0000
TZOFFSETTO:+0100
TZNAME:BST
DTSTART:20250330T010000
END:DAYLIGHT
BEGIN:STANDARD
TZOFFSETFROM:+0100
TZOFFSETTO:+0000
TZNAME:GMT
DTSTART:20251026T010000
END:STANDARD
BEGIN:DAYLIGHT
TZOFFSETFROM:+0000
TZOFFSETTO:+0100
TZNAME:BST
DTSTART:20260329T010000
END:DAYLIGHT
BEGIN:STANDARD
TZOFFSETFROM:+0100
TZOFFSETTO:+0000
TZNAME:GMT
DTSTART:20261025T010000
END:STANDARD
END:VTIMEZONE
BEGIN:VEVENT
DTSTART;TZID=Europe/London:20250701T190000
DTEND;TZID=Europe/London:20250701T210000
DTSTAMP:20260423T014901
CREATED:20250522T093138Z
LAST-MODIFIED:20250724T153221Z
UID:10000565-1751396400-1751403600@evokcollection.com
SUMMARY:Champions x Brach with Nathan Huet on the 1st of July at Brach Paris
DESCRIPTION:Brach Paris organises meetings with top athletes who are shaping the sport of today and tomorrow. These champions share their journey\, their successes and their challenges\, offering valuable lessons. \nWe are delighted to invite you to a meeting with Nathan Huet\, a racing driver whose performances have been noted in renowned championships such as the Porsche Sprint Challenge and the Lamera Cup. \nTuesday 1st of July 2025 at 7pm  \nÉvénement gratuit sur inscription
URL:https://evokcollection.com/en/event/champions-x-brach-avec-nathan-huet-le-1er-juillet-au-brach-paris/
LOCATION:Brach Paris\, 75016\, France
CATEGORIES:Champions x Brach Paris
ATTACH;FMTTYPE=image/png:https://evokcollection.com/wp-content/uploads/2025/05/nathan-huet-new-in-x1.png
GEO:48.8615812;2.2744242
END:VEVENT
END:VCALENDAR