BEGIN:VCALENDAR
VERSION:2.0
PRODID:-//Evok Collection - ECPv6.15.17.1//NONSGML v1.0//EN
CALSCALE:GREGORIAN
METHOD:PUBLISH
X-WR-CALNAME:Evok Collection
X-ORIGINAL-URL:https://evokcollection.com/en/
X-WR-CALDESC:Events for Evok Collection
REFRESH-INTERVAL;VALUE=DURATION:PT1H
X-Robots-Tag:noindex
X-PUBLISHED-TTL:PT1H
BEGIN:VTIMEZONE
TZID:Europe/London
BEGIN:DAYLIGHT
TZOFFSETFROM:+0000
TZOFFSETTO:+0100
TZNAME:BST
DTSTART:20240331T010000
END:DAYLIGHT
BEGIN:STANDARD
TZOFFSETFROM:+0100
TZOFFSETTO:+0000
TZNAME:GMT
DTSTART:20241027T010000
END:STANDARD
BEGIN:DAYLIGHT
TZOFFSETFROM:+0000
TZOFFSETTO:+0100
TZNAME:BST
DTSTART:20250330T010000
END:DAYLIGHT
BEGIN:STANDARD
TZOFFSETFROM:+0100
TZOFFSETTO:+0000
TZNAME:GMT
DTSTART:20251026T010000
END:STANDARD
BEGIN:DAYLIGHT
TZOFFSETFROM:+0000
TZOFFSETTO:+0100
TZNAME:BST
DTSTART:20260329T010000
END:DAYLIGHT
BEGIN:STANDARD
TZOFFSETFROM:+0100
TZOFFSETTO:+0000
TZNAME:GMT
DTSTART:20261025T010000
END:STANDARD
END:VTIMEZONE
BEGIN:VEVENT
DTSTART;VALUE=DATE:20250922
DTEND;VALUE=DATE:20251006
DTSTAMP:20260422T210045
CREATED:20250828T153349Z
LAST-MODIFIED:20250828T154122Z
UID:10000595-1758499200-1759708799@evokcollection.com
SUMMARY:Hotel Tapa Tour at Brach Madrid
DESCRIPTION:The Hotel Tapa Tour festival celebrates ten years of commitment to promoting hotel gastronomy in Madrid and Barcelona\, ​​highlighting the tapa as a creative expression of haute cuisine. This event invites you on a gastronomic journey through some of the capital’s most prestigious hotels\, each offering up to four signature tapas reflecting its culinary identity.\nFor this edition\, Brach Madrid celebrates the art of the gastronomic tapa. \nMore information at hoteltapatour.com. \nFrom September 22 to October 5
URL:https://evokcollection.com/en/event/hotel-tapa-tour-at-brach-madrid/
LOCATION:Brach Madrid\, 28004\, Spain
ATTACH;FMTTYPE=image/png:https://evokcollection.com/wp-content/uploads/2025/08/hotel-tapa-tour-brach-madrid-scaled.png
GEO:40.4200395;-3.7019354
END:VEVENT
BEGIN:VEVENT
DTSTART;VALUE=DATE:20250924
DTEND;VALUE=DATE:20251116
DTSTAMP:20260422T210045
CREATED:20250709T134922Z
LAST-MODIFIED:20250916T090451Z
UID:10000576-1758672000-1763251199@evokcollection.com
SUMMARY:Exhibition La boxe fait son cinéma at Brach Paris
DESCRIPTION:In partnership with Belgian Golden Gloves\, Brach Paris is presenting the ‘La boxe fait son cinéma’ exhibition.\nTwenty photographies\, taken from the book published by Editions Chronica with a foreword by Jean-Paul Belmondo\, will be on display in the hotel lobby. \nMore than fifty actors\, including Jean Dujardin\, François Damiens\, Philippe Lacheau\, José Garcia\, Gérard Lanvin\, and many others\, pay tribute to the noble art through these photographs. \nFrom the 24th of September to the 15th of November
URL:https://evokcollection.com/en/event/exhibition-la-boxe-fait-son-cinema-at-brach-paris/
LOCATION:Brach Paris Rue Jean Richepin\, Paris\, Département de Paris\, France\, Rue Jean Richepin\, Paris\, Paris\, 75016\, France
ATTACH;FMTTYPE=image/png:https://evokcollection.com/wp-content/uploads/2025/07/new-in-la-boxe-fait-son-cinema.png
GEO:48.8615812;2.2744242
X-APPLE-STRUCTURED-LOCATION;VALUE=URI;X-ADDRESS=Brach Paris Rue Jean Richepin Paris Département de Paris France Rue Jean Richepin Paris Paris 75016 France;X-APPLE-RADIUS=500;X-TITLE=Rue Jean Richepin:geo:2.2744242,48.8615812
END:VEVENT
BEGIN:VEVENT
DTSTART;TZID=Europe/London:20251002T190000
DTEND;TZID=Europe/London:20251002T220000
DTSTAMP:20260422T210045
CREATED:20250919T143414Z
LAST-MODIFIED:20250919T143705Z
UID:10000623-1759431600-1759442400@evokcollection.com
SUMMARY:Anaë Gin x Fever-Tree at Nolinski Paris
DESCRIPTION:Anaë Gin\, unveils its first limited edition inspired by the sea\, Iodyssée\, at Nolinski Paris. To celebrate this launch\, three signature cocktails will be presented exclusively\, crafted with the excellence of Fever-Tree mixers to highlight the full aromatic richness of this exceptional gin. \nThese signatures cocktails will join the Grand Salon’s winter menu\, offering a refined experience in an elegant setting\, blending cozy ambiance with the pinaist’s melodies\, who perfroms Thursday through Saturday evenings. \nThursday 2 October à 7pm. \nEvent open to the public.
URL:https://evokcollection.com/en/event/anae-gin-x-fever-tree-at-nolinski-paris/
LOCATION:Nolinski Paris\, Avenue de l'Opéra\, Paris\, Département de Paris\, 75001\, France
ATTACH;FMTTYPE=image/png:https://evokcollection.com/wp-content/uploads/2025/09/group-4.png
GEO:48.8667241;2.3339412
X-APPLE-STRUCTURED-LOCATION;VALUE=URI;X-ADDRESS=Nolinski Paris Avenue de l'Opéra Paris Département de Paris 75001 France;X-APPLE-RADIUS=500;X-TITLE=Avenue de l'Opéra:geo:2.3339412,48.8667241
END:VEVENT
BEGIN:VEVENT
DTSTART;TZID=Europe/London:20251008T190000
DTEND;TZID=Europe/London:20251008T210000
DTSTAMP:20260422T210045
CREATED:20250918T141614Z
LAST-MODIFIED:20251013T152858Z
UID:10000621-1759950000-1759957200@evokcollection.com
SUMMARY:Champions x Brach Paris with Sidney Govou
DESCRIPTION:Brach Paris organizes meetings with top athletes who are shaping the sport of today and tomorrow. These champions share their journeys\, their successes and their challenges\, offering invaluable lessons. \nWe are delighted to invite you to a meeting in the company of French international footballer\, Sidney Govou\, star player for Olympique Lyonnais from 1999 to 2010 and seven-time French champion from 2002 to 2008. \nSelected for the French national team between 2002 and 2010\, Sidney Govou won the Confederations Cup in 2003 and was a World Cup finalist in 2006.\nSince retiring in 2017\, Sidney has become THE voice of the UEFA Champions League on CANAL+. \nFree event upon registration.
URL:https://evokcollection.com/en/event/champions-x-brach-paris-avec-sidney-govou/
LOCATION:Brach Paris\, 75016\, France
CATEGORIES:Champions x Brach Paris
ATTACH;FMTTYPE=image/png:https://evokcollection.com/wp-content/uploads/2025/09/sidney-govou-new-in-1-scaled.png
GEO:48.8615812;2.2744242
END:VEVENT
BEGIN:VEVENT
DTSTART;TZID=Europe/London:20251009T160000
DTEND;TZID=Europe/London:20251012T180000
DTSTAMP:20260422T210045
CREATED:20250923T145746Z
LAST-MODIFIED:20250929T132048Z
UID:10000625-1760025600-1760292000@evokcollection.com
SUMMARY:Pop-up Shopping & Drinks at Brach Paris
DESCRIPTION:Pop-up Shopping & Drinks by Amandine Lugnier \nJewellery\, accessories\, ready-to-wear clothing and nutricosmetics: discover six Parisian brands coming together to celebrate French style\, expertise and art de vivre. \n1st floor terrace \nThursday 09 & Friday 10 October: 4pm to 8pm \nSaturday 11 and Sunday 12 October: 11am to 6pm \n 
URL:https://evokcollection.com/en/event/pop-up-shopping-drinks-au-brach-paris/
LOCATION:Brach Paris\, 75016\, France
CATEGORIES:Pop-up at Brach Paris
ATTACH;FMTTYPE=image/png:https://evokcollection.com/wp-content/uploads/2025/09/new-in-amandine-lugnier-scaled.png
GEO:48.8615812;2.2744242
END:VEVENT
BEGIN:VEVENT
DTSTART;TZID=Europe/London:20251009T193000
DTEND;TZID=Europe/London:20251009T220000
DTSTAMP:20260422T210045
CREATED:20250912T142426Z
LAST-MODIFIED:20251013T152802Z
UID:10000605-1760038200-1760047200@evokcollection.com
SUMMARY:John Gade x Nolinski Paris - piano recital
DESCRIPTION:A series of monthly piano recitals in the Grand Salon\, performed by John Gade\, renowned for his virtuosity and artistic sensitivity. \nAmbassador of the Mediterranean Banque Populaire Foundation\, John Gade is a well-known French pianist\, violinist and composer of international renown. He has won many prestigious prizes\, including first prize in the international Scriabin competition. \nEvery month\, Nolinski Paris vibrates to the rhythm of his rich\, captivating soundscape\, where every note will ring out with grace and emotion. \nWhether you’re a knowledgeable music lover or a curious amateur\, these monthly concerts are a unique opportunity to discover or rediscover the magic of classical music in the elegant and intimate setting of the Nolinski Paris. \nFree event with registration.
URL:https://evokcollection.com/en/event/john-gade-x-nolinski-paris-piano-recital/
LOCATION:Nolinski Paris\, Avenue de l'Opéra\, Paris\, Département de Paris\, 75001\, France
CATEGORIES:John Gade x Nolinski Paris - piano recital
ATTACH;FMTTYPE=image/png:https://evokcollection.com/wp-content/uploads/2025/01/recital-piano-john-gade.png
GEO:48.8667241;2.3339412
X-APPLE-STRUCTURED-LOCATION;VALUE=URI;X-ADDRESS=Nolinski Paris Avenue de l'Opéra Paris Département de Paris 75001 France;X-APPLE-RADIUS=500;X-TITLE=Avenue de l'Opéra:geo:2.3339412,48.8667241
END:VEVENT
BEGIN:VEVENT
DTSTART;TZID=Europe/London:20251012T160000
DTEND;TZID=Europe/London:20251012T180000
DTSTAMP:20260422T210045
CREATED:20251013T153649Z
LAST-MODIFIED:20251013T153649Z
UID:10000643-1760284800-1760292000@evokcollection.com
SUMMARY:Showgirl Workshop at Nolinski Paris
DESCRIPTION:Once a month\, Kalon offers “Showgirl” workshops in the cosy and intimate atmosphere of the Grand Salon at the Nolinski Paris.\nThe Kalon method and its various workshops are designed to tone and sculpt the body like a dancer\, without needing to be one. Join the Kalon dancers for an intense Cardio Barre session followed by instruction in an authentic “Showgirl” choreography. \nPROGRAM\n4PM\n30 minutes of Kalon Cardio Barre to tone\, strengthen and sculpt your body\, while warming your muscles up for the choreography afterwards\n4.30PM\nLearning the walk elegantly in heels followed by showgirl choreography\n5.30 – 6PM\nCocktails and conversation \nFor this workshop\, please bring comfortable heels\, leggings or shorts\, bra or crop top and socks.
URL:https://evokcollection.com/en/event/atelier-showgirl-au-nolinski-paris-2-2/2025-10-12/
LOCATION:Nolinski Paris\, Avenue de l'Opéra\, Paris\, Département de Paris\, 75001\, France
CATEGORIES:Showgirl Kalon workshops
ATTACH;FMTTYPE=image/png:https://evokcollection.com/wp-content/uploads/2024/07/ateliers-showgirl-kalon-nolinski-paris.png
GEO:48.8667241;2.3339412
X-APPLE-STRUCTURED-LOCATION;VALUE=URI;X-ADDRESS=Nolinski Paris Avenue de l'Opéra Paris Département de Paris 75001 France;X-APPLE-RADIUS=500;X-TITLE=Avenue de l'Opéra:geo:2.3339412,48.8667241
END:VEVENT
BEGIN:VEVENT
DTSTART;TZID=Europe/London:20251013T194500
DTEND;TZID=Europe/London:20251013T213000
DTSTAMP:20260422T210045
CREATED:20250905T095221Z
LAST-MODIFIED:20251013T152608Z
UID:10000597-1760384700-1760391000@evokcollection.com
SUMMARY:Philosophical meeting with Stanislas de Quercize led by Emmanuel Leclercq
DESCRIPTION:The Grand Salon at the Nolinski Paris is the setting for a monthly discussion between the philosopher Emmanuel Leclercq\, founder of  “Devenir pour Agir”\, and a public figure. On Monday the 13th of October\, you are cordially invited to meet Stanislas de Quercize. The event will include a book signing for his book “Emparadiser la vie”\, published on the 3rd June 2025 by Alisio. \nStanislas de Quercize is an entrepreneur\, investor\, and board member in the luxury and international markets. Former CEO of Cartier International\, Van Cleef & Arpels International\, and Montblanc USA and France\, he now supports startups through his family office SAVIH\, sits on the boards of Messika\, Louboutin\, and Barnes\, and is involved as a mentor for entrepreneurial and sustainable initiatives. \nMonday 13 October 2025 \nFree event registration required
URL:https://evokcollection.com/en/event/rencontre-philosophique-avec-stanislas-de-quercize-animee-par-emmanuel-leclercq/
LOCATION:Nolinski Paris\, Avenue de l'Opéra\, Paris\, Département de Paris\, 75001\, France
CATEGORIES:Philosophical meetings
ATTACH;FMTTYPE=image/png:https://evokcollection.com/wp-content/uploads/2025/09/rencontre-philosophique-stanislas-de-quercize-new-in.png
GEO:48.8667241;2.3339412
X-APPLE-STRUCTURED-LOCATION;VALUE=URI;X-ADDRESS=Nolinski Paris Avenue de l'Opéra Paris Département de Paris 75001 France;X-APPLE-RADIUS=500;X-TITLE=Avenue de l'Opéra:geo:2.3339412,48.8667241
END:VEVENT
BEGIN:VEVENT
DTSTART;TZID=Europe/London:20251014T190000
DTEND;TZID=Europe/London:20251014T213000
DTSTAMP:20260422T210045
CREATED:20250729T120514Z
LAST-MODIFIED:20251015T091654Z
UID:10000582-1760468400-1760477400@evokcollection.com
SUMMARY:Wellness Masterclass led by Valérie Espinasse "Boost your immunity"
DESCRIPTION:We are delighted to welcome you back on Tuesday 14th October for a Wellness Masterclass on the theme of ‘Boost your immunity’\, led by micro-nutritionist Valérie Espinasse. \nValérie Espinasse\, doctor of pharmacy\, micronutritionist\, specialising in personalised health for over 20 years\, will explain:\n– The pillars of your immunity\n– The importance of your microbiota\n– The benefits of micronutrition for optimising your immunity \nTuesday 14th October 2025 at 7pm. \n 
URL:https://evokcollection.com/en/event/wellness-masterclass-led-by-valerie-espinasse-boost-your-immunity/
LOCATION:Brach Paris\, 75016\, France
CATEGORIES:Wellness Masterclass
ATTACH;FMTTYPE=image/png:https://evokcollection.com/wp-content/uploads/2025/01/valerie-espinasse-fr-page-events.png
GEO:48.8615812;2.2744242
END:VEVENT
BEGIN:VEVENT
DTSTART;TZID=Europe/London:20251015T190000
DTEND;TZID=Europe/London:20251015T220000
DTSTAMP:20260422T210045
CREATED:20251008T153303Z
LAST-MODIFIED:20251021T130614Z
UID:10000633-1760554800-1760565600@evokcollection.com
SUMMARY:Poetic Season at Nolinski Paris
DESCRIPTION:Nolinski Paris is partnering with the iconic Printemps des Poètes\, a major event celebrating French-language poetry\, for a first edition dedicated to the beauty of words and the vibrancy of language: Poetic Season. \nDuring this event\, three poets will present their works: \nLaura Lutard – Née tissée\, Éditions Bruno Doucey\nChristophe Manon – Élégies mineures\, Éditions Nous\nBaptiste Pizzinat – Mamie raciste\, Le Castor Astral \nWednesday 15 October at 7pm. \nFree event\, registration required
URL:https://evokcollection.com/en/event/la-rentree-poetique-au-nolinski-paris/
LOCATION:Nolinski Paris\, Avenue de l'Opéra\, Paris\, Département de Paris\, 75001\, France
ATTACH;FMTTYPE=image/png:https://evokcollection.com/wp-content/uploads/2025/01/nolinski-paris-grand-salon.png
GEO:48.8667241;2.3339412
X-APPLE-STRUCTURED-LOCATION;VALUE=URI;X-ADDRESS=Nolinski Paris Avenue de l'Opéra Paris Département de Paris 75001 France;X-APPLE-RADIUS=500;X-TITLE=Avenue de l'Opéra:geo:2.3339412,48.8667241
END:VEVENT
BEGIN:VEVENT
DTSTART;TZID=Europe/London:20251015T193000
DTEND;TZID=Europe/London:20251015T210000
DTSTAMP:20260422T210045
CREATED:20250925T143004Z
LAST-MODIFIED:20251016T144130Z
UID:10000627-1760556600-1760562000@evokcollection.com
SUMMARY:Brilliant Women Circle x Brach Madrid with Monica Sada led by Sara Zaldivar
DESCRIPTION:We are delighted to welcome you to a conversation with Monica Sada\, as part of the Brilliant Women Circle\, a monthly conversation series led by Sara Zaldívar that highlights accomplished women across diverse fields. Each session offers an intimate conversation with a featured guest\, sharing their personal journey\, lessons learned\, and the challenges they have overcome along the way. \nAfter seven years in New York’s banking sector\, Mónica Sada founded UNICSKIN in 2017\, inspired by her medical family heritage and her own skin concerns. Her mission: to make luxury beauty accessible\, natural\, and sustainable by combining cutting-edge technology with biotechnological dermocosmetics. Now present in over 30 countries\, the brand is backed by world-renowned doctors\, has earned more than 25 international awards\, and is celebrated by leading media outlets. Named in London the world’s best skincare and technology brand for three consecutive years\, UNICSKIN has revolutionized the industry by bringing the professional clinic experience into the home. \nWednesday 15 October 2025 at 7:30pm \nFree event with registration
URL:https://evokcollection.com/en/event/brilliant-women-circle-x-brach-madrid-avec-monica-sada-anime-par-sara-zaldivar/
LOCATION:Brach Madrid\, 28004\, Spain
CATEGORIES:Brilliant Women Circle
ATTACH;FMTTYPE=image/png:https://evokcollection.com/wp-content/uploads/2025/09/sara-x-monica-sada-scaled.png
GEO:40.4200395;-3.7019354
END:VEVENT
BEGIN:VEVENT
DTSTART;TZID=Europe/London:20251018T150000
DTEND;TZID=Europe/London:20251018T190000
DTSTAMP:20260422T210045
CREATED:20250918T091817Z
LAST-MODIFIED:20251017T123022Z
UID:10000613-1760799600-1760814000@evokcollection.com
SUMMARY:Evok Collection Workshops x Brach Madrid
DESCRIPTION:Evok Collection’s masterclasses are back with the official launch of their very first edition at Brach Madrid.\nLet yourself be guided through exciting and gourmet masterclasses for a rich and authentic immersion in Spanish cuisine\, pastry making and mixology. \nCooking Masterclass: 5:00 p.m. – 7:00 p.m. / €90 \nTo register\, please click on this link.
URL:https://evokcollection.com/en/event/les-ateliers-evok-collection-x-brach-madrid/
LOCATION:Brach Madrid\, 28004\, Spain
ATTACH;FMTTYPE=image/png:https://evokcollection.com/wp-content/uploads/2025/08/hotel-tapa-tour-brach-madrid-scaled.png
GEO:40.4200395;-3.7019354
END:VEVENT
BEGIN:VEVENT
DTSTART;TZID=Europe/London:20251021T080000
DTEND;TZID=Europe/London:20251021T103000
DTSTAMP:20260422T210045
CREATED:20250723T124857Z
LAST-MODIFIED:20251021T130526Z
UID:10000579-1761033600-1761042600@evokcollection.com
SUMMARY:Legend Ladies breakfast with Marie-Pierre Rixain
DESCRIPTION:With the complicity of Laura Lesueur\, Nolinski Paris organizes meetings with inspiring personalities from diverse backgrounds. \nWe are delighted to invite you to a Legend Ladies meeting with Marie-Pierre Rixain\, former chairwoman of the Women’s Rights Delegation at the National Assembly and winner of the 2023 Woman of Political Influence Award. \nTuesday 21st of October from 8:00am to 10:30am \nPaid event
URL:https://evokcollection.com/en/event/legend-ladies-breakfast-with-marie-pierre-rixain-2/
LOCATION:Nolinski Paris\, Avenue de l'Opéra\, Paris\, Département de Paris\, 75001\, France
CATEGORIES:Legend Ladies Breakfasts
ATTACH;FMTTYPE=image/png:https://evokcollection.com/wp-content/uploads/2025/07/legend-ladies-marie-pierre-rixain-new-in-scaled.png
GEO:48.8667241;2.3339412
X-APPLE-STRUCTURED-LOCATION;VALUE=URI;X-ADDRESS=Nolinski Paris Avenue de l'Opéra Paris Département de Paris 75001 France;X-APPLE-RADIUS=500;X-TITLE=Avenue de l'Opéra:geo:2.3339412,48.8667241
END:VEVENT
BEGIN:VEVENT
DTSTART;TZID=Europe/London:20251021T190000
DTEND;TZID=Europe/London:20251021T203000
DTSTAMP:20260422T210045
CREATED:20250910T123210Z
LAST-MODIFIED:20251021T130426Z
UID:10000601-1761073200-1761078600@evokcollection.com
SUMMARY:Conversation with enchanting people with Luc Deperrois led by Laurence Benaïm
DESCRIPTION:Nolinski Paris and Laurence Benaïm have devised a meeting place for inspired and inspiring designers. From fashion to literature\, from design to flowers\, this is a tribute to craftsmanship and the art of brightening up everyday life. \nYou are invited to come and meet Luc Deperrois\, Artistic Director at Maison Stéphane Chapelle. For more than 25 years at the Palais Royal\, Stéphane Chapelle has been a benchmark for demanding customers in search of exceptional flowers. \nTuesday 21 October 2025 at 7pm \nFree event with registration
URL:https://evokcollection.com/en/event/conversation-avec-des-enchanteurs-avec-luc-deperrois-animee-par-laurence-benaim/
LOCATION:Nolinski Paris\, Avenue de l'Opéra\, Paris\, Département de Paris\, 75001\, France
CATEGORIES:Conversations with enchanting people
ATTACH;FMTTYPE=image/png:https://evokcollection.com/wp-content/uploads/2025/01/conversations-enchanteur-luc-deperrois-scaled.png
GEO:48.8667241;2.3339412
X-APPLE-STRUCTURED-LOCATION;VALUE=URI;X-ADDRESS=Nolinski Paris Avenue de l'Opéra Paris Département de Paris 75001 France;X-APPLE-RADIUS=500;X-TITLE=Avenue de l'Opéra:geo:2.3339412,48.8667241
END:VEVENT
BEGIN:VEVENT
DTSTART;VALUE=DATE:20251022
DTEND;VALUE=DATE:20251027
DTSTAMP:20260422T210045
CREATED:20250828T150816Z
LAST-MODIFIED:20250922T101703Z
UID:10000593-1761091200-1761523199@evokcollection.com
SUMMARY:Venice Cocktail Week at Nolinski Venezia
DESCRIPTION:From October 22 to 26\, 2025\, Venice will host the fourth edition of Venice Cocktail Week\, an event dedicated to the discovery and expertise of mixology. In a spirit of celebration\, this week dedicated to the art of cocktail offers an itinerary through various venues in the Serenissima: prestigious hotel bars\, cocktail lounges\, and renowned partner venues.\nFor this occasion\, 31 selected establishments will unveil a unique cocktail menu. \nIt is in the prestigious Bar Bibliotheca\, a secret address with a cozy atmosphere\, that bartenders Diego Andrea Busoli and Marco Rubegni\, head barman\, created the signature cocktail “From Paris to Venice.” A creation that pays homage to the multitude of works of art surrounding the bar\, resulting in a composition that is fresh\, structured\, and refined. \nThis fresh cocktail with a hint of lemon invades and warms the palate. It embodies an invitation to contemplation\, a precious pause. This creation is best savored slowly\, in the enveloping setting of the Bar Bibliothèque. \nAll information about Venice Cocktail Week will be communicated via the Instagram accounts @venicecocktailweekofficial @nolinskivenezia and on the website venicecocktailweek.it.
URL:https://evokcollection.com/en/event/venice-cocktail-week-au-nolinski-venezia/
LOCATION:Nolinski Venezia\, 30124\, Italy
ATTACH;FMTTYPE=image/png:https://evokcollection.com/wp-content/uploads/2025/08/new-in-venice-cocktail-week-scaled.png
GEO:45.4329337;12.3347398
END:VEVENT
BEGIN:VEVENT
DTSTART;TZID=Europe/London:20251030T200000
DTEND;TZID=Europe/London:20251030T220000
DTSTAMP:20260422T210045
CREATED:20251020T085112Z
LAST-MODIFIED:20251127T164107Z
UID:10000649-1761854400-1761861600@evokcollection.com
SUMMARY:Mahani Mezcal x Nolinski Paris - Día de los Muertos
DESCRIPTION:For one night only\, Nolinski Restaurant and Grand Salon at Nolinski Paris will be adorned in the colors of Día de los Muertos.  \nIn partnership with Mahani Mezcal\, this evening invites you on a unique sensory journey\, where elegance blends with light and every detail celebrates the beauty of an ancient ritual. \nIndulge in a special menu created by Philip Chronopoulos\, accompanied by a complimentary cocktail. \nPriority access to the Grand Salon after dinner for the DJ set and a complimentary cocktail. \nMenu – €80 per person \nThursday 30 October\, from 8pm
URL:https://evokcollection.com/en/event/mahani-mezcal-x-nolinski-paris-dia-de-los-muertos/
LOCATION:Nolinski Paris\, Avenue de l'Opéra\, Paris\, Département de Paris\, 75001\, France
ATTACH;FMTTYPE=image/png:https://evokcollection.com/wp-content/uploads/2025/10/header-dia-2.png
GEO:48.8667241;2.3339412
X-APPLE-STRUCTURED-LOCATION;VALUE=URI;X-ADDRESS=Nolinski Paris Avenue de l'Opéra Paris Département de Paris 75001 France;X-APPLE-RADIUS=500;X-TITLE=Avenue de l'Opéra:geo:2.3339412,48.8667241
END:VEVENT
END:VCALENDAR