BEGIN:VCALENDAR
VERSION:2.0
PRODID:-//Evok Collection - ECPv6.15.17.1//NONSGML v1.0//EN
CALSCALE:GREGORIAN
METHOD:PUBLISH
X-ORIGINAL-URL:https://evokcollection.com/en/
X-WR-CALDESC:Events for Evok Collection
REFRESH-INTERVAL;VALUE=DURATION:PT1H
X-Robots-Tag:noindex
X-PUBLISHED-TTL:PT1H
BEGIN:VTIMEZONE
TZID:Europe/London
BEGIN:DAYLIGHT
TZOFFSETFROM:+0000
TZOFFSETTO:+0100
TZNAME:BST
DTSTART:20240331T010000
END:DAYLIGHT
BEGIN:STANDARD
TZOFFSETFROM:+0100
TZOFFSETTO:+0000
TZNAME:GMT
DTSTART:20241027T010000
END:STANDARD
BEGIN:DAYLIGHT
TZOFFSETFROM:+0000
TZOFFSETTO:+0100
TZNAME:BST
DTSTART:20250330T010000
END:DAYLIGHT
BEGIN:STANDARD
TZOFFSETFROM:+0100
TZOFFSETTO:+0000
TZNAME:GMT
DTSTART:20251026T010000
END:STANDARD
BEGIN:DAYLIGHT
TZOFFSETFROM:+0000
TZOFFSETTO:+0100
TZNAME:BST
DTSTART:20260329T010000
END:DAYLIGHT
BEGIN:STANDARD
TZOFFSETFROM:+0100
TZOFFSETTO:+0000
TZNAME:GMT
DTSTART:20261025T010000
END:STANDARD
BEGIN:DAYLIGHT
TZOFFSETFROM:+0000
TZOFFSETTO:+0100
TZNAME:BST
DTSTART:20270328T010000
END:DAYLIGHT
BEGIN:STANDARD
TZOFFSETFROM:+0100
TZOFFSETTO:+0000
TZNAME:GMT
DTSTART:20271031T010000
END:STANDARD
END:VTIMEZONE
BEGIN:VEVENT
DTSTART;VALUE=DATE:20251119
DTEND;VALUE=DATE:20260118
DTSTAMP:20260422T162345
CREATED:20251015T093100Z
LAST-MODIFIED:20251106T143341Z
UID:10000647-1763510400-1768694399@evokcollection.com
SUMMARY:Exhibition "Maridaje" by Myriam & Nicolás Fontaneda
DESCRIPTION:The exhibition explores the rare and sincere encounter between two artists united by a filial bond\, who transform the canvas into a space for dialogue\, trust and freedom. Myriam Fontaneda offers her works to Nicolás\, who adds his own vision without erasing hers – a balancing act of respect where creation becomes sharing.
URL:https://evokcollection.com/en/event/lexposition-fontaneda-a-quatre-mains/
LOCATION:Brach Madrid\, 28004\, Spain
ATTACH;FMTTYPE=image/jpeg:https://evokcollection.com/wp-content/uploads/2025/10/dsc00867-bd.jpg
GEO:40.4200395;-3.7019354
END:VEVENT
BEGIN:VEVENT
DTSTART;TZID=Europe/London:20260108T193000
DTEND;TZID=Europe/London:20260108T220000
DTSTAMP:20260422T162345
CREATED:20250917T091532Z
LAST-MODIFIED:20260216T130620Z
UID:10000611-1767900600-1767909600@evokcollection.com
SUMMARY:John Gade x Nolinski Paris - piano recital
DESCRIPTION:A series of monthly piano recitals in the Grand Salon\, performed by John Gade\, renowned for his virtuosity and artistic sensitivity. \nAmbassador of the Mediterranean Banque Populaire Foundation\, John Gade is a well-known French pianist\, violinist and composer of international renown. He has won many prestigious prizes\, including first prize in the international Scriabin competition. \nEvery month\, Nolinski Paris vibrates to the rhythm of his rich\, captivating soundscape\, where every note will ring out with grace and emotion. \nWhether you’re a knowledgeable music lover or a curious amateur\, these monthly concerts are a unique opportunity to discover or rediscover the magic of classical music in the elegant and intimate setting of the Nolinski Paris.
URL:https://evokcollection.com/en/event/john-gade-x-nolinski-paris-recital-de-piano-11/
LOCATION:Nolinski Paris\, Avenue de l'Opéra\, Paris\, Département de Paris\, 75001\, France
CATEGORIES:John Gade x Nolinski Paris - piano recital
ATTACH;FMTTYPE=image/png:https://evokcollection.com/wp-content/uploads/2025/01/recital-piano-john-gade.png
GEO:48.8667241;2.3339412
X-APPLE-STRUCTURED-LOCATION;VALUE=URI;X-ADDRESS=Nolinski Paris Avenue de l'Opéra Paris Département de Paris 75001 France;X-APPLE-RADIUS=500;X-TITLE=Avenue de l'Opéra:geo:2.3339412,48.8667241
END:VEVENT
BEGIN:VEVENT
DTSTART;TZID=Europe/London:20260112T194500
DTEND;TZID=Europe/London:20260112T213000
DTSTAMP:20260422T162345
CREATED:20251217T143112Z
LAST-MODIFIED:20260112T155845Z
UID:10000666-1768247100-1768253400@evokcollection.com
SUMMARY:Philosophical meeting with Alain Juillet led by Emmanuel Leclercq
DESCRIPTION:The Grand Salon at the Nolinski Paris is the setting for a monthly discussion between the philosopher Emmanuel Leclercq\, founder of  “Devenir pour Agir”\, and a public figure.\nOn Monday the 12th of January\, you are cordially invited to meet Alain Juillet.  \nA senior civil servant\, he previously served as Director of Intelligence at the DGSE. \nHe also held senior responsibility for Economic Intelligence and is renowned for his expertise in strategic and national sovereignty issues. \nMonday 12 January 2025 at 7.45pm \nFree event with registration
URL:https://evokcollection.com/en/event/rencontre-philosophique-avec-alain-juillet-animee-par-emmanuel-leclercq/
LOCATION:Nolinski Paris\, Avenue de l'Opéra\, Paris\, Département de Paris\, 75001\, France
CATEGORIES:Philosophical meetings
ATTACH;FMTTYPE=image/png:https://evokcollection.com/wp-content/uploads/2025/12/new-in-rencontre-philosophique-alain-juillet.png
GEO:48.8667241;2.3339412
X-APPLE-STRUCTURED-LOCATION;VALUE=URI;X-ADDRESS=Nolinski Paris Avenue de l'Opéra Paris Département de Paris 75001 France;X-APPLE-RADIUS=500;X-TITLE=Avenue de l'Opéra:geo:2.3339412,48.8667241
END:VEVENT
BEGIN:VEVENT
DTSTART;TZID=Europe/London:20260118T160000
DTEND;TZID=Europe/London:20260118T180000
DTSTAMP:20260422T162345
CREATED:20251127T165450Z
LAST-MODIFIED:20260216T130703Z
UID:10000663-1768752000-1768759200@evokcollection.com
SUMMARY:Showgirl Workshop at Nolinski Paris
DESCRIPTION:Once a month\, Kalon offers “Showgirl” workshops in the cosy and intimate atmosphere of the Grand Salon at the Nolinski Paris.\nThe Kalon method and its various workshops are designed to tone and sculpt the body like a dancer\, without needing to be one. Join the Kalon dancers for an intense Cardio Barre session followed by instruction in an authentic “Showgirl” choreography. \nPROGRAM\n4pm\n30 minutes of Kalon Cardio Barre to tone\, strengthen and sculpt your body\, while warming your muscles up for the choreography afterwards\n4.30pm\nLearning the walk elegantly in heels followed by showgirl choreography\n5.30 – 6pm\nCocktails and conversation \nFor this workshop\, please bring comfortable heels\, leggings or shorts\, bra or crop top and socks.
URL:https://evokcollection.com/en/event/atelier-showgirl-au-nolinski-paris-4/
LOCATION:Nolinski Paris\, Avenue de l'Opéra\, Paris\, Département de Paris\, 75001\, France
CATEGORIES:Showgirl Kalon workshops
ATTACH;FMTTYPE=image/jpeg:https://evokcollection.com/wp-content/uploads/2024/02/img-2705-scaled.jpeg
GEO:48.8667241;2.3339412
X-APPLE-STRUCTURED-LOCATION;VALUE=URI;X-ADDRESS=Nolinski Paris Avenue de l'Opéra Paris Département de Paris 75001 France;X-APPLE-RADIUS=500;X-TITLE=Avenue de l'Opéra:geo:2.3339412,48.8667241
END:VEVENT
BEGIN:VEVENT
DTSTART;TZID=Europe/London:20260121T190000
DTEND;TZID=Europe/London:20260121T213000
DTSTAMP:20260422T162345
CREATED:20250729T133034Z
LAST-MODIFIED:20260216T130726Z
UID:10000589-1769022000-1769031000@evokcollection.com
SUMMARY:Poetic encounter at Nolinski Paris
DESCRIPTION:Nolinski Paris\, in partnership with Printemps des Poètes\, will host a series of poetic gatherings between September 2025 and March 2026. Conceived as suspended moments\, these evenings will welcome French-speaking poets invited to read and present their work in the heart of the Grand Salon. Each event will be an opportunity to discover the diversity of contemporary writing\, open a space for dialogue\, and shine a light on poetry. \nPrintemps des Poètes celebrates poetry and invites audiences to rediscover this creative language as a living\, sensitive\, and contemporary form of expression. Driven by a commitment to transmission and openness\, this poetic event is open to all\, with particular attention given to younger generations. \nOn the occasion of the Nuits de la lecture\, Catherine Tourné will present the publishing house LansKine along with two of its authors: the young poet Juliette Manel and the poet Paul de Brancion. \nWednesday\, January 21\, from 7:00 PM to 10:00 PM \nJuliette Manel was born in 2000. A graduate of the Master’s program in Literary Creation at Le Havre\, she writes poetry\, hybrid forms\, narratives\, and performs her texts. While she does not wish to confine her practice\, she seems particularly drawn to exploring the body—as a site of suffering and pleasure\, of constraint and liberation\, and as a space marked by the connections it holds (to oneself\, to others\, to the world). The oral performance of her texts allows voices and breaths to be heard\, disturbed and agitated by a body that is paralyzed\, in motion\, and in all its states. Juliette Manel participates in collective projects\, writing for contemporary literature journals (Mouche\, Îlot\, Cockpit…) and linking her practice with those of other artists. Her first book\, Pizzica\, was published in 2025 by Éditions LansKine. \nPaul de Brancion is a French poet\, novelist\, and radio producer born in Chantilly. His authorial path brings together poetry\, novels\, and plays. His work often resonates with his mixed maternal heritage\, his philosophical training\, and his interest in translation. An active figure in the French poetic and literary scene\, he is the artistic director of the Parisian cultural café L’Ours et la Vieille Grille\, editor-in-chief of the journal Sarrazine\, and heads the Régions froides collection at Éditions LansKine. Since 2018\, he has led the Sainte-Anne poetic gatherings (readings and discussions on poetry in psychiatric settings). Paul de Brancion lives and works between Paris\, the south of France\, and Nantes\, where he organizes and hosts the Rendez-Vous du Bois Chevalier\, annual meetings dedicated to literature and science.
URL:https://evokcollection.com/en/event/rencontre-poetique-au-nolinski-paris-3/
LOCATION:Nolinski Paris\, Avenue de l'Opéra\, Paris\, Département de Paris\, 75001\, France
CATEGORIES:Rencontre poétique
ATTACH;FMTTYPE=image/png:https://evokcollection.com/wp-content/uploads/2025/07/rencontre-poetique-juliette-et-paul.png
GEO:48.8667241;2.3339412
X-APPLE-STRUCTURED-LOCATION;VALUE=URI;X-ADDRESS=Nolinski Paris Avenue de l'Opéra Paris Département de Paris 75001 France;X-APPLE-RADIUS=500;X-TITLE=Avenue de l'Opéra:geo:2.3339412,48.8667241
END:VEVENT
BEGIN:VEVENT
DTSTART;TZID=Europe/London:20260122T193000
DTEND;TZID=Europe/London:20260122T210000
DTSTAMP:20260422T162345
CREATED:20251230T145436Z
LAST-MODIFIED:20260216T130758Z
UID:10000670-1769110200-1769115600@evokcollection.com
SUMMARY:Brilliant Women Circle x Brach Madrid with Claudia Di Paolo
DESCRIPTION:We are delighted to welcome you to a conversation with Claudia Di Paolo\, as part of the Brilliant Women Circle\, a monthly conversation series led by Sara Zaldívar that highlights accomplished women across diverse fields. Each session offers an intimate conversation with a featured guest\, sharing their personal journey\, lessons learned\, and the challenges they have overcome along the way. \nClaudia Di Paolo is a recognized expert in luxury beauty and wellness. With over 35 years of experience\, she founded Claudia Di Paolo Hair Wellth Spa\, a pioneer of Hair Neuro-Wellness in Europe\, where each treatment transforms the hair and scalp into a true ritual of holistic well-being. Her brand\, present in iconic luxury and wellness destinations worldwide\, embodies a unique balance of innovation\, expertise\, and sensory elegance. \nThursday 22 January at 7:30pm \nFree event with registration
URL:https://evokcollection.com/en/event/brilliant-women-circle-x-brach-madrid-avec-claudia-di-paolo/
LOCATION:Brach Madrid\, 28004\, Spain
CATEGORIES:Brilliant Woman Circle
ATTACH;FMTTYPE=image/png:https://evokcollection.com/wp-content/uploads/2025/12/sara-x-claudia-di-paolo.png
GEO:40.4200395;-3.7019354
END:VEVENT
END:VCALENDAR