BEGIN:VCALENDAR
VERSION:2.0
PRODID:-//Evok Collection - ECPv6.15.17.1//NONSGML v1.0//EN
CALSCALE:GREGORIAN
METHOD:PUBLISH
X-ORIGINAL-URL:https://evokcollection.com/en/
X-WR-CALDESC:Events for Evok Collection
REFRESH-INTERVAL;VALUE=DURATION:PT1H
X-Robots-Tag:noindex
X-PUBLISHED-TTL:PT1H
BEGIN:VTIMEZONE
TZID:Europe/London
BEGIN:DAYLIGHT
TZOFFSETFROM:+0000
TZOFFSETTO:+0100
TZNAME:BST
DTSTART:20250330T010000
END:DAYLIGHT
BEGIN:STANDARD
TZOFFSETFROM:+0100
TZOFFSETTO:+0000
TZNAME:GMT
DTSTART:20251026T010000
END:STANDARD
BEGIN:DAYLIGHT
TZOFFSETFROM:+0000
TZOFFSETTO:+0100
TZNAME:BST
DTSTART:20260329T010000
END:DAYLIGHT
BEGIN:STANDARD
TZOFFSETFROM:+0100
TZOFFSETTO:+0000
TZNAME:GMT
DTSTART:20261025T010000
END:STANDARD
BEGIN:DAYLIGHT
TZOFFSETFROM:+0000
TZOFFSETTO:+0100
TZNAME:BST
DTSTART:20270328T010000
END:DAYLIGHT
BEGIN:STANDARD
TZOFFSETFROM:+0100
TZOFFSETTO:+0000
TZNAME:GMT
DTSTART:20271031T010000
END:STANDARD
END:VTIMEZONE
BEGIN:VEVENT
DTSTART;TZID=Europe/London:20260204T190000
DTEND;TZID=Europe/London:20260204T210000
DTSTAMP:20260422T143953
CREATED:20260105T084352Z
LAST-MODIFIED:20260216T130827Z
UID:10000674-1770231600-1770238800@evokcollection.com
SUMMARY:Champions x Brach Paris with Lisa Barbelin and Thomas Chirault
DESCRIPTION:Brach Paris organizes meetings with top athletes who are shaping the sport of today and tomorrow. These champions share their journeys\, their successes and their challenges\, offering invaluable lessons. \nWe are pleased to invite you to a meeting with Lisa Barbelin and Thomas Chirault\, leading figures in French archery and medalists at the Paris 2024 Olympic Games. A couple in life\, Lisa\, 25\, won the bronze medal in the individual event\, while Thomas\, 28\, secured the silver medal in the team competition. \nTheir outstanding performances on the Esplanade des Invalides left a lasting impression and confirmed their status on the international stage. Since their Olympic success\, this now iconic duo has been balancing international competitions\, higher education\, and preparation for the Los Angeles 2028 Olympic Games\, while continuing to promote French archery worldwide. \nFree event upon registration.
URL:https://evokcollection.com/en/event/champions-x-brach-paris-avec-lisa-barbelin-et-thomas-chirault/
LOCATION:Brach Paris\, 75016\, France
CATEGORIES:Champions x Brach Paris
ATTACH;FMTTYPE=image/png:https://evokcollection.com/wp-content/uploads/2025/12/new-in-rencontre-sportive-04-02-26.png
GEO:48.8615812;2.2744242
END:VEVENT
BEGIN:VEVENT
DTSTART;TZID=Europe/London:20260211T190000
DTEND;TZID=Europe/London:20260211T203000
DTSTAMP:20260422T143953
CREATED:20260115T160305Z
LAST-MODIFIED:20260216T130840Z
UID:10000676-1770836400-1770841800@evokcollection.com
SUMMARY:Piano concert at Nolinski Venezia
DESCRIPTION:Evok Collection invites you to enjoy a unique musical experience through a series of piano recitals given by young virtuoso artists who will make music resonate between the Nolinski Paris and the Nolinski Venezia\, exceptional venues where melody resonates with particular importance. \nWe are delighted to invite you to a concert by Virgile Roche on Wednesday 11 February at 7pm at Nolinski Venezia. \nVirgile Roche is one of today’s most versatile young European pianists. Admitted at 17 to the Paris Conservatory\, he earned eight degrees and joined its selective Artist Diploma programme in 2024. Laureate of numerous international prizes\, he performs worldwide as a soloist\, chamber musician\, and with orchestras. In 2026\, he will make his debut at Carnegie Hall and the Embassy of France in Washington\, D.C. \nThis concert\, organised in partnership with Coline en Ré\, combines musical excellence with a commitment to helping the children of Madagascar.
URL:https://evokcollection.com/en/event/23022/
LOCATION:Nolinski Venezia\, 30124\, Italy
CATEGORIES:Charity piano concert
ATTACH;FMTTYPE=image/png:https://evokcollection.com/wp-content/uploads/2025/01/nolinski-venezia-bar-biliotheque.png
GEO:45.4329337;12.3347398
END:VEVENT
BEGIN:VEVENT
DTSTART;TZID=Europe/London:20260215T160000
DTEND;TZID=Europe/London:20260215T180000
DTSTAMP:20260422T143953
CREATED:20260116T100908Z
LAST-MODIFIED:20260216T130856Z
UID:10000680-1771171200-1771178400@evokcollection.com
SUMMARY:Showgirl Workshop at Nolinski Paris
DESCRIPTION:Once a month\, Kalon offers “Showgirl” workshops in the cosy and intimate atmosphere of the Grand Salon at the Nolinski Paris.\nThe Kalon method and its various workshops are designed to tone and sculpt the body like a dancer\, without needing to be one. Join the Kalon dancers for an intense Cardio Barre session followed by instruction in an authentic “Showgirl” choreography. \nPROGRAM\n4pm\n30 minutes of Kalon Cardio Barre to tone\, strengthen and sculpt your body\, while warming your muscles up for the choreography afterwards\n4.30pm\nLearning the walk elegantly in heels followed by showgirl choreography\n5.30 – 6pm\nCocktails and conversation \nFor this workshop\, please bring comfortable heels\, leggings or shorts\, bra or crop top and socks.
URL:https://evokcollection.com/en/event/atelier-showgirl-au-nolinski-paris-5/
LOCATION:Nolinski Paris\, Avenue de l'Opéra\, Paris\, Département de Paris\, 75001\, France
CATEGORIES:Showgirl Kalon workshops
ATTACH;FMTTYPE=image/jpeg:https://evokcollection.com/wp-content/uploads/2024/02/img-2705-scaled.jpeg
GEO:48.8667241;2.3339412
X-APPLE-STRUCTURED-LOCATION;VALUE=URI;X-ADDRESS=Nolinski Paris Avenue de l'Opéra Paris Département de Paris 75001 France;X-APPLE-RADIUS=500;X-TITLE=Avenue de l'Opéra:geo:2.3339412,48.8667241
END:VEVENT
BEGIN:VEVENT
DTSTART;TZID=Europe/London:20260216T194500
DTEND;TZID=Europe/London:20260216T213000
DTSTAMP:20260422T143953
CREATED:20260115T164511Z
LAST-MODIFIED:20260216T125822Z
UID:10000677-1771271100-1771277400@evokcollection.com
SUMMARY:Philosophical encounter with the Minister Sarah El Haïry led by Emmanuel Leclercq
DESCRIPTION:Each month\, the Grand Salon at Nolinski Paris hosts an exclusive discussion between the philosopher Emmanuel Leclercq\, founder of Devenir pour Agir\, and a public figure.\nOn Monday\, February 16\, you are invited to a philosophical meeting with Minister Sarah El Haïry. \nMinister and High Commissioner for Childhood since 2025\, she is the daughter of Moroccan parents who became French citizens and grew up in Morocco before returning to France following the Casablanca attack in 2003. \nA trained lawyer\, she became involved early in trade union activism and later in politics\, first with the UMP and then with the Democratic Movement (MoDem). Elected locally in Nantes and serving as MoDem’s vice-president\, she has also held several government positions\, notably in youth\, family\, and biodiversity. She is recognized for her expertise in public policy and her commitment to children and young people. \nMonday 16 February\, 2026 at 7:45 PM \nFree event with registration
URL:https://evokcollection.com/en/event/rencontre-philosophique-avec-la-ministre-sarah-el-hairy-animee-par-emmanuel-leclercq/
LOCATION:Nolinski Paris\, Avenue de l'Opéra\, Paris\, Département de Paris\, 75001\, France
CATEGORIES:Philosophical meetings
ATTACH;FMTTYPE=image/png:https://evokcollection.com/wp-content/uploads/2026/01/rencontre-philosophique-ministre-sarah-el-hairy.png
GEO:48.8667241;2.3339412
X-APPLE-STRUCTURED-LOCATION;VALUE=URI;X-ADDRESS=Nolinski Paris Avenue de l'Opéra Paris Département de Paris 75001 France;X-APPLE-RADIUS=500;X-TITLE=Avenue de l'Opéra:geo:2.3339412,48.8667241
END:VEVENT
BEGIN:VEVENT
DTSTART;VALUE=DATE:20260225
DTEND;VALUE=DATE:20260413
DTSTAMP:20260422T143953
CREATED:20260216T163806Z
LAST-MODIFIED:20260216T164128Z
UID:10000691-1771977600-1776038399@evokcollection.com
SUMMARY:Exhibition "Blue as velvet" by Baptiste Laurent
DESCRIPTION:Blue as Velvet plays on an incongruous comparison\, made possible by velvet and lapis-lazuli\, the central materials of the series. These elements evoke images rich in emotion and reference: blue\, between nostalgia\, the music of the blues\, the mystery of the night\, Mediterranean indigo pigment\, or Yves Klein blue; velvet\, with its softness and elegance\, recalls stage curtains and antique tapestries. \nFigures and objects painted in negative are defined by their contours\, the material absorbing light to create a unique contrast. Baptiste revisits these works intermittently\, allowing the Blue as Velvet series to develop over more than six years.
URL:https://evokcollection.com/en/event/lexposition-blue-as-velvet-de-baptiste-laurent/
LOCATION:Brach Madrid\, 28004\, Spain
ATTACH;FMTTYPE=image/jpeg:https://evokcollection.com/wp-content/uploads/2026/02/portrait-pabloalvarezcuesta-scaled.jpg
GEO:40.4200395;-3.7019354
END:VEVENT
BEGIN:VEVENT
DTSTART;TZID=Europe/London:20260225T190000
DTEND;TZID=Europe/London:20260225T210000
DTSTAMP:20260422T143953
CREATED:20260206T170750Z
LAST-MODIFIED:20260420T100849Z
UID:10000686-1772046000-1772053200@evokcollection.com
SUMMARY:Champions x Brach Paris with Tony Yoka
DESCRIPTION:Brach Paris organizes meetings with top athletes who are shaping the sport of today and tomorrow. These champions share their journeys\, their successes and their challenges\, offering invaluable lessons. \nWe are pleased to invite you to a meeting with Tony Yoka\, olympic boxing champion. \nTony Yoka\, born on April 28\, 1992\, in Paris\, is a French boxer. Competing in the heavyweight and super heavyweight divisions\, he was the first Frenchman to become amateur world champion in the super heavyweight division in 2015\, then Olympic champion in the super heavyweight division at the 2016 Summer Olympics in Rio de Janeiro. \nFree event upon registration.
URL:https://evokcollection.com/en/event/champions-x-brach-paris-with-tony-yoka/
LOCATION:Brach Paris\, 75016\, France
ATTACH;FMTTYPE=image/jpeg:https://evokcollection.com/wp-content/uploads/2026/02/1180132-tony-yoka-laisse-echapper-sa-joie-au-moment-ou-il-remporte-la-medaille-d-or-en-boxe-categorie-91kg-lors-des-jo-de-rio-le-21-aout-2016.jpg
GEO:48.8615812;2.2744242
END:VEVENT
END:VCALENDAR