BEGIN:VCALENDAR
VERSION:2.0
PRODID:-//Evok Collection - ECPv6.15.17.1//NONSGML v1.0//EN
CALSCALE:GREGORIAN
METHOD:PUBLISH
X-WR-CALNAME:Evok Collection
X-ORIGINAL-URL:https://evokcollection.com/en/
X-WR-CALDESC:Events for Evok Collection
REFRESH-INTERVAL;VALUE=DURATION:PT1H
X-Robots-Tag:noindex
X-PUBLISHED-TTL:PT1H
BEGIN:VTIMEZONE
TZID:Europe/London
BEGIN:DAYLIGHT
TZOFFSETFROM:+0000
TZOFFSETTO:+0100
TZNAME:BST
DTSTART:20250330T010000
END:DAYLIGHT
BEGIN:STANDARD
TZOFFSETFROM:+0100
TZOFFSETTO:+0000
TZNAME:GMT
DTSTART:20251026T010000
END:STANDARD
BEGIN:DAYLIGHT
TZOFFSETFROM:+0000
TZOFFSETTO:+0100
TZNAME:BST
DTSTART:20260329T010000
END:DAYLIGHT
BEGIN:STANDARD
TZOFFSETFROM:+0100
TZOFFSETTO:+0000
TZNAME:GMT
DTSTART:20261025T010000
END:STANDARD
BEGIN:DAYLIGHT
TZOFFSETFROM:+0000
TZOFFSETTO:+0100
TZNAME:BST
DTSTART:20270328T010000
END:DAYLIGHT
BEGIN:STANDARD
TZOFFSETFROM:+0100
TZOFFSETTO:+0000
TZNAME:GMT
DTSTART:20271031T010000
END:STANDARD
END:VTIMEZONE
BEGIN:VEVENT
DTSTART;VALUE=DATE:20260225
DTEND;VALUE=DATE:20260413
DTSTAMP:20260422T130804
CREATED:20260216T163806Z
LAST-MODIFIED:20260216T164128Z
UID:10000691-1771977600-1776038399@evokcollection.com
SUMMARY:Exhibition "Blue as velvet" by Baptiste Laurent
DESCRIPTION:Blue as Velvet plays on an incongruous comparison\, made possible by velvet and lapis-lazuli\, the central materials of the series. These elements evoke images rich in emotion and reference: blue\, between nostalgia\, the music of the blues\, the mystery of the night\, Mediterranean indigo pigment\, or Yves Klein blue; velvet\, with its softness and elegance\, recalls stage curtains and antique tapestries. \nFigures and objects painted in negative are defined by their contours\, the material absorbing light to create a unique contrast. Baptiste revisits these works intermittently\, allowing the Blue as Velvet series to develop over more than six years.
URL:https://evokcollection.com/en/event/lexposition-blue-as-velvet-de-baptiste-laurent/
LOCATION:Brach Madrid\, 28004\, Spain
ATTACH;FMTTYPE=image/jpeg:https://evokcollection.com/wp-content/uploads/2026/02/portrait-pabloalvarezcuesta-scaled.jpg
GEO:40.4200395;-3.7019354
END:VEVENT
BEGIN:VEVENT
DTSTART;TZID=Europe/London:20260302T193000
DTEND;TZID=Europe/London:20260302T210000
DTSTAMP:20260422T130804
CREATED:20260121T155728Z
LAST-MODIFIED:20260420T100911Z
UID:10000684-1772479800-1772485200@evokcollection.com
SUMMARY:Brilliant Women Circle x Brach Madrid with Julia Muños
DESCRIPTION:We are delighted to welcome you to a conversation with Claudia Di Paolo\, as part of the Brilliant Women Circle\, a monthly conversation series led by Sara Zaldívar that highlights accomplished women across diverse fields. Each session offers an intimate conversation with a featured guest\, sharing their personal journey\, lessons learned\, and the challenges they have overcome along the way. \nJulia Muñoz is a Spanish jeweler renowned for her unique and contemporary creations. After fifteen years dedicated to decorative arts\, she specialized in jewelry in 2019\, exploring the ancient technique of lost-wax bronze casting\, which allows her to create sculptural pieces without molds. Each piece is thus a singular work of art\, where artistic heritage meets modernity. Her brand\, showcased in her gallery at the Carré des Arts in Paris\, embodies a refined balance of creativity\, craftsmanship\, and timeless elegance. \nMonday 02 March at 7:30pm \nFree event with registration
URL:https://evokcollection.com/en/event/brilliant-women-circle-x-brach-madrid-with-julia-munos/
LOCATION:Brach Madrid\, 28004\, Spain
CATEGORIES:Brilliant Woman Circle
ATTACH;FMTTYPE=image/png:https://evokcollection.com/wp-content/uploads/2026/01/sara-x-claudia-di-paolo.png
GEO:40.4200395;-3.7019354
END:VEVENT
BEGIN:VEVENT
DTSTART;TZID=Europe/London:20260318T190000
DTEND;TZID=Europe/London:20260318T203000
DTSTAMP:20260422T130804
CREATED:20260210T153645Z
LAST-MODIFIED:20260420T100951Z
UID:10000688-1773860400-1773865800@evokcollection.com
SUMMARY:Concert de piano au Nolinski Paris
DESCRIPTION:Evok Collection invites you to enjoy a unique musical experience through a series of piano recitals given by young virtuoso artists who will make music resonate between the Nolinski Paris and the Nolinski Venezia\, exceptional venues where melody resonates with particular importance. \nWe are delighted to invite you to a concert byNicolas Queyroux and Léo Léna on Wednesday 18 March at 7pm\, at Nolinski Paris. \nTrained at the Paris Conservatoire (CNSMDP) and in Sweden\, pianist Nicolas Queyroux is deeply involved in chamber music and regularly performs as a soloist. He was awarded a prize at the Virtuoses du Cœur Competition in 2025. Cellist Léo Léna\, currently studying at the Paris Conservatoire\, stands out for his strong commitment to chamber music and collaborative projects.Together\, they form a close and demanding duo\, driven by a shared musical sensitivity. \nThis concert\, organised in partnership with Coline en Ré\, combines musical excellence with a commitment to helping the children of Madagascar.
URL:https://evokcollection.com/en/event/concert-de-piano-au-nolinski-paris-2/
LOCATION:Nolinski Paris\, Avenue de l'Opéra\, Paris\, Département de Paris\, 75001\, France
CATEGORIES:Charity piano concert
ATTACH;FMTTYPE=image/png:https://evokcollection.com/wp-content/uploads/2025/01/nolinski-paris-grand-salon.png
GEO:48.8667241;2.3339412
X-APPLE-STRUCTURED-LOCATION;VALUE=URI;X-ADDRESS=Nolinski Paris Avenue de l'Opéra Paris Département de Paris 75001 France;X-APPLE-RADIUS=500;X-TITLE=Avenue de l'Opéra:geo:2.3339412,48.8667241
END:VEVENT
BEGIN:VEVENT
DTSTART;TZID=Europe/London:20260322T160000
DTEND;TZID=Europe/London:20260322T180000
DTSTAMP:20260422T130804
CREATED:20260116T101626Z
LAST-MODIFIED:20260420T101010Z
UID:10000682-1774195200-1774202400@evokcollection.com
SUMMARY:Showgirl Workshop at Nolinski Paris
DESCRIPTION:Once a month\, Kalon offers “Showgirl” workshops in the cosy and intimate atmosphere of the Grand Salon at the Nolinski Paris.\nThe Kalon method and its various workshops are designed to tone and sculpt the body like a dancer\, without needing to be one. Join the Kalon dancers for an intense Cardio Barre session followed by instruction in an authentic “Showgirl” choreography. \nPROGRAM\n4pm\n30 minutes of Kalon Cardio Barre to tone\, strengthen and sculpt your body\, while warming your muscles up for the choreography afterwards\n4.30pm\nLearning the walk elegantly in heels followed by showgirl choreography\n5.30 – 6pm\nCocktails and conversation \nFor this workshop\, please bring comfortable heels\, leggings or shorts\, bra or crop top and socks.
URL:https://evokcollection.com/en/event/atelier-showgirl-au-nolinski-paris-6/
LOCATION:Nolinski Paris\, Avenue de l'Opéra\, Paris\, Département de Paris\, 75001\, France
CATEGORIES:Showgirl Kalon workshops
ATTACH;FMTTYPE=image/png:https://evokcollection.com/wp-content/uploads/2024/07/ateliers-showgirl-kalon-nolinski-paris.png
GEO:48.8667241;2.3339412
X-APPLE-STRUCTURED-LOCATION;VALUE=URI;X-ADDRESS=Nolinski Paris Avenue de l'Opéra Paris Département de Paris 75001 France;X-APPLE-RADIUS=500;X-TITLE=Avenue de l'Opéra:geo:2.3339412,48.8667241
END:VEVENT
END:VCALENDAR