BEGIN:VCALENDAR
VERSION:2.0
PRODID:-//Evok Collection - ECPv6.15.17.1//NONSGML v1.0//EN
CALSCALE:GREGORIAN
METHOD:PUBLISH
X-WR-CALNAME:Evok Collection
X-ORIGINAL-URL:https://evokcollection.com/en/
X-WR-CALDESC:Events for Evok Collection
REFRESH-INTERVAL;VALUE=DURATION:PT1H
X-Robots-Tag:noindex
X-PUBLISHED-TTL:PT1H
BEGIN:VTIMEZONE
TZID:Europe/London
BEGIN:DAYLIGHT
TZOFFSETFROM:+0000
TZOFFSETTO:+0100
TZNAME:BST
DTSTART:20250330T010000
END:DAYLIGHT
BEGIN:STANDARD
TZOFFSETFROM:+0100
TZOFFSETTO:+0000
TZNAME:GMT
DTSTART:20251026T010000
END:STANDARD
BEGIN:DAYLIGHT
TZOFFSETFROM:+0000
TZOFFSETTO:+0100
TZNAME:BST
DTSTART:20260329T010000
END:DAYLIGHT
BEGIN:STANDARD
TZOFFSETFROM:+0100
TZOFFSETTO:+0000
TZNAME:GMT
DTSTART:20261025T010000
END:STANDARD
BEGIN:DAYLIGHT
TZOFFSETFROM:+0000
TZOFFSETTO:+0100
TZNAME:BST
DTSTART:20270328T010000
END:DAYLIGHT
BEGIN:STANDARD
TZOFFSETFROM:+0100
TZOFFSETTO:+0000
TZNAME:GMT
DTSTART:20271031T010000
END:STANDARD
END:VTIMEZONE
BEGIN:VEVENT
DTSTART;TZID=Europe/London:20260511T193000
DTEND;TZID=Europe/London:20260511T210000
DTSTAMP:20260422T113553
CREATED:20260402T140423Z
LAST-MODIFIED:20260402T141001Z
UID:10000707-1778527800-1778533200@evokcollection.com
SUMMARY:Brilliant Women Circle x Brach Madrid avec Lucía Yturriaga and Bárbara Fernández del Bas
DESCRIPTION:We are delighted to welcome you to a conversation with Lucía Yturriaga et Bárbara Fernández del Bas as part of the Brilliant Women Circle\, a monthly conversation series led by Sara Zaldívar that highlights accomplished women across diverse fields. Each session offers an intimate conversation with a featured guest\, sharing their personal journey\, lessons learned\, and the challenges they have overcome along the way. \nLucía Yturriaga\, Founder Partner and CEO of Womanhood\, and Bárbara Fernández del Bas\, Founder Partner and CEO of Womanhood Clinic\, bring together their expertise and experience to support women at every stage of life. \nLucía\, after over thirty years in retail and a personal experience with menopause\, created Womanhood as a platform and community for women’s health\, providing information\, support\, and practical solutions. Bárbara\, a gynecologist specialized in integrative\, functional gynecology and anti-aging medicine\, offers a holistic and personalized approach to women’s health\, combining medical expertise\, innovation\, and multidisciplinary care. \nMonday 11 May at 7:30pm \nFree event with registration
URL:https://evokcollection.com/en/event/brilliant-women-circle-x-brach-madrid-avec-lucia-yturriaga-et-barbara-fernandez-del-bas/
LOCATION:Brach Madrid\, 28004\, Spain
CATEGORIES:Brilliant Woman Circle
ATTACH;FMTTYPE=image/png:https://evokcollection.com/wp-content/uploads/2026/04/sara-x-lucia-yturriaga-et-barbara-fernandez-del-bas.png
GEO:40.4200395;-3.7019354
END:VEVENT
BEGIN:VEVENT
DTSTART;TZID=Europe/London:20260513T190000
DTEND;TZID=Europe/London:20260513T203000
DTSTAMP:20260422T113553
CREATED:20260402T143948Z
LAST-MODIFIED:20260402T144351Z
UID:10000709-1778698800-1778704200@evokcollection.com
SUMMARY:Piano concert at Nolinski Paris
DESCRIPTION:Evok Collection invites you to enjoy a unique musical experience through a series of piano recitals given by young virtuoso artists who will make music resonate between the Nolinski Paris and the Nolinski Venezia\, exceptional venues where melody resonates with particular importance. \nWe are delighted to invite you to a concert by Félicité Lainé on Wednesday 13 May at 7pm\, at Nolinski Paris. \nTrained at the Conservatoire National Supérieur de Musique de Paris in Frank Braley’s class\, Félicité Laîné graduated with the jury’s highest honors. A laureate of several international competitions\, she performs regularly in France and abroad\, and complements her musical practice with a master’s degree in philosophy and studies in piano accompaniment for singers. \nThis concert\, organised in partnership with Coline en Ré\, combines musical excellence with a commitment to helping the children of Madagascar. \n  \n 
URL:https://evokcollection.com/en/event/concert-de-piano-au-nolinski-paris-3/
LOCATION:Nolinski Paris\, Avenue de l'Opéra\, Paris\, Département de Paris\, 75001\, France
CATEGORIES:Charity piano concert
ATTACH;FMTTYPE=image/png:https://evokcollection.com/wp-content/uploads/2025/01/nolinski-paris-grand-salon.png
GEO:48.8667241;2.3339412
X-APPLE-STRUCTURED-LOCATION;VALUE=URI;X-ADDRESS=Nolinski Paris Avenue de l'Opéra Paris Département de Paris 75001 France;X-APPLE-RADIUS=500;X-TITLE=Avenue de l'Opéra:geo:2.3339412,48.8667241
END:VEVENT
BEGIN:VEVENT
DTSTART;TZID=Europe/London:20260517T160000
DTEND;TZID=Europe/London:20260517T180000
DTSTAMP:20260422T113553
CREATED:20260403T130841Z
LAST-MODIFIED:20260403T131110Z
UID:10000713-1779033600-1779040800@evokcollection.com
SUMMARY:Showgirl Workshop at Nolinski Paris
DESCRIPTION:Once a month\, Kalon offers “Showgirl” workshops in the cosy and intimate atmosphere of the Grand Salon at the Nolinski Paris.\nThe Kalon method and its various workshops are designed to tone and sculpt the body like a dancer\, without needing to be one. Join the Kalon dancers for an intense Cardio Barre session followed by instruction in an authentic “Showgirl” choreography. \nPROGRAM\n4pm\n30 minutes of Kalon Cardio Barre to tone\, strengthen and sculpt your body\, while warming your muscles up for the choreography afterwards\n4.30pm\nLearning the walk elegantly in heels followed by showgirl choreography\n5.30 – 6pm\nCocktails and conversation \nFor this workshop\, please bring comfortable heels\, leggings or shorts\, bra or crop top and socks.
URL:https://evokcollection.com/en/event/atelier-showgirl-au-nolinski-paris-8/
LOCATION:Nolinski Paris\, Avenue de l'Opéra\, Paris\, Département de Paris\, 75001\, France
CATEGORIES:Showgirl Kalon workshops
ATTACH;FMTTYPE=image/png:https://evokcollection.com/wp-content/uploads/2024/07/ateliers-showgirl-kalon-nolinski-paris.png
GEO:48.8667241;2.3339412
X-APPLE-STRUCTURED-LOCATION;VALUE=URI;X-ADDRESS=Nolinski Paris Avenue de l'Opéra Paris Département de Paris 75001 France;X-APPLE-RADIUS=500;X-TITLE=Avenue de l'Opéra:geo:2.3339412,48.8667241
END:VEVENT
BEGIN:VEVENT
DTSTART;TZID=Europe/London:20260519T190000
DTEND;TZID=Europe/London:20260519T210000
DTSTAMP:20260422T113553
CREATED:20260403T125718Z
LAST-MODIFIED:20260403T130330Z
UID:10000711-1779217200-1779224400@evokcollection.com
SUMMARY:Masterclass Harawell led by Céline Benche
DESCRIPTION:We are pleased to invite you to a masterclass led by Céline Benche\, Founder of the Harawell® immersive method of well-being and global health. \nTuesday\, May 19\, 2026 at 7pm. \n“In this hyper-connected world\, Harawell® offers a space for sharing\, transformation and concrete tools to reconnect with your vital energy. Your energy makes the impossible possible again!” \nLet’s activate it together at this masterclass!
URL:https://evokcollection.com/en/event/masterclass-harawell-animee-par-celine-benche-3/
LOCATION:Brach Paris\, 75016\, France
CATEGORIES:Masterclasse Harawell
ATTACH;FMTTYPE=image/png:https://evokcollection.com/wp-content/uploads/2024/10/masterclass-harawell.png
GEO:48.8615812;2.2744242
END:VEVENT
BEGIN:VEVENT
DTSTART;TZID=Europe/London:20260526T193000
DTEND;TZID=Europe/London:20260526T210000
DTSTAMP:20260422T113553
CREATED:20260420T143409Z
LAST-MODIFIED:20260420T144928Z
UID:10000717-1779823800-1779829200@evokcollection.com
SUMMARY:Carla Lariot in conversation with Leonor de Osma
DESCRIPTION:Brach Madrid hosts a series of meetings dedicated to the figures of the contemporary art world\, with Carla Lariot\, co-founder and director of Lariot Collective and her guest.\nLe mardi 26 mai\, Tuesday 26 May\, you are invited to a meeting: “Carla Lariot in conversation with Leonor de Osma: navigate the art market today”. \nDirector of the Guillermo de Osma Gallery in Madrid\, Leonor de Osma is specialized in historical avant-garde and 20th century European and Latin American art. \nAfter a legal training\, she reoriented herself towards the art market\, developing an international experience between the Phillips auction house in London and the management of her family gallery. \nTuesday 26 May at 7:30pm \nFree event with registration
URL:https://evokcollection.com/en/event/carla-lariot-en-conversation-avec-leonor-de-osma/
LOCATION:Brach Madrid\, 28004\, Spain
ATTACH;FMTTYPE=image/png:https://evokcollection.com/wp-content/uploads/2026/04/carla-lariot-x-leonor-de-osma.png
GEO:40.4200395;-3.7019354
END:VEVENT
BEGIN:VEVENT
DTSTART;TZID=Europe/London:20260614T160000
DTEND;TZID=Europe/London:20260614T180000
DTSTAMP:20260422T113553
CREATED:20260403T131712Z
LAST-MODIFIED:20260403T131858Z
UID:10000715-1781452800-1781460000@evokcollection.com
SUMMARY:Showgirl Workshop at Nolinski Paris
DESCRIPTION:Once a month\, Kalon offers “Showgirl” workshops in the cosy and intimate atmosphere of the Grand Salon at the Nolinski Paris.\nThe Kalon method and its various workshops are designed to tone and sculpt the body like a dancer\, without needing to be one. Join the Kalon dancers for an intense Cardio Barre session followed by instruction in an authentic “Showgirl” choreography. \nPROGRAM\n4pm\n30 minutes of Kalon Cardio Barre to tone\, strengthen and sculpt your body\, while warming your muscles up for the choreography afterwards\n4.30pm\nLearning the walk elegantly in heels followed by showgirl choreography\n5.30 – 6pm\nCocktails and conversation \nFor this workshop\, please bring comfortable heels\, leggings or shorts\, bra or crop top and socks.
URL:https://evokcollection.com/en/event/atelier-showgirl-au-nolinski-paris-9/
LOCATION:Nolinski Paris\, Avenue de l'Opéra\, Paris\, Département de Paris\, 75001\, France
CATEGORIES:Showgirl Kalon workshops
ATTACH;FMTTYPE=image/png:https://evokcollection.com/wp-content/uploads/2024/07/ateliers-showgirl-kalon-nolinski-paris.png
GEO:48.8667241;2.3339412
X-APPLE-STRUCTURED-LOCATION;VALUE=URI;X-ADDRESS=Nolinski Paris Avenue de l'Opéra Paris Département de Paris 75001 France;X-APPLE-RADIUS=500;X-TITLE=Avenue de l'Opéra:geo:2.3339412,48.8667241
END:VEVENT
END:VCALENDAR