BEGIN:VCALENDAR
VERSION:2.0
PRODID:-//Evok Collection - ECPv6.15.17.1//NONSGML v1.0//EN
CALSCALE:GREGORIAN
METHOD:PUBLISH
X-WR-CALNAME:Evok Collection
X-ORIGINAL-URL:https://evokcollection.com
X-WR-CALDESC:Évènements pour Evok Collection
REFRESH-INTERVAL;VALUE=DURATION:PT1H
X-Robots-Tag:noindex
X-PUBLISHED-TTL:PT1H
BEGIN:VTIMEZONE
TZID:Europe/London
BEGIN:DAYLIGHT
TZOFFSETFROM:+0000
TZOFFSETTO:+0100
TZNAME:BST
DTSTART:20250330T010000
END:DAYLIGHT
BEGIN:STANDARD
TZOFFSETFROM:+0100
TZOFFSETTO:+0000
TZNAME:GMT
DTSTART:20251026T010000
END:STANDARD
BEGIN:DAYLIGHT
TZOFFSETFROM:+0000
TZOFFSETTO:+0100
TZNAME:BST
DTSTART:20260329T010000
END:DAYLIGHT
BEGIN:STANDARD
TZOFFSETFROM:+0100
TZOFFSETTO:+0000
TZNAME:GMT
DTSTART:20261025T010000
END:STANDARD
BEGIN:DAYLIGHT
TZOFFSETFROM:+0000
TZOFFSETTO:+0100
TZNAME:BST
DTSTART:20270328T010000
END:DAYLIGHT
BEGIN:STANDARD
TZOFFSETFROM:+0100
TZOFFSETTO:+0000
TZNAME:GMT
DTSTART:20271031T010000
END:STANDARD
END:VTIMEZONE
BEGIN:VEVENT
DTSTART;TZID=Europe/London:20260519T190000
DTEND;TZID=Europe/London:20260519T210000
DTSTAMP:20260422T101235
CREATED:20260403T125718Z
LAST-MODIFIED:20260403T125718Z
UID:10000710-1779217200-1779224400@evokcollection.com
SUMMARY:Masterclass Harawell animée par Céline Benche
DESCRIPTION:Nous avons le plaisir de vous convier à une masterclass animée par Céline Benche\, Fondatrice de la Méthode immersive de bien-être et de santé globale Harawell® \nLe mardi 19 mai à 19h.  \n« Dans ce monde hyperconnecté\, Harawell® offre un espace de partage\, de transformation et des outils concrets pour vous reconnecter à votre énergie vitale. Votre énergie rend les impossibles\, à nouveau\, possibles ! ». \nActivons-la ensemble lors de cette masterclass !
URL:https://evokcollection.com/event/masterclass-harawell-animee-par-celine-benche-3/
LOCATION:Brach Paris\, Rue Jean Richepin\, Paris\, Département de Paris\, 75016\, France
CATEGORIES:Masterclasse Harawell
ATTACH;FMTTYPE=image/png:https://evokcollection.com/wp-content/uploads/2024/10/masterclass-harawell.png
GEO:48.8615812;2.2744242
X-APPLE-STRUCTURED-LOCATION;VALUE=URI;X-ADDRESS=Brach Paris Rue Jean Richepin Paris Département de Paris 75016 France;X-APPLE-RADIUS=500;X-TITLE=Rue Jean Richepin:geo:2.2744242,48.8615812
END:VEVENT
END:VCALENDAR