BEGIN:VCALENDAR
VERSION:2.0
PRODID:-//Evok Collection - ECPv6.15.17.1//NONSGML v1.0//EN
CALSCALE:GREGORIAN
METHOD:PUBLISH
X-ORIGINAL-URL:https://evokcollection.com
X-WR-CALDESC:Évènements pour Evok Collection
REFRESH-INTERVAL;VALUE=DURATION:PT1H
X-Robots-Tag:noindex
X-PUBLISHED-TTL:PT1H
BEGIN:VTIMEZONE
TZID:Europe/London
BEGIN:DAYLIGHT
TZOFFSETFROM:+0000
TZOFFSETTO:+0100
TZNAME:BST
DTSTART:20230326T010000
END:DAYLIGHT
BEGIN:STANDARD
TZOFFSETFROM:+0100
TZOFFSETTO:+0000
TZNAME:GMT
DTSTART:20231029T010000
END:STANDARD
BEGIN:DAYLIGHT
TZOFFSETFROM:+0000
TZOFFSETTO:+0100
TZNAME:BST
DTSTART:20240331T010000
END:DAYLIGHT
BEGIN:STANDARD
TZOFFSETFROM:+0100
TZOFFSETTO:+0000
TZNAME:GMT
DTSTART:20241027T010000
END:STANDARD
BEGIN:DAYLIGHT
TZOFFSETFROM:+0000
TZOFFSETTO:+0100
TZNAME:BST
DTSTART:20250330T010000
END:DAYLIGHT
BEGIN:STANDARD
TZOFFSETFROM:+0100
TZOFFSETTO:+0000
TZNAME:GMT
DTSTART:20251026T010000
END:STANDARD
END:VTIMEZONE
BEGIN:VEVENT
DTSTART;TZID=Europe/London:20241203T190000
DTEND;TZID=Europe/London:20241203T203000
DTSTAMP:20260422T125849
CREATED:20241030T153534Z
LAST-MODIFIED:20250725T075149Z
UID:10000427-1733252400-1733257800@evokcollection.com
SUMMARY:Champions x Brach Paris - Gaël Fickou
DESCRIPTION:Brach Paris organise des rencontres en compagnie d’athlètes de haut niveau qui font le sport d’aujourd’hui et de demain. Ces champions partagent leur parcours\, leurs succès et leurs défis\, offrant ainsi des enseignements précieux. \nNous sommes ravis de vous convier à une rencontre en compagnie de Gaël Fickou\,  joueur international français de rugby à XV. \nMardi 3 décembre à 19h  \nPlus d’informations à venir.
URL:https://evokcollection.com/event/champions-x-brach-paris-gael-fickou/
LOCATION:Brach Paris\, Rue Jean Richepin\, Paris\, Département de Paris\, 75016\, France
CATEGORIES:Champions x Brach Paris
ATTACH;FMTTYPE=image/png:https://evokcollection.com/wp-content/uploads/2024/10/paris-gael-fickou.png
GEO:48.8615812;2.2744242
X-APPLE-STRUCTURED-LOCATION;VALUE=URI;X-ADDRESS=Brach Paris Rue Jean Richepin Paris Département de Paris 75016 France;X-APPLE-RADIUS=500;X-TITLE=Rue Jean Richepin:geo:2.2744242,48.8615812
END:VEVENT
BEGIN:VEVENT
DTSTART;VALUE=DATE:20241130
DTEND;VALUE=DATE:20241221
DTSTAMP:20260422T125849
CREATED:20240715T073512Z
LAST-MODIFIED:20241008T082336Z
UID:10000362-1732924800-1734739199@evokcollection.com
SUMMARY:Pop-ups de Noël au Brach Paris
DESCRIPTION:Les Pop-ups de Noël deviennent une véritable tradition au Brach Paris.\nCette année trois marques exposeront leurs créations exclusives : \nKAPUSH du samedi 30 novembre au vendredi 6 décembre \nEvok Collection du samedi 7 décembre au vendredi 13 décembre\nGioia du samedi 14 décembre au vendredi 20 décembre \nBougies\, accessoires ou encore bijoux… une invitation à trouver le cadeau idéal pour Noël. \nAccès libre dans l’entrée de Brach Paris
URL:https://evokcollection.com/event/pop-ups-de-noel-au-brach-paris/
LOCATION:Brach Paris\, Rue Jean Richepin\, Paris\, Département de Paris\, 75016\, France
CATEGORIES:Pop-ups au Brach Paris
ATTACH;FMTTYPE=image/png:https://evokcollection.com/wp-content/uploads/2024/07/pop-ups-de-noel-brach-paris.png
GEO:48.8615812;2.2744242
X-APPLE-STRUCTURED-LOCATION;VALUE=URI;X-ADDRESS=Brach Paris Rue Jean Richepin Paris Département de Paris 75016 France;X-APPLE-RADIUS=500;X-TITLE=Rue Jean Richepin:geo:2.2744242,48.8615812
END:VEVENT
BEGIN:VEVENT
DTSTART;TZID=Europe/London:20241118T193000
DTEND;TZID=Europe/London:20241118T210000
DTSTAMP:20260422T125849
CREATED:20240712T142913Z
LAST-MODIFIED:20250725T082436Z
UID:10000345-1731958200-1731963600@evokcollection.com
SUMMARY:Masterclass wellness par Valérie Espinasse
DESCRIPTION:Brach Paris poursuit l’organisation de rendez-vous bien être. Animées par des experts\, les Masterclass Wellness ont pour thématiques la nutrition\, le bien-être holistique\, la gestion du stress\, l’équilibre mental et physique\, et bien plus encore. \nNous avons le plaisir de vous convier la masterclass « grosse fatigue »\, animée par la micro-nutritionniste Valérie Espinasse. Une session spécialement conçue pour retrouver un équilibre harmonieux entre votre poids et votre corps. \nValérie Espinasse\nValérie Espinasse est\, docteure en pharmacie\, Micro-nutritionniste et également diplômée de médecine prédictive et anti-âge. Elle s’est spécialisée sur les intolérances alimentaires et le microbiote intestinal. A ce titre\, elle consulte à Paris et a fondé la « MÉTHODE ESPINASSE » qui est une approche globale et personnalisée de la santé.
URL:https://evokcollection.com/event/masterclass-wellness-par-valerie-espinasse-2/
LOCATION:Brach Paris\, Rue Jean Richepin\, Paris\, Département de Paris\, 75016\, France
CATEGORIES:Masterclass Wellness
ATTACH;FMTTYPE=image/png:https://evokcollection.com/wp-content/uploads/2024/07/valerie-espinasse-fr-page-events-2.png
GEO:48.8615812;2.2744242
X-APPLE-STRUCTURED-LOCATION;VALUE=URI;X-ADDRESS=Brach Paris Rue Jean Richepin Paris Département de Paris 75016 France;X-APPLE-RADIUS=500;X-TITLE=Rue Jean Richepin:geo:2.2744242,48.8615812
END:VEVENT
BEGIN:VEVENT
DTSTART;TZID=Europe/London:20241116T160000
DTEND;TZID=Europe/London:20241116T190000
DTSTAMP:20260422T125849
CREATED:20241025T134648Z
LAST-MODIFIED:20250725T080925Z
UID:10000421-1731772800-1731783600@evokcollection.com
SUMMARY:Ateliers Evok Collection - Pâtisserie
DESCRIPTION:Plongez dans les coulisses de la Pâtisserie Brach Paris et confectionnez\, au cœur du « Labo »\, de délicieux cookies noisette.
URL:https://evokcollection.com/event/ateliers-evok-collection-patisserie/
LOCATION:Brach Paris\, Rue Jean Richepin\, Paris\, Département de Paris\, 75016\, France
ATTACH;FMTTYPE=image/png:https://evokcollection.com/wp-content/uploads/2024/10/atelier-patisserie.png
GEO:48.8615812;2.2744242
X-APPLE-STRUCTURED-LOCATION;VALUE=URI;X-ADDRESS=Brach Paris Rue Jean Richepin Paris Département de Paris 75016 France;X-APPLE-RADIUS=500;X-TITLE=Rue Jean Richepin:geo:2.2744242,48.8615812
END:VEVENT
BEGIN:VEVENT
DTSTART;TZID=Europe/London:20241116T100000
DTEND;TZID=Europe/London:20241116T120000
DTSTAMP:20260422T125849
CREATED:20241025T133943Z
LAST-MODIFIED:20250725T080824Z
UID:10000420-1731751200-1731758400@evokcollection.com
SUMMARY:Ateliers Evok Collection - Tapas
DESCRIPTION:Rendez-vous au Brach Paris afin de célébrer la gastronomie espagnole. Préparez de savoureuses tapas aux côtés d’un Chef de Brach Paris dans une atmosphère chaleureuse aux accents ibériques. \n 
URL:https://evokcollection.com/event/the-evok-collection-workshops-tapas/
LOCATION:Brach Paris\, Rue Jean Richepin\, Paris\, Département de Paris\, 75016\, France
ATTACH;FMTTYPE=image/png:https://evokcollection.com/wp-content/uploads/2024/10/atelier-tapas.png
GEO:48.8615812;2.2744242
X-APPLE-STRUCTURED-LOCATION;VALUE=URI;X-ADDRESS=Brach Paris Rue Jean Richepin Paris Département de Paris 75016 France;X-APPLE-RADIUS=500;X-TITLE=Rue Jean Richepin:geo:2.2744242,48.8615812
END:VEVENT
BEGIN:VEVENT
DTSTART;TZID=Europe/London:20241107T190000
DTEND;TZID=Europe/London:20241107T203000
DTSTAMP:20260422T125849
CREATED:20241008T070614Z
LAST-MODIFIED:20250725T080726Z
UID:10000411-1731006000-1731011400@evokcollection.com
SUMMARY:Rencontre @Brach Paris avec Pauline Déroulède
DESCRIPTION:Avec la complicité de Stéphane Tortora\, Brach Paris organise des rencontres mensuelles avec des personnalités publiques de tout horizon. Un moment de partage et d’échange sur un parcours\, une carrière\, une vie. \nNous sommes heureux de vous convier à une rencontre le jeudi 7 novembre à 19h dont l’invitée est Pauline Déroulède. \nEn 2018\, Pauline Déroulède est percutée par une voiture\, ce qui entraîne l’amputation de sa jambe. Quelques heures seulement après l’opération\, elle rassure ses proches : elle sera championne olympique ! \nLa rencontre se clôturera par une séance de dédicaces de son livre (Im)possible paru aux éditions HarperCollins en septembre 2024. Entre ombre et lumière\, force et fragilité\, ce récit bouleversant de sincérité raconte un destin exceptionnel et inspirant.
URL:https://evokcollection.com/event/rencontre-brach-paris-avec-pauline-deroulede/
LOCATION:Brach Paris\, Rue Jean Richepin\, Paris\, Département de Paris\, 75016\, France
CATEGORIES:Rencontres @Brach Paris
ATTACH;FMTTYPE=image/png:https://evokcollection.com/wp-content/uploads/2024/10/rencontre-brach-pauline-deroulede.png
GEO:48.8615812;2.2744242
X-APPLE-STRUCTURED-LOCATION;VALUE=URI;X-ADDRESS=Brach Paris Rue Jean Richepin Paris Département de Paris 75016 France;X-APPLE-RADIUS=500;X-TITLE=Rue Jean Richepin:geo:2.2744242,48.8615812
END:VEVENT
BEGIN:VEVENT
DTSTART;TZID=Europe/London:20241105T190000
DTEND;TZID=Europe/London:20241105T203000
DTSTAMP:20260422T125849
CREATED:20241023T123828Z
LAST-MODIFIED:20250725T080441Z
UID:10000415-1730833200-1730838600@evokcollection.com
SUMMARY:Champions x Brach Paris - Julien Lopez\, Champion du monde de ski freeride
DESCRIPTION:Brach Paris organise des rencontres en compagnie d’athlètes de haut niveau qui font le sport d’aujourd’hui et de demain. Ces champions partagent leur parcours\, leurs succès et leurs défis\, offrant ainsi des enseignements précieux. \nNous sommes ravis de vous convier à une rencontre en compagnie du Champion du monde de ski freeride\, Julien Lopez. \nMardi 5 novembre 2024 à 19h \nJulien Lopez\, athlète de renommée mondiale\, survivant à deux avalanches\, a remporté le titre de Champion du monde de ski freeride en 2009. Ce titre prestigieux couronne une carrière ponctuée d’impressionnants exploits. Les expériences extrêmes qu’il a vécues ont marqué sa vie et renforcé sa détermination.
URL:https://evokcollection.com/event/champions-x-brach-paris-julien-lopez/
LOCATION:Brach Paris\, Rue Jean Richepin\, Paris\, Département de Paris\, 75016\, France
CATEGORIES:Champions x Brach Paris
ATTACH;FMTTYPE=image/png:https://evokcollection.com/wp-content/uploads/2024/10/julien-lopez.png
GEO:48.8615812;2.2744242
X-APPLE-STRUCTURED-LOCATION;VALUE=URI;X-ADDRESS=Brach Paris Rue Jean Richepin Paris Département de Paris 75016 France;X-APPLE-RADIUS=500;X-TITLE=Rue Jean Richepin:geo:2.2744242,48.8615812
END:VEVENT
BEGIN:VEVENT
DTSTART;TZID=Europe/London:20241007T190000
DTEND;TZID=Europe/London:20241007T203000
DTSTAMP:20260422T125849
CREATED:20240712T134624Z
LAST-MODIFIED:20241001T144149Z
UID:10000337-1728327600-1728333000@evokcollection.com
SUMMARY:Masterclass wellness par Valérie Espinasse
DESCRIPTION:Brach Paris poursuit l’organisation de rendez-vous bien être.\nAnimées par des experts\, les Masterclasses Wellness ont pour thématiques la nutrition\, le bien-être holistique\, la gestion du stress\, l’équilibre mental et physique\, et bien plus encore. \nNous avons le plaisir de vous convier la masterclass « rétablir l’ordre dans le chaos des hormones »\, animée par la micro-nutritionniste Valérie Espinasse. Une session spécialement conçue pour retrouver un équilibre harmonieux entre votre poids et votre corps. \nValérie Espinasse\nValérie Espinasse est\, docteure en pharmacie\, Micro-nutritionniste et également diplômée de médecine prédictive et anti-âge. Elle s’est spécialisée sur les intolérances alimentaires et le microbiote intestinal. A ce titre\, elle consulte à Paris et a fondé la « MÉTHODE ESPINASSE » qui est une approche globale et personnalisée de la santé.
URL:https://evokcollection.com/event/masterclass-wellness-par-valerie-espinasse/
LOCATION:Brach Paris\, Rue Jean Richepin\, Paris\, Département de Paris\, 75016\, France
CATEGORIES:Masterclass Wellness
ATTACH;FMTTYPE=image/png:https://evokcollection.com/wp-content/uploads/2024/07/valerie-espinasse-fr-page-events-2.png
GEO:48.8615812;2.2744242
X-APPLE-STRUCTURED-LOCATION;VALUE=URI;X-ADDRESS=Brach Paris Rue Jean Richepin Paris Département de Paris 75016 France;X-APPLE-RADIUS=500;X-TITLE=Rue Jean Richepin:geo:2.2744242,48.8615812
END:VEVENT
BEGIN:VEVENT
DTSTART;TZID=Europe/London:20240930T190000
DTEND;TZID=Europe/London:20240930T203000
DTSTAMP:20260422T125849
CREATED:20240712T121627Z
LAST-MODIFIED:20240916T084007Z
UID:10000313-1727722800-1727728200@evokcollection.com
SUMMARY:Masterclass épigénétique par Clarins
DESCRIPTION:L’épigénétique et la peau\nClarins repousse encore les frontières de l’innovation anti-âge avec la nouvelle génération de son emblématique Double Sérum. À cette occasion\, nous avons le plaisir de vous convier à une masterclass sur l’épigénétique\, animée par Marie-Hélène Lair\, Docteur en Pharmacie\, directrice de l’innovation responsable de Clarins. \nLundi 30 septembre 2024 à 19h  \nL’épigénétique\, cette science qui explore la modification de l’expression des gènes\, a inspiré la technologie du nouveau Double Sérum. Enrichi en extrait de grand roseau de Provence\, ce soin révolutionnaire lutte contre les signes de l’âge.
URL:https://evokcollection.com/event/masterclass-epigenetique-par-clarins/
LOCATION:Brach Paris\, Rue Jean Richepin\, Paris\, Département de Paris\, 75016\, France
CATEGORIES:Masterclass Wellness
ATTACH;FMTTYPE=image/png:https://evokcollection.com/wp-content/uploads/2024/07/brach-latelier-1-gdelaubier-1.png
GEO:48.8615812;2.2744242
X-APPLE-STRUCTURED-LOCATION;VALUE=URI;X-ADDRESS=Brach Paris Rue Jean Richepin Paris Département de Paris 75016 France;X-APPLE-RADIUS=500;X-TITLE=Rue Jean Richepin:geo:2.2744242,48.8615812
END:VEVENT
BEGIN:VEVENT
DTSTART;TZID=Europe/London:20240913T090000
DTEND;TZID=Europe/London:20240913T110000
DTSTAMP:20260422T125849
CREATED:20240822T092941Z
LAST-MODIFIED:20250725T081623Z
UID:10000407-1726218000-1726225200@evokcollection.com
SUMMARY:Sessions Ice Bath par Caroline Arditti
DESCRIPTION:Vivez la magie de votre premier bain de glace au Brach Paris : une expérience animée par Caroline Arditti\, fondatrice du Paris Ice Club\, formée et certifiée de la méthode Wim Hof. \nLe vendredi 13 septembre 2024 de 9h à 11h \nVous êtes convié à une expérience de dépassement de soi par le froid comme vous ne l’avez jamais vécue. Plongez dans une eau glacée et explorez les pouvoirs de la respiration pour révéler le potentiel caché de votre corps. Une aventure holistique aux nombreux bienfaits pour le corps et l’esprit. \nPROGRAMME \nIntroduction aux bienfaits de la méthode Wim Hof\nRespiration guidée\, préparation physique et mentale\nImmersion dans un bain glacé\nDétente autour d’une boisson chaude \nPrix : 120€
URL:https://evokcollection.com/event/sessions-ice-bath-par-caroline-arditti/
LOCATION:Brach Paris\, Rue Jean Richepin\, Paris\, Département de Paris\, 75016\, France
ATTACH;FMTTYPE=image/png:https://evokcollection.com/wp-content/uploads/2024/08/paris-ice-club.png
GEO:48.8615812;2.2744242
X-APPLE-STRUCTURED-LOCATION;VALUE=URI;X-ADDRESS=Brach Paris Rue Jean Richepin Paris Département de Paris 75016 France;X-APPLE-RADIUS=500;X-TITLE=Rue Jean Richepin:geo:2.2744242,48.8615812
END:VEVENT
BEGIN:VEVENT
DTSTART;TZID=Europe/London:20240912T190000
DTEND;TZID=Europe/London:20240912T203000
DTSTAMP:20260422T125849
CREATED:20240822T090408Z
LAST-MODIFIED:20250725T081519Z
UID:10000405-1726167600-1726173000@evokcollection.com
SUMMARY:Masterclass Design Humain par Mélodie Jeanniard du Dot
DESCRIPTION:Le Design Humain est une pratique qui permet de comprendre et d’optimiser ses flux énergétiques personnels. Nous avons le plaisir de vous convier à une masterclass dédiée à cette approche\, animée par Melodie Jeanniard du Dot. \nLe jeudi 12 septembre à 19h \nLe Design Humain combine l’astrologie\, le I’ching\, le système de chakras et l’arbre de vie\, offrant un schéma corporel unique pour chacun. En découvrant son Design Humain\, il est possible de mieux gérer ses émotions\, utiliser son temps de manière optimale et naviguer dans ses relations avec plus d’harmonie. \nMelodie Jeanniard du Dot\, ancienne professionnelle de la beauté\, a découvert cette discipline en 2018 et est rapidement devenue une référence en France. Son approche pédagogique et son expertise rendent le Design Humain accessible et transformateur.
URL:https://evokcollection.com/event/masterclass-design-humain-par-melodie-jeanniard-du-dot/
LOCATION:Brach Paris\, Rue Jean Richepin\, Paris\, Département de Paris\, 75016\, France
CATEGORIES:Masterclass Wellness
ATTACH;FMTTYPE=image/png:https://evokcollection.com/wp-content/uploads/2024/08/design-humain.png
GEO:48.8615812;2.2744242
X-APPLE-STRUCTURED-LOCATION;VALUE=URI;X-ADDRESS=Brach Paris Rue Jean Richepin Paris Département de Paris 75016 France;X-APPLE-RADIUS=500;X-TITLE=Rue Jean Richepin:geo:2.2744242,48.8615812
END:VEVENT
BEGIN:VEVENT
DTSTART;TZID=Europe/London:20240708T120000
DTEND;TZID=Europe/London:20240722T180000
DTSTAMP:20260422T125849
CREATED:20240704T140841Z
LAST-MODIFIED:20240712T150122Z
UID:10000004-1720440000-1721671200@evokcollection.com
SUMMARY:Pop-up Lacoste Paris 1924
DESCRIPTION:Lacoste et Brach Paris\, partenaires depuis plusieurs années\, s’unissent à l’occasion d’un nouveau pop-up sportif à ne pas manquer.\nLacoste\, dont l’histoire est entremêlée à celle du sport\, rend hommage aux Jeux Olympiques passés\, et montre l’iconicité de la Maison à travers le lancement de sa nouvelle collection « Paris 1924 ». Cette ligne célèbre à travers huit pièces distinctes\, les légendaires Jeux Olympiques qui faisaient déjà battre le coeur de la ville de Paris il y a 100 ans. Il s’agit de la sixième collection « Olympic Heritage » créée dans le cadre de l’accord de licence conclu avec le Comité International Olympique.Une collection capsule qui reflète parfaitement les valeurs communes de la marque au Crocodile et de l’héritage olympique\, parmi lesquelles : l’audace\, le fairplay et l’authenticité. \nÀ retrouver au rez-de-chaussée de Brach Paris du 8 au 22 juillet 2024.
URL:https://evokcollection.com/event/pop-up-lacoste-paris-1924/
LOCATION:Brach Paris\, Rue Jean Richepin\, Paris\, Département de Paris\, 75016\, France
CATEGORIES:Pop-ups au Brach Paris
ATTACH;FMTTYPE=image/jpeg:https://evokcollection.com/wp-content/uploads/2024/07/040-020-16-9-scaled.jpg
GEO:48.8615812;2.2744242
X-APPLE-STRUCTURED-LOCATION;VALUE=URI;X-ADDRESS=Brach Paris Rue Jean Richepin Paris Département de Paris 75016 France;X-APPLE-RADIUS=500;X-TITLE=Rue Jean Richepin:geo:2.2744242,48.8615812
END:VEVENT
END:VCALENDAR