BEGIN:VCALENDAR
VERSION:2.0
PRODID:-//Evok Collection - ECPv6.15.17.1//NONSGML v1.0//EN
CALSCALE:GREGORIAN
METHOD:PUBLISH
X-WR-CALNAME:Evok Collection
X-ORIGINAL-URL:https://evokcollection.com
X-WR-CALDESC:Évènements pour Evok Collection
REFRESH-INTERVAL;VALUE=DURATION:PT1H
X-Robots-Tag:noindex
X-PUBLISHED-TTL:PT1H
BEGIN:VTIMEZONE
TZID:Europe/London
BEGIN:DAYLIGHT
TZOFFSETFROM:+0000
TZOFFSETTO:+0100
TZNAME:BST
DTSTART:20240331T010000
END:DAYLIGHT
BEGIN:STANDARD
TZOFFSETFROM:+0100
TZOFFSETTO:+0000
TZNAME:GMT
DTSTART:20241027T010000
END:STANDARD
BEGIN:DAYLIGHT
TZOFFSETFROM:+0000
TZOFFSETTO:+0100
TZNAME:BST
DTSTART:20250330T010000
END:DAYLIGHT
BEGIN:STANDARD
TZOFFSETFROM:+0100
TZOFFSETTO:+0000
TZNAME:GMT
DTSTART:20251026T010000
END:STANDARD
BEGIN:DAYLIGHT
TZOFFSETFROM:+0000
TZOFFSETTO:+0100
TZNAME:BST
DTSTART:20260329T010000
END:DAYLIGHT
BEGIN:STANDARD
TZOFFSETFROM:+0100
TZOFFSETTO:+0000
TZNAME:GMT
DTSTART:20261025T010000
END:STANDARD
END:VTIMEZONE
BEGIN:VEVENT
DTSTART;TZID=Europe/London:20250417T140000
DTEND;TZID=Europe/London:20250417T173000
DTSTAMP:20260423T101607
CREATED:20250310T153421Z
LAST-MODIFIED:20250725T072424Z
UID:10000540-1744898400-1744911000@evokcollection.com
SUMMARY:Chasse aux œufs au Nolinski Venezia
DESCRIPTION:Evok Collection perpétue la traditionnelle chasse aux œufs en offrant aux enfants l’opportunité de vivre une aventure ludique à travers les étages du Nolinski Venezia. À l’aide d’une carte et accompagnés d’un proche\, les enfants partiront à la découverte d’images cachées dans l’hôtel avant d’être récompensés par une surprise chocolatée et un goûter. \nLe jeudi 17 avril 2025 de 14h à 17h30
URL:https://evokcollection.com/event/chasse-a-loeuf-au-nolinski-venise/
LOCATION:Nolinski Venezia\, Calle Larga XXII Marzo\, Venezia\, Città Metropolitana di Venezia\, 30124\, Italy
CATEGORIES:Les chasses aux œufs
ATTACH;FMTTYPE=image/png:https://evokcollection.com/wp-content/uploads/2025/03/nl-nol.png
GEO:45.4329337;12.3347398
X-APPLE-STRUCTURED-LOCATION;VALUE=URI;X-ADDRESS=Nolinski Venezia Calle Larga XXII Marzo Venezia Città Metropolitana di Venezia 30124 Italy;X-APPLE-RADIUS=500;X-TITLE=Calle Larga XXII Marzo:geo:12.3347398,45.4329337
END:VEVENT
BEGIN:VEVENT
DTSTART;TZID=Europe/London:20250426T140000
DTEND;TZID=Europe/London:20250426T173000
DTSTAMP:20260423T101607
CREATED:20250314T094434Z
LAST-MODIFIED:20250725T072547Z
UID:10000546-1745676000-1745688600@evokcollection.com
SUMMARY:Chasse aux œufs au Brach Madrid
DESCRIPTION:Evok Collection perpétue la traditionnelle chasse aux œufs en offrant aux enfants l’opportunité de vivre une aventure ludique à travers les étages du Brach Madrid. À l’aide d’une carte et accompagnés d’un proche\, les enfants partiront à la découverte d’images cachées dans l’hôtel avant d’être récompensés par une surprise chocolatée et un goûter. \nSamedi 26 avril 2025 de 14h à 17h30
URL:https://evokcollection.com/event/chasse-aux-oeufs-evok-collection-brach-madrid/
LOCATION:Brach Madrid\, Gran Vía\, Madrid\, Madrid\, 28004\, Spain
CATEGORIES:Les chasses aux œufs
ATTACH;FMTTYPE=image/png:https://evokcollection.com/wp-content/uploads/2025/03/hippo.png
GEO:40.4200395;-3.7019354
X-APPLE-STRUCTURED-LOCATION;VALUE=URI;X-ADDRESS=Brach Madrid Gran Vía Madrid Madrid 28004 Spain;X-APPLE-RADIUS=500;X-TITLE=Gran Vía:geo:-3.7019354,40.4200395
END:VEVENT
BEGIN:VEVENT
DTSTART;TZID=Europe/London:20250430T140000
DTEND;TZID=Europe/London:20250430T173000
DTSTAMP:20260423T101607
CREATED:20250310T160608Z
LAST-MODIFIED:20250724T154930Z
UID:10000542-1746021600-1746034200@evokcollection.com
SUMMARY:Chasse aux œufs au Brach Paris
DESCRIPTION:Evok Collection perpétue la traditionnelle chasse aux œufs en offrant aux enfants l’opportunité de vivre une aventure ludique à travers les étages du Brach Paris. À l’aide d’une carte et accompagnés d’un proche\, les enfants partiront à la découverte d’images cachées dans l’hôtel avant d’être récompensés par une surprise chocolatée et un goûter. \nLe mercredi 30 avril 2025 de 14h à 17h30
URL:https://evokcollection.com/event/chasse-a-loeuf-au-brach-paris/
LOCATION:Brach Paris\, Rue Jean Richepin\, Paris\, Département de Paris\, 75016\, France
CATEGORIES:Les chasses aux œufs
ATTACH;FMTTYPE=image/png:https://evokcollection.com/wp-content/uploads/2025/03/cover-chasse-a-loeuf-52x.png
GEO:48.8615812;2.2744242
X-APPLE-STRUCTURED-LOCATION;VALUE=URI;X-ADDRESS=Brach Paris Rue Jean Richepin Paris Département de Paris 75016 France;X-APPLE-RADIUS=500;X-TITLE=Rue Jean Richepin:geo:2.2744242,48.8615812
END:VEVENT
BEGIN:VEVENT
DTSTART;TZID=Europe/London:20250430T150000
DTEND;TZID=Europe/London:20250430T180000
DTSTAMP:20260423T101607
CREATED:20250314T091211Z
LAST-MODIFIED:20250724T155020Z
UID:10000544-1746025200-1746036000@evokcollection.com
SUMMARY:Chasse aux œufs au Nolinski Paris
DESCRIPTION:Evok Collection perpétue la traditionnelle chasse aux œufs en offrant aux enfants l’opportunité de vivre une aventure ludique à travers les étages du Nolinski Paris. À l’aide d’une carte et accompagnés d’un proche\, les enfants partiront à la découverte d’images cachées dans l’hôtel avant d’être récompensés par une surprise chocolatée et un goûter. \nLe mercredi 30 avril 2025 de 15h à 18h
URL:https://evokcollection.com/event/chasse-aux-oeufs-evok-collection-nolinski-paris/
LOCATION:Nolinski Paris\, Avenue de l'Opéra\, Paris\, Département de Paris\, 75001\, France
CATEGORIES:Les chasses aux œufs
ATTACH;FMTTYPE=image/jpeg:https://evokcollection.com/wp-content/uploads/2025/03/chasse-aux-oeufs-2024-nolinski-simondetraz-28-scaled.jpg
GEO:48.8667241;2.3339412
X-APPLE-STRUCTURED-LOCATION;VALUE=URI;X-ADDRESS=Nolinski Paris Avenue de l'Opéra Paris Département de Paris 75001 France;X-APPLE-RADIUS=500;X-TITLE=Avenue de l'Opéra:geo:2.3339412,48.8667241
END:VEVENT
END:VCALENDAR