BEGIN:VCALENDAR
VERSION:2.0
PRODID:-//Evok Collection - ECPv6.15.17.1//NONSGML v1.0//EN
CALSCALE:GREGORIAN
METHOD:PUBLISH
X-WR-CALNAME:Evok Collection
X-ORIGINAL-URL:https://evokcollection.com
X-WR-CALDESC:Évènements pour Evok Collection
REFRESH-INTERVAL;VALUE=DURATION:PT1H
X-Robots-Tag:noindex
X-PUBLISHED-TTL:PT1H
BEGIN:VTIMEZONE
TZID:Europe/London
BEGIN:DAYLIGHT
TZOFFSETFROM:+0000
TZOFFSETTO:+0100
TZNAME:BST
DTSTART:20240331T010000
END:DAYLIGHT
BEGIN:STANDARD
TZOFFSETFROM:+0100
TZOFFSETTO:+0000
TZNAME:GMT
DTSTART:20241027T010000
END:STANDARD
BEGIN:DAYLIGHT
TZOFFSETFROM:+0000
TZOFFSETTO:+0100
TZNAME:BST
DTSTART:20250330T010000
END:DAYLIGHT
BEGIN:STANDARD
TZOFFSETFROM:+0100
TZOFFSETTO:+0000
TZNAME:GMT
DTSTART:20251026T010000
END:STANDARD
BEGIN:DAYLIGHT
TZOFFSETFROM:+0000
TZOFFSETTO:+0100
TZNAME:BST
DTSTART:20260329T010000
END:DAYLIGHT
BEGIN:STANDARD
TZOFFSETFROM:+0100
TZOFFSETTO:+0000
TZNAME:GMT
DTSTART:20261025T010000
END:STANDARD
END:VTIMEZONE
BEGIN:VEVENT
DTSTART;TZID=Europe/London:20250507T190000
DTEND;TZID=Europe/London:20250507T203000
DTSTAMP:20260423T014606
CREATED:20250129T162748Z
LAST-MODIFIED:20250724T154729Z
UID:10000518-1746644400-1746649800@evokcollection.com
SUMMARY:Concert de piano caritatif au Nolinski Venezia
DESCRIPTION:Aux côtés de l’association Coline en Ré\, Evok Collection organise des concerts de piano caritatifs de jeunes artistes virtuoses.\nColine en Ré est l’alliance de la musique classique jouée au plus haut niveau et d’une cause humanitaire. La musique voyagera entre Nolinski Paris et Nolinski Venezia\, lieux où la mélodie résonne avec une importance particulière. Coline en Ré est l’alliance de la musique classique jouée au plus haut niveau et d’une cause humanitaire. Les dons récoltés à la fin de chaque concert et la contribution d’Evok Collection participent à « renutrir » des enfants de familles malgaches extrêmement pauvres. Sauver un enfant dénutri coûte 10€. \nNous avons le plaisir de vous convier à un concert de Diana Cooper le mercredi 7 mai à 19h\, au Nolinski Venezia. \nÉvènement gratuit sur inscription
URL:https://evokcollection.com/event/concert-de-piano-caritatif-coline-en-re-nolinski-venezia-mercredi-7-mai/
LOCATION:Nolinski Venezia\, Calle Larga XXII Marzo\, Venezia\, Città Metropolitana di Venezia\, 30124\, Italy
CATEGORIES:Concerts de piano caritatifs
ATTACH;FMTTYPE=image/png:https://evokcollection.com/wp-content/uploads/2025/01/nolinski-venezia-bar-biliotheque.png
GEO:45.4329337;12.3347398
X-APPLE-STRUCTURED-LOCATION;VALUE=URI;X-ADDRESS=Nolinski Venezia Calle Larga XXII Marzo Venezia Città Metropolitana di Venezia 30124 Italy;X-APPLE-RADIUS=500;X-TITLE=Calle Larga XXII Marzo:geo:12.3347398,45.4329337
END:VEVENT
BEGIN:VEVENT
DTSTART;TZID=Europe/London:20250512T194500
DTEND;TZID=Europe/London:20250512T213000
DTSTAMP:20260423T014606
CREATED:20250130T092254Z
LAST-MODIFIED:20250724T155113Z
UID:10000522-1747079100-1747085400@evokcollection.com
SUMMARY:Rencontre philosophique avec Mathieu Lehanneur
DESCRIPTION:Chaque mois\, le Grand Salon du Nolinski Paris est le théâtre d’une discussion privilégiée entre le philosophe Emmanuel Leclercq\, fondateur de “Devenir pour Agir »\, et une personnalité publique. \nNous sommes heureux de vous convier à une rencontre philosophique avec Mathieu Lehanneur\, designer français visionnaire à l’origine de la Vasque et Torche Olympique Paris 2024\, dont les créations allient art\, science et innovation\, le lundi 12 mai 2025.
URL:https://evokcollection.com/event/rencontre-philosophique-animee-par-emmanuel-leclercq-3/
LOCATION:Nolinski Paris\, Avenue de l'Opéra\, Paris\, Département de Paris\, 75001\, France
CATEGORIES:Les rencontres philosophiques
ATTACH;FMTTYPE=image/png:https://evokcollection.com/wp-content/uploads/2025/01/nolinski-paris-grand-salon.png
GEO:48.8667241;2.3339412
X-APPLE-STRUCTURED-LOCATION;VALUE=URI;X-ADDRESS=Nolinski Paris Avenue de l'Opéra Paris Département de Paris 75001 France;X-APPLE-RADIUS=500;X-TITLE=Avenue de l'Opéra:geo:2.3339412,48.8667241
END:VEVENT
BEGIN:VEVENT
DTSTART;TZID=Europe/London:20250513T190000
DTEND;TZID=Europe/London:20250513T203000
DTSTAMP:20260423T014606
CREATED:20250129T165943Z
LAST-MODIFIED:20250725T083507Z
UID:10000520-1747162800-1747168200@evokcollection.com
SUMMARY:Masterclass Wellness animée par Valérie Espinasse - "La morphonutrition pour retrouver une silhouette harmonieuse"
DESCRIPTION:Nous avons le plaisir de vous retrouver le mardi 13 mai pour une Masterclass Wellness sur le thème de la morphonutrition animée la micro-nutritionniste Valérie Espinasse. \nÉvènement gratuit sur inscription
URL:https://evokcollection.com/event/masterclass-wellness-animee-par-valerie-espinasse-la-morphonutrition-pour-retrouver-une-silhouette-harmonieuse/
LOCATION:Brach Paris\, Rue Jean Richepin\, Paris\, Département de Paris\, 75016\, France
CATEGORIES:Masterclass Wellness
ATTACH;FMTTYPE=image/png:https://evokcollection.com/wp-content/uploads/2025/01/valerie-espinasse-fr-page-events.png
GEO:48.8615812;2.2744242
X-APPLE-STRUCTURED-LOCATION;VALUE=URI;X-ADDRESS=Brach Paris Rue Jean Richepin Paris Département de Paris 75016 France;X-APPLE-RADIUS=500;X-TITLE=Rue Jean Richepin:geo:2.2744242,48.8615812
END:VEVENT
BEGIN:VEVENT
DTSTART;VALUE=DATE:20250526
DTEND;VALUE=DATE:20250609
DTSTAMP:20260423T014606
CREATED:20250519T143724Z
LAST-MODIFIED:20250519T153351Z
UID:10000562-1748217600-1749427199@evokcollection.com
SUMMARY:Pop-up Sweat & Match Lacoste x Brach
DESCRIPTION:Sweat And Match\nLes plus belles rencontres ne s’annoncent pas. Elles se portent. Cette année\, Brach et Lacoste dévoilent un sweat unisexe\, monochrome\, comme une évidence : une pièce signature\, entre confort et élégance discrète. Le crocodile\, revisité\, s’invite dans l’univers Brach – symbole d’une collaboration unique\, à la fois subtile et affirmée. \nCette pièce est disponible du XS au XXL à partir du lundi 26 mai\, en édition limitée au Brach Paris et sur la boutique en ligne Evok  Collection. Elle est également disponible au Brach Madrid. \nPop-up au Brach Paris du 26 mai au 8 juin. Entrée libre. 
URL:https://evokcollection.com/event/pop-up-sweat-lacoste-au-brach-paris/
LOCATION:Brach Paris\, Rue Jean Richepin\, Paris\, Département de Paris\, 75016\, France
CATEGORIES:Pop-ups au Brach Paris
ATTACH;FMTTYPE=image/png:https://evokcollection.com/wp-content/uploads/2025/05/pop-up-sweat-lacoste-brach-paris-scaled.png
GEO:48.8615812;2.2744242
X-APPLE-STRUCTURED-LOCATION;VALUE=URI;X-ADDRESS=Brach Paris Rue Jean Richepin Paris Département de Paris 75016 France;X-APPLE-RADIUS=500;X-TITLE=Rue Jean Richepin:geo:2.2744242,48.8615812
END:VEVENT
BEGIN:VEVENT
DTSTART;TZID=Europe/London:20250527T193000
DTEND;TZID=Europe/London:20250527T210000
DTSTAMP:20260423T014606
CREATED:20250123T102200Z
LAST-MODIFIED:20250724T153345Z
UID:10000494-1748374200-1748379600@evokcollection.com
SUMMARY:John Gade x Nolinski Paris – récital de piano
DESCRIPTION:Une série de récitals de piano mensuels au Nolinski Paris par John Gade\, reconnu pour sa virtuosité et sa sensibilité artistique.\nAmbassadeur de la Fondation Banque Populaire en Méditerranée\, John Gade est un célèbre pianiste\, violoniste et compositeur français de renommée internationale. Il a remporté de nombreux prix prestigieux\, dont le premier prix du concours international Scriabine. \nChaque mois\, Nolinski Paris vibre au rythme de son univers sonore riche et captivant\, où chaque note résonne avec grâce et émotion. \nQue vous soyez un mélomane averti ou un amateur curieux\, ces concerts mensuels seront une occasion unique de découvrir ou redécouvrir la magie de la musique classique dans le cadre élégant et intimiste du Nolinski Paris. \nÉvènement gratuit sur inscription
URL:https://evokcollection.com/event/john-gade-x-nolinski-paris-recital-de-piano-5/
LOCATION:Nolinski Paris\, Avenue de l'Opéra\, Paris\, Département de Paris\, 75001\, France
CATEGORIES:John Gade x Nolinski Paris - Récital de piano
ATTACH;FMTTYPE=image/png:https://evokcollection.com/wp-content/uploads/2024/07/recital-piano-john-gade.png
GEO:48.8667241;2.3339412
X-APPLE-STRUCTURED-LOCATION;VALUE=URI;X-ADDRESS=Nolinski Paris Avenue de l'Opéra Paris Département de Paris 75001 France;X-APPLE-RADIUS=500;X-TITLE=Avenue de l'Opéra:geo:2.3339412,48.8667241
END:VEVENT
BEGIN:VEVENT
DTSTART;TZID=Europe/London:20250528T193000
DTEND;TZID=Europe/London:20250528T210000
DTSTAMP:20260423T014606
CREATED:20250430T152308Z
LAST-MODIFIED:20250724T153418Z
UID:10000556-1748460600-1748466000@evokcollection.com
SUMMARY:Brilliant Women Circle x Brach Madrid avec Irene Cano
DESCRIPTION:Nous sommes ravis de vous accueillir pour une conversation avec Irene Cano\, dans le cadre du « Brilliant Women Circle« \, une série de conversations mensuelles animées par Sara Zaldívar\, qui met en lumière des femmes inspirantes aux parcours variés. Chaque rencontre propose un échange intimiste au cours duquel l’invitée partage son parcours personnel\, les leçons qu’elle a tirées de son expérience\, ainsi que les défis qu’elle a dû relever. \nMercredi 28 mai à 19h30 \nÉvènement gratuit sur inscription
URL:https://evokcollection.com/event/brilliant-women-circle-avec-sara-zaldivar-au-brach-madrid/
LOCATION:Brach Madrid\, Gran Vía\, Madrid\, Madrid\, 28004\, Spain
CATEGORIES:Brilliant Women Circle
ATTACH;FMTTYPE=image/png:https://evokcollection.com/wp-content/uploads/2025/04/sara-x-irene-scaled.png
GEO:40.4200395;-3.7019354
X-APPLE-STRUCTURED-LOCATION;VALUE=URI;X-ADDRESS=Brach Madrid Gran Vía Madrid Madrid 28004 Spain;X-APPLE-RADIUS=500;X-TITLE=Gran Vía:geo:-3.7019354,40.4200395
END:VEVENT
END:VCALENDAR