BEGIN:VCALENDAR
VERSION:2.0
PRODID:-//Evok Collection - ECPv6.15.17.1//NONSGML v1.0//EN
CALSCALE:GREGORIAN
METHOD:PUBLISH
X-WR-CALNAME:Evok Collection
X-ORIGINAL-URL:https://evokcollection.com
X-WR-CALDESC:Évènements pour Evok Collection
REFRESH-INTERVAL;VALUE=DURATION:PT1H
X-Robots-Tag:noindex
X-PUBLISHED-TTL:PT1H
BEGIN:VTIMEZONE
TZID:Europe/London
BEGIN:DAYLIGHT
TZOFFSETFROM:+0000
TZOFFSETTO:+0100
TZNAME:BST
DTSTART:20240331T010000
END:DAYLIGHT
BEGIN:STANDARD
TZOFFSETFROM:+0100
TZOFFSETTO:+0000
TZNAME:GMT
DTSTART:20241027T010000
END:STANDARD
BEGIN:DAYLIGHT
TZOFFSETFROM:+0000
TZOFFSETTO:+0100
TZNAME:BST
DTSTART:20250330T010000
END:DAYLIGHT
BEGIN:STANDARD
TZOFFSETFROM:+0100
TZOFFSETTO:+0000
TZNAME:GMT
DTSTART:20251026T010000
END:STANDARD
BEGIN:DAYLIGHT
TZOFFSETFROM:+0000
TZOFFSETTO:+0100
TZNAME:BST
DTSTART:20260329T010000
END:DAYLIGHT
BEGIN:STANDARD
TZOFFSETFROM:+0100
TZOFFSETTO:+0000
TZNAME:GMT
DTSTART:20261025T010000
END:STANDARD
END:VTIMEZONE
BEGIN:VEVENT
DTSTART;VALUE=DATE:20250526
DTEND;VALUE=DATE:20250609
DTSTAMP:20260423T000932
CREATED:20250519T143724Z
LAST-MODIFIED:20250519T153351Z
UID:10000562-1748217600-1749427199@evokcollection.com
SUMMARY:Pop-up Sweat & Match Lacoste x Brach
DESCRIPTION:Sweat And Match\nLes plus belles rencontres ne s’annoncent pas. Elles se portent. Cette année\, Brach et Lacoste dévoilent un sweat unisexe\, monochrome\, comme une évidence : une pièce signature\, entre confort et élégance discrète. Le crocodile\, revisité\, s’invite dans l’univers Brach – symbole d’une collaboration unique\, à la fois subtile et affirmée. \nCette pièce est disponible du XS au XXL à partir du lundi 26 mai\, en édition limitée au Brach Paris et sur la boutique en ligne Evok  Collection. Elle est également disponible au Brach Madrid. \nPop-up au Brach Paris du 26 mai au 8 juin. Entrée libre. 
URL:https://evokcollection.com/event/pop-up-sweat-lacoste-au-brach-paris/
LOCATION:Brach Paris\, Rue Jean Richepin\, Paris\, Département de Paris\, 75016\, France
CATEGORIES:Pop-ups au Brach Paris
ATTACH;FMTTYPE=image/png:https://evokcollection.com/wp-content/uploads/2025/05/pop-up-sweat-lacoste-brach-paris-scaled.png
GEO:48.8615812;2.2744242
X-APPLE-STRUCTURED-LOCATION;VALUE=URI;X-ADDRESS=Brach Paris Rue Jean Richepin Paris Département de Paris 75016 France;X-APPLE-RADIUS=500;X-TITLE=Rue Jean Richepin:geo:2.2744242,48.8615812
END:VEVENT
BEGIN:VEVENT
DTSTART;TZID=Europe/London:20250604T080000
DTEND;TZID=Europe/London:20250604T103000
DTSTAMP:20260423T000932
CREATED:20250506T100344Z
LAST-MODIFIED:20250523T152558Z
UID:10000557-1749024000-1749033000@evokcollection.com
SUMMARY:Petit déjeuner Legend Ladies avec Sidonie Mérieux
DESCRIPTION:Avec la complicité de Laura Lesueur\, Nolinski Paris organise des moments d’échange avec des personnalités inspirantes d’horizons divers. \nNous avons le plaisir de vous convier à une rencontre Legend Ladies en compagnie de Sidonie Mérieux\, fondatrice de HeR Value\, cabinet de recrutement de femmes administratrices. Elle a également développé une formation avec l’EM Lyon au rôle d’administratrice indépendante. \nMercredi 4 juin 2025 de 8h à 10h30 \nÉvènement gratuit sur inscription
URL:https://evokcollection.com/event/petit-dejeuner-legend-ladies-avec-sidonie-merieux/
LOCATION:Nolinski Paris\, Avenue de l'Opéra\, Paris\, Département de Paris\, 75001\, France
CATEGORIES:Les petits-déjeuners Legend Ladies
ATTACH;FMTTYPE=image/png:https://evokcollection.com/wp-content/uploads/2025/05/legend-ladies-sidonie-merieux-scaled.png
GEO:48.8667241;2.3339412
X-APPLE-STRUCTURED-LOCATION;VALUE=URI;X-ADDRESS=Nolinski Paris Avenue de l'Opéra Paris Département de Paris 75001 France;X-APPLE-RADIUS=500;X-TITLE=Avenue de l'Opéra:geo:2.3339412,48.8667241
END:VEVENT
BEGIN:VEVENT
DTSTART;TZID=Europe/London:20250604T190000
DTEND;TZID=Europe/London:20250604T210000
DTSTAMP:20260423T000932
CREATED:20250417T135952Z
LAST-MODIFIED:20250724T153114Z
UID:10000552-1749063600-1749070800@evokcollection.com
SUMMARY:Rencontre avec Michel Drucker au Brach Paris
DESCRIPTION:Avec la complicité de Stéphane Tortora\, Brach Paris organise des rencontres mensuelles avec des personnalités publiques de tout horizon.\nNous sommes heureux de vous convier à une rencontre le mercredi 4 juin 2025 dont l’invité est Michel Drucker. Animateur et journaliste français de renom\, Michel Drucker est particulièrement célèbre pour son émission Vivement dimanche\, qu’il anime depuis 1998. Avec plusieurs décennies d’expérience\, il a laissé une empreinte durable sur la télévision française\, en recevant de nombreuses personnalités et en animant de nombreux programmes emblématiques. \nMercredi 4 juin à 19h \nÉvénement gratuit sur inscription
URL:https://evokcollection.com/event/rencontre-avec-michel-drucker-au-brach-paris-le-mercredi-4-juin/
LOCATION:Brach Paris\, Rue Jean Richepin\, Paris\, Département de Paris\, 75016\, France
CATEGORIES:Rencontres @Brach Paris
ATTACH;FMTTYPE=image/png:https://evokcollection.com/wp-content/uploads/2025/04/04-06-25-michel-drucker-1-scaled.png
GEO:48.8615812;2.2744242
X-APPLE-STRUCTURED-LOCATION;VALUE=URI;X-ADDRESS=Brach Paris Rue Jean Richepin Paris Département de Paris 75016 France;X-APPLE-RADIUS=500;X-TITLE=Rue Jean Richepin:geo:2.2744242,48.8615812
END:VEVENT
BEGIN:VEVENT
DTSTART;TZID=Europe/London:20250611T190000
DTEND;TZID=Europe/London:20250611T210000
DTSTAMP:20260423T000932
CREATED:20250212T130759Z
LAST-MODIFIED:20250724T153607Z
UID:10000530-1749668400-1749675600@evokcollection.com
SUMMARY:Concert de piano caritatif au Nolinski Paris par Raphaël Collard
DESCRIPTION:Aux côtés de l’association Coline en Ré\, Evok Collection organise des concerts de piano caritatifs de jeunes artistes virtuoses. \nLa musique voyagera entre Nolinski Paris et Nolinski Venezia\, lieux où la mélodie résonne avec une importance particulière. Coline en Ré est l’alliance de la musique classique jouée au plus haut niveau et d’une cause humanitaire. Les dons récoltés à la fin de chaque concert et la contribution d’Evok Collection participent à « renutrir » des enfants de familles malgaches extrêmement pauvres. Sauver un enfant dénutri coûte 10€. \nNous avons le plaisir de vous convier à un concert de Raphaël Collard le mercredi 11 juin 2025 à 19h\, au Nolinski Paris.
URL:https://evokcollection.com/event/concert-de-piano-caritatif-au-nolinski-paris-4/
LOCATION:Nolinski Paris\, Avenue de l'Opéra\, Paris\, Département de Paris\, 75001\, France
CATEGORIES:Concerts de piano caritatifs
ATTACH;FMTTYPE=image/png:https://evokcollection.com/wp-content/uploads/2025/01/nolinski-paris-grand-salon.png
GEO:48.8667241;2.3339412
X-APPLE-STRUCTURED-LOCATION;VALUE=URI;X-ADDRESS=Nolinski Paris Avenue de l'Opéra Paris Département de Paris 75001 France;X-APPLE-RADIUS=500;X-TITLE=Avenue de l'Opéra:geo:2.3339412,48.8667241
END:VEVENT
BEGIN:VEVENT
DTSTART;TZID=Europe/London:20250615T160000
DTEND;TZID=Europe/London:20250615T180000
DTSTAMP:20260423T000932
CREATED:20240715T152409Z
LAST-MODIFIED:20251013T153715Z
UID:10000467-1750003200-1750010400@evokcollection.com
SUMMARY:Atelier Showgirl au Nolinski Paris
DESCRIPTION:Une fois par mois\, Kalon vous propose des ateliers « Showgirl » au Nolinski Paris dans l’ambiance feutrée et intime du Grand Salon.\nLa méthode Kalon et ses différents ateliers ont été conçus pour affiner et sculpter le corps comme une danseuse\, sans avoir besoin de l’être. Lors de cet atelier\, retrouvez les danseuses Kalon pour une séance intense de Cardio Barre suivie de l’apprentissage d’une vraie chorégraphie « Showgirl ». \nPROGRAMME\n16H00\n30 minutes de Kalon Cardio Barre pour tonifier\, renforcer et affiner son corps\, tout en échauffant ses muscles pour la chorégraphie qui suivra\n16H30\nApprentissage de marche en talons avec élégance pour se préparer à la chorégraphie\, puis chorégraphie showgirl\n17H30 – 18H00\nCocktail et moment d’échange \nPour cet atelier\, pensez à prendre avec vous : chaussures à talons confortables\, legging/shorty\, brassière/petit haut et chaussettes.
URL:https://evokcollection.com/event/atelier-showgirl-au-nolinski-paris/2025-06-15/
LOCATION:Nolinski Paris\, Avenue de l'Opéra\, Paris\, Département de Paris\, 75001\, France
CATEGORIES:Ateliers Showgirl Kalon
ATTACH;FMTTYPE=image/png:https://evokcollection.com/wp-content/uploads/2024/07/ateliers-showgirl-kalon-nolinski-paris.png
GEO:48.8667241;2.3339412
X-APPLE-STRUCTURED-LOCATION;VALUE=URI;X-ADDRESS=Nolinski Paris Avenue de l'Opéra Paris Département de Paris 75001 France;X-APPLE-RADIUS=500;X-TITLE=Avenue de l'Opéra:geo:2.3339412,48.8667241
END:VEVENT
BEGIN:VEVENT
DTSTART;TZID=Europe/London:20250616T194500
DTEND;TZID=Europe/London:20250616T213000
DTSTAMP:20260423T000932
CREATED:20250515T085225Z
LAST-MODIFIED:20250724T153840Z
UID:10000558-1750103100-1750109400@evokcollection.com
SUMMARY:Rencontre philosophique avec Mathias Barthes au Nolinski Paris
DESCRIPTION:Chaque mois\, le Grand Salon du Nolinski Paris est le théâtre d’une discussion privilégiée entre le philosophe Emmanuel Leclercq et une personnalité publique. \nDocteur en Philosophie\, Emmanuel Leclercq enseigne la philosophie en lycée et l’Ethique de l’IA en Ecole de Commerce à Paris. Il est le fondateur de « Devenir pour Agir »\, première émission française d’interviews philosophiques de personnalités publiques. \nVous êtes conviés à une rencontre philosophique avec le mentaliste Mathias Barthes. À l’occasion de cette rencontre\, sera proposée une séance de dédicaces de son livre L’expérience\, publié le 8 janvier 2025 aux Éditions Fayard. \nLundi 16 juin à 19h \n 
URL:https://evokcollection.com/event/rencontre-philosophique-animee-par-emmanuel-leclercq-au-nolinski-paris/
LOCATION:Nolinski Paris\, Avenue de l'Opéra\, Paris\, Département de Paris\, 75001\, France
CATEGORIES:Les rencontres philosophiques
ATTACH;FMTTYPE=image/png:https://evokcollection.com/wp-content/uploads/2025/05/new-in-rencontre-philosophique-mathias-barthes.png
GEO:48.8667241;2.3339412
X-APPLE-STRUCTURED-LOCATION;VALUE=URI;X-ADDRESS=Nolinski Paris Avenue de l'Opéra Paris Département de Paris 75001 France;X-APPLE-RADIUS=500;X-TITLE=Avenue de l'Opéra:geo:2.3339412,48.8667241
END:VEVENT
BEGIN:VEVENT
DTSTART;TZID=Europe/London:20250618T180000
DTEND;TZID=Europe/London:20250618T200000
DTSTAMP:20260423T000932
CREATED:20250515T142554Z
LAST-MODIFIED:20250724T154154Z
UID:10000560-1750269600-1750276800@evokcollection.com
SUMMARY:Présentation et signature du livre À Toi du philosophe Emmanuel Leclercq au Brach Paris
DESCRIPTION:Vous êtes conviés au lancement officiel et à la présentation-signature du dixième livre\, À Toi\, du philosophe Emmanuel Leclercq le mercredi 18 juin à 18h au Brach Paris. À Toi est un vibrant appel lancé à la jeunesse européenne\, mais aussi à toute personne qui porte en elle cette force tranquille de l’espérance : la jeunesse intérieure. \nEmmanuel Leclercq est un philosophe\, essayiste et conférencier. Il enseigne la philosophie et l’éthique de l’IA et est le fondateur de « Devenir pour Agir ». \nLe mercredi 18 juin à 18h
URL:https://evokcollection.com/event/presentation-et-signature-du-livre-a-toi-du-philosophe-emmanuel-leclercq-au-brach-paris/
LOCATION:Brach Paris Rue Jean Richepin\, Paris\, Département de Paris\, France\, Rue Jean Richepin\, Paris\, Paris\, 75016\, France
ATTACH;FMTTYPE=image/png:https://evokcollection.com/wp-content/uploads/2025/05/emmanuel-leclercq-signature.png
GEO:48.8615812;2.2744242
X-APPLE-STRUCTURED-LOCATION;VALUE=URI;X-ADDRESS=Brach Paris Rue Jean Richepin Paris Département de Paris France Rue Jean Richepin Paris Paris 75016 France;X-APPLE-RADIUS=500;X-TITLE=Rue Jean Richepin:geo:2.2744242,48.8615812
END:VEVENT
BEGIN:VEVENT
DTSTART;TZID=Europe/London:20250619T193000
DTEND;TZID=Europe/London:20250619T210000
DTSTAMP:20260423T000932
CREATED:20250123T102624Z
LAST-MODIFIED:20250724T154322Z
UID:10000496-1750361400-1750366800@evokcollection.com
SUMMARY:John Gade x Nolinski Paris – récital de piano
DESCRIPTION:Une série de récitals de piano mensuels au Nolinski Paris par John Gade\, reconnu pour sa virtuosité et sa sensibilité artistique.\nAmbassadeur de la Fondation Banque Populaire en Méditerranée\, John Gade est un célèbre pianiste\, violoniste et compositeur français de renommée internationale. Il a remporté de nombreux prix prestigieux\, dont le premier prix du concours international Scriabine. \nChaque mois\, Nolinski Paris vibre au rythme de son univers sonore riche et captivant\, où chaque note résonne avec grâce et émotion. \nQue vous soyez un mélomane averti ou un amateur curieux\, ces concerts mensuels seront une occasion unique de découvrir ou redécouvrir la magie de la musique classique dans le cadre élégant et intimiste du Nolinski Paris.
URL:https://evokcollection.com/event/john-gade-x-nolinski-paris-recital-de-piano-6/
LOCATION:Nolinski Paris\, Avenue de l'Opéra\, Paris\, Département de Paris\, 75001\, France
CATEGORIES:John Gade x Nolinski Paris - Récital de piano
ATTACH;FMTTYPE=image/png:https://evokcollection.com/wp-content/uploads/2024/07/recital-piano-john-gade.png
GEO:48.8667241;2.3339412
X-APPLE-STRUCTURED-LOCATION;VALUE=URI;X-ADDRESS=Nolinski Paris Avenue de l'Opéra Paris Département de Paris 75001 France;X-APPLE-RADIUS=500;X-TITLE=Avenue de l'Opéra:geo:2.3339412,48.8667241
END:VEVENT
BEGIN:VEVENT
DTSTART;TZID=Europe/London:20250621T100000
DTEND;TZID=Europe/London:20250621T130000
DTSTAMP:20260423T000932
CREATED:20250612T121011Z
LAST-MODIFIED:20250724T154450Z
UID:10000571-1750500000-1750510800@evokcollection.com
SUMMARY:Atelier d'aquarelle botanique au Brach Madrid
DESCRIPTION:Nous sommes ravis de vous accueillir pour un atelier avec l’artisane Kata Zapata\, dans le cadre de la Madrid Craft Week. Cet événement célèbre et met en valeur l’artisanat d’art et le luxe au niveau national. Il est soutenu par certains des artisans et marques les plus renommés au niveau national et international\, à travers des formations\, des ateliers et des expériences uniques\, avec l’aide de la mairie de Madrid et des délégations du tourisme\, du commerce et de l’hôtellerie-restauration. \nLors de cet atelier\, vous apprendrez à peindre des pivoines à l’aquarelle\, étape par étape\, dans une atmosphère détendue et stimulante. \nKata est une aquarelliste botanique et la fondatrice de Save the Date Projects\, connue pour animer des ateliers créatifs dans plusieurs villes depuis plus de cinq ans. \nSamedi 21 juin 2025 de 10H00 à 13h00 \nÉvénement payant sur inscription.
URL:https://evokcollection.com/event/atelier-de-peinture-au-brach-madrid/
LOCATION:Brach Madrid\, Gran Vía\, Madrid\, Madrid\, 28004\, Spain
ATTACH;FMTTYPE=image/png:https://evokcollection.com/wp-content/uploads/2025/06/kata-zapata-madrid-craft-week-scaled.png
GEO:40.4200395;-3.7019354
X-APPLE-STRUCTURED-LOCATION;VALUE=URI;X-ADDRESS=Brach Madrid Gran Vía Madrid Madrid 28004 Spain;X-APPLE-RADIUS=500;X-TITLE=Gran Vía:geo:-3.7019354,40.4200395
END:VEVENT
BEGIN:VEVENT
DTSTART;TZID=Europe/London:20250625T110000
DTEND;TZID=Europe/London:20250629T213000
DTSTAMP:20260423T000932
CREATED:20250613T092246Z
LAST-MODIFIED:20250613T094738Z
UID:10000573-1750849200-1751232600@evokcollection.com
SUMMARY:Pop-up House of Ayala au Brach Madrid
DESCRIPTION:Nous sommes ravis de vous accueillir au pop-up House of Ayala au Brach Madrid du 25 juin 2025 au 29 juin 2025. \nHouse of Ayala est une entreprise qui fusionne l’art\, l’architecture et la mode\, fondée en 2015 par le créateur de mode mexicain Jorge Ayala de Riberolles. Chaque vêtement Ayala est un manifeste de créativité. La vision de Jorge Ayala réinvente les silhouettes à travers l’architecture en utilisant des matériaux déconcertants avec des designs avant-gardistes qui montrent l’évolution constante au sein de sa création\, s’imposant comme l’une des figures les plus avant-gardistes de l’industrie. \nLors de ce pop-up\, vous découvrirez les carrés et les foulards\, 100% soie\, fabriqués à la main au lac de Côme. \nDu mercredi 25 juin 2025 au dimanche 29 juin 2025\nMercredi au vendredi : 13h – 21h30\nSamedi et dimanche : 11h – 21h
URL:https://evokcollection.com/event/pop-up-house-of-ayala-au-brach-madrid/
LOCATION:Brach Madrid\, Gran Vía\, Madrid\, Madrid\, 28004\, Spain
ATTACH;FMTTYPE=image/png:https://evokcollection.com/wp-content/uploads/2025/06/pop-up-ayala-vert-new-in.png
GEO:40.4200395;-3.7019354
X-APPLE-STRUCTURED-LOCATION;VALUE=URI;X-ADDRESS=Brach Madrid Gran Vía Madrid Madrid 28004 Spain;X-APPLE-RADIUS=500;X-TITLE=Gran Vía:geo:-3.7019354,40.4200395
END:VEVENT
BEGIN:VEVENT
DTSTART;TZID=Europe/London:20250625T193000
DTEND;TZID=Europe/London:20250625T210000
DTSTAMP:20260423T000932
CREATED:20250604T142412Z
LAST-MODIFIED:20250724T154522Z
UID:10000569-1750879800-1750885200@evokcollection.com
SUMMARY:Brilliant Women Circle avec Valentina Suárez Zuloaga et Margarita Ruyra de Andrade au Brach Madrid
DESCRIPTION:Nous sommes ravis de vous accueillir pour une conversation avec Valentina Suárez Zuloaga et Margarita Ruyra de Andrade dans le cadre du «Brilliant Women Circle»\, une série de conversations mensuelles animées par Sara Zaldívar\, qui met en lumière des femmes inspirantes aux parcours variés. Chaque rencontre propose un échange intimiste au cours duquel l’invitée partage son parcours personnel\, les leçons qu’elle a tirées de son expérience\, ainsi que les défis qu’elle a dû relever. \nValentina est la fondatrice et la directrice générale d’ES Fascinante. Elle dirige le projet avec une vision durable et éthique. Margarita\, cofondatrice\, apporte à la marque son expertise en matière d’art\, de design et de culture. \nMercredi 25 juin 2025 à 19h30 \nÉvénement gratuit sur inscription
URL:https://evokcollection.com/event/brilliant-women-circle-avec-valentina-suarez-zuloaga-et-margarita-ruyra-de-andrade-25-juin-2025/
LOCATION:Brach Madrid\, Gran Vía\, Madrid\, Madrid\, 28004\, Spain
CATEGORIES:Brilliant Women Circle
ATTACH;FMTTYPE=image/png:https://evokcollection.com/wp-content/uploads/2025/06/new-in-sara-x-valentina-et-margarita-scaled.png
GEO:40.4200395;-3.7019354
X-APPLE-STRUCTURED-LOCATION;VALUE=URI;X-ADDRESS=Brach Madrid Gran Vía Madrid Madrid 28004 Spain;X-APPLE-RADIUS=500;X-TITLE=Gran Vía:geo:-3.7019354,40.4200395
END:VEVENT
END:VCALENDAR