BEGIN:VCALENDAR
VERSION:2.0
PRODID:-//Evok Collection - ECPv6.15.17.1//NONSGML v1.0//EN
CALSCALE:GREGORIAN
METHOD:PUBLISH
X-WR-CALNAME:Evok Collection
X-ORIGINAL-URL:https://evokcollection.com
X-WR-CALDESC:Évènements pour Evok Collection
REFRESH-INTERVAL;VALUE=DURATION:PT1H
X-Robots-Tag:noindex
X-PUBLISHED-TTL:PT1H
BEGIN:VTIMEZONE
TZID:Europe/London
BEGIN:DAYLIGHT
TZOFFSETFROM:+0000
TZOFFSETTO:+0100
TZNAME:BST
DTSTART:20240331T010000
END:DAYLIGHT
BEGIN:STANDARD
TZOFFSETFROM:+0100
TZOFFSETTO:+0000
TZNAME:GMT
DTSTART:20241027T010000
END:STANDARD
BEGIN:DAYLIGHT
TZOFFSETFROM:+0000
TZOFFSETTO:+0100
TZNAME:BST
DTSTART:20250330T010000
END:DAYLIGHT
BEGIN:STANDARD
TZOFFSETFROM:+0100
TZOFFSETTO:+0000
TZNAME:GMT
DTSTART:20251026T010000
END:STANDARD
BEGIN:DAYLIGHT
TZOFFSETFROM:+0000
TZOFFSETTO:+0100
TZNAME:BST
DTSTART:20260329T010000
END:DAYLIGHT
BEGIN:STANDARD
TZOFFSETFROM:+0100
TZOFFSETTO:+0000
TZNAME:GMT
DTSTART:20261025T010000
END:STANDARD
END:VTIMEZONE
BEGIN:VEVENT
DTSTART;TZID=Europe/London:20250914T160000
DTEND;TZID=Europe/London:20250914T180000
DTSTAMP:20260422T193158
CREATED:20251008T122948Z
LAST-MODIFIED:20251008T122948Z
UID:10000468-1757865600-1757872800@evokcollection.com
SUMMARY:Atelier Showgirl au Nolinski Paris
DESCRIPTION:Une fois par mois\, Kalon vous propose des ateliers « Showgirl » au Nolinski Paris dans l’ambiance feutrée et intime du Grand Salon.\nLa méthode Kalon et ses différents ateliers ont été conçus pour affiner et sculpter le corps comme une danseuse\, sans avoir besoin de l’être. Lors de cet atelier\, retrouvez les danseuses Kalon pour une séance intense de Cardio Barre suivie de l’apprentissage d’une vraie chorégraphie « Showgirl ». \nPROGRAMME\n16H00\n30 minutes de Kalon Cardio Barre pour tonifier\, renforcer et affiner son corps\, tout en échauffant ses muscles pour la chorégraphie qui suivra\n16H30\nApprentissage de marche en talons avec élégance pour se préparer à la chorégraphie\, puis chorégraphie showgirl\n17H30 – 18H00\nCocktail et moment d’échange \nPour cet atelier\, pensez à prendre avec vous : chaussures à talons confortables\, legging/shorty\, brassière/petit haut et chaussettes.
URL:https://evokcollection.com/event/atelier-showgirl-au-nolinski-paris-2/
LOCATION:Nolinski Paris\, Avenue de l'Opéra\, Paris\, Département de Paris\, 75001\, France
CATEGORIES:Ateliers Showgirl Kalon
ATTACH;FMTTYPE=image/png:https://evokcollection.com/wp-content/uploads/2024/07/ateliers-showgirl-kalon-nolinski-paris.png
GEO:48.8667241;2.3339412
X-APPLE-STRUCTURED-LOCATION;VALUE=URI;X-ADDRESS=Nolinski Paris Avenue de l'Opéra Paris Département de Paris 75001 France;X-APPLE-RADIUS=500;X-TITLE=Avenue de l'Opéra:geo:2.3339412,48.8667241
END:VEVENT
BEGIN:VEVENT
DTSTART;VALUE=DATE:20250922
DTEND;VALUE=DATE:20251006
DTSTAMP:20260422T193158
CREATED:20250828T153349Z
LAST-MODIFIED:20250828T153750Z
UID:10000594-1758499200-1759708799@evokcollection.com
SUMMARY:Hotel Tapa Tour au Brach Madrid
DESCRIPTION:Le festival Hotel Tapa Tour célèbre dix ans d’engagement pour la promotion de la gastronomie hôtelière à Madrid et Barcelone\, mettant en avant la tapa comme expression créative de la haute cuisine. Cet événement vous invite à un voyage gastronomique à travers certains des hôtels les plus prestigieux de la capitale\, chacun proposant jusqu’à quatre tapas signatures reflétant son identité culinaire.\nPour cette édition\, Brach Madrid célèbre l’art de la tapa gastronomique. \nPlus d’informations sur hoteltapatour.com. \nDu 22 septembre au 5 octobre
URL:https://evokcollection.com/event/hotel-tapa-tour-au-brach-madrid/
LOCATION:Brach Madrid\, Gran Vía\, Madrid\, Madrid\, 28004\, Spain
ATTACH;FMTTYPE=image/png:https://evokcollection.com/wp-content/uploads/2025/08/hotel-tapa-tour-brach-madrid-scaled.png
GEO:40.4200395;-3.7019354
X-APPLE-STRUCTURED-LOCATION;VALUE=URI;X-ADDRESS=Brach Madrid Gran Vía Madrid Madrid 28004 Spain;X-APPLE-RADIUS=500;X-TITLE=Gran Vía:geo:-3.7019354,40.4200395
END:VEVENT
BEGIN:VEVENT
DTSTART;TZID=Europe/London:20250922T190000
DTEND;TZID=Europe/London:20250922T213000
DTSTAMP:20260422T193158
CREATED:20250801T102748Z
LAST-MODIFIED:20251008T123035Z
UID:10000590-1758567600-1758576600@evokcollection.com
SUMMARY:Conférence Gustave Caillebotte animée par Stéphanie Chardeau-Botteri au Nolinski Paris
DESCRIPTION:Le Nolinski Paris a le plaisir de vous convier à une conférence le lundi 22 septembre à 19h sur le peintre Gustave Caillebotte animée par Stéphanie Chardeau-Botteri. \nStéphanie Chardeau-Botteri\, arrière-petite-nièce de Gustave Caillebotte\, évolue depuis toujours dans l’univers artistique de sa famille. Diplômée en droit\, gestion et histoire de l’art\, elle est experte en art depuis plus de 25 ans et membre de la Chambre Nationale des Experts Spécialisés. Après avoir exploré les archives familiales pendant des années\, elle publie la première biographie de Gustave Caillebotte\, Caillebotte\, l’impressionniste inconnu (Éditions Fayard). L’ouvrage retrace la vie de l’artiste dans le contexte du XIXe siècle et du mouvement impressionniste. Il a été sélectionné pour le Goncourt des biographies 2024. \nCette conférence dédicace offre une immersion dans le XIXe siècle en retraçant la vie de Gustave Caillebotte à travers l’histoire de l’impressionnisme. \nLundi 22 septembre à 19h
URL:https://evokcollection.com/event/conference-gustave-caillebotte-animee-par-stephanie-botteri-au-nolinski-paris/
LOCATION:Nolinski Paris\, Avenue de l'Opéra\, Paris\, Département de Paris\, 75001\, France
ATTACH;FMTTYPE=image/png:https://evokcollection.com/wp-content/uploads/2025/08/new-in.png
GEO:48.8667241;2.3339412
X-APPLE-STRUCTURED-LOCATION;VALUE=URI;X-ADDRESS=Nolinski Paris Avenue de l'Opéra Paris Département de Paris 75001 France;X-APPLE-RADIUS=500;X-TITLE=Avenue de l'Opéra:geo:2.3339412,48.8667241
END:VEVENT
BEGIN:VEVENT
DTSTART;VALUE=DATE:20250924
DTEND;VALUE=DATE:20251116
DTSTAMP:20260422T193158
CREATED:20250709T134217Z
LAST-MODIFIED:20250916T090438Z
UID:10000575-1758672000-1763251199@evokcollection.com
SUMMARY:Exposition La boxe fait son cinéma au Brach Paris
DESCRIPTION:En partenariat avec Belgian Golden Gloves\, Brach Paris présente l’exposition « La boxe fait son cinéma ».\nVingt photographies\, extraites du livre publié aux Editions Chronica et préfacé par Jean-Paul Belmondo\, seront exposées dans le hall d’entrée de l’hôtel. \nPlus de cinquante acteurs\, parmi lesquels Jean Dujardin\, François Damiens\, Philippe Lacheau\, José Garcia\, Gérard Lanvin et bien d’autres\, rendent hommage au noble art à travers ces clichés. \nDu mercredi 24 septembre au 15 novembre \n 
URL:https://evokcollection.com/event/exposition-la-boxe-fait-son-cinema-au-brach-paris/
LOCATION:Brach Paris Rue Jean Richepin\, Paris\, Département de Paris\, France\, Rue Jean Richepin\, Paris\, Paris\, 75016\, France
ATTACH;FMTTYPE=image/png:https://evokcollection.com/wp-content/uploads/2025/07/new-in-la-boxe-fait-son-cinema.png
GEO:48.8615812;2.2744242
X-APPLE-STRUCTURED-LOCATION;VALUE=URI;X-ADDRESS=Brach Paris Rue Jean Richepin Paris Département de Paris France Rue Jean Richepin Paris Paris 75016 France;X-APPLE-RADIUS=500;X-TITLE=Rue Jean Richepin:geo:2.2744242,48.8615812
END:VEVENT
BEGIN:VEVENT
DTSTART;TZID=Europe/London:20250924T190000
DTEND;TZID=Europe/London:20250924T203000
DTSTAMP:20260422T193158
CREATED:20250212T141023Z
LAST-MODIFIED:20251008T123130Z
UID:10000532-1758740400-1758745800@evokcollection.com
SUMMARY:Concert de piano au Nolinski Venezia
DESCRIPTION:Evok Collection vous invite à vivre une expérience musicale unique à travers une série de récitals de piano donnés par de jeunes artistes virtuoses qui feront résonner la musique entre le Nolinski Paris et le Nolinski Venezia\, lieux d’exception où la mélodie résonne avec une importance particulière. \nNous avons le plaisir de vous convier à un concert de Ruben Micieli le mercredi 24 septembre à 19h\, au Nolinski Venezia. Laissez-vous emporter par un hommage vibrant à Chopin\, interprété avec passion et finesse. \nCe concert\, organisé en partenariat avec Coline en Ré\, unit l’excellence musicale à un engagement solidaire en faveur des enfants de Madagascar.
URL:https://evokcollection.com/event/concert-de-piano-au-nolinski-venezia-24-septembre-2025/
LOCATION:Nolinski Venezia\, Calle Larga XXII Marzo\, Venezia\, Città Metropolitana di Venezia\, 30124\, Italy
CATEGORIES:Concerts de piano caritatifs
ATTACH;FMTTYPE=image/png:https://evokcollection.com/wp-content/uploads/2025/01/nolinski-venezia-bar-biliotheque.png
GEO:45.4329337;12.3347398
X-APPLE-STRUCTURED-LOCATION;VALUE=URI;X-ADDRESS=Nolinski Venezia Calle Larga XXII Marzo Venezia Città Metropolitana di Venezia 30124 Italy;X-APPLE-RADIUS=500;X-TITLE=Calle Larga XXII Marzo:geo:12.3347398,45.4329337
END:VEVENT
BEGIN:VEVENT
DTSTART;TZID=Europe/London:20250925T193000
DTEND;TZID=Europe/London:20250925T220000
DTSTAMP:20260422T193158
CREATED:20250911T155123Z
LAST-MODIFIED:20251008T123232Z
UID:10000602-1758828600-1758837600@evokcollection.com
SUMMARY:John Gade x Nolinski Paris - récital de piano
DESCRIPTION:Une série de récitals de piano mensuels au Nolinski Paris par John Gade\, reconnu pour sa virtuosité et sa sensibilité artistique. \nAmbassadeur de la Fondation Banque Populaire en Méditerranée\, John Gade est un célèbre pianiste\, violoniste et compositeur français de renommée internationale. Il a remporté de nombreux prix prestigieux\, dont le premier prix du concours international Scriabine. \nChaque mois\, Nolinski Paris vibre au rythme de son univers sonore riche et captivant\, où chaque note résonne avec grâce et émotion. \nQue vous soyez un mélomane averti ou un amateur curieux\, ces concerts mensuels seront une occasion unique de découvrir ou redécouvrir la magie de la musique classique dans le cadre élégant et intimiste du Nolinski Paris.
URL:https://evokcollection.com/event/john-gade-x-nolinski-paris-recital-de-piano-7/
LOCATION:Nolinski Paris\, Avenue de l'Opéra\, Paris\, Département de Paris\, 75001\, France
CATEGORIES:John Gade x Nolinski Paris - Récital de piano
ATTACH;FMTTYPE=image/png:https://evokcollection.com/wp-content/uploads/2024/07/recital-piano-john-gade.png
GEO:48.8667241;2.3339412
X-APPLE-STRUCTURED-LOCATION;VALUE=URI;X-ADDRESS=Nolinski Paris Avenue de l'Opéra Paris Département de Paris 75001 France;X-APPLE-RADIUS=500;X-TITLE=Avenue de l'Opéra:geo:2.3339412,48.8667241
END:VEVENT
BEGIN:VEVENT
DTSTART;TZID=Europe/London:20250930T193000
DTEND;TZID=Europe/London:20250930T210000
DTSTAMP:20260422T193158
CREATED:20250909T143641Z
LAST-MODIFIED:20251013T152939Z
UID:10000599-1759260600-1759266000@evokcollection.com
SUMMARY:Brilliant Women Circle x Brach Madrid avec Salomé Prada Pottecher animée par Sara Zaldívar
DESCRIPTION:Nous sommes ravis de vous accueillir pour une conversation avec Salomé Prada Pottecher dans le cadre du «Brilliant Women Circle»\, une série de conversations mensuelles animées par Sara Zaldívar\, qui met en lumière des femmes inspirantes aux parcours variés. Chaque rencontre propose un échange intimiste au cours duquel l’invitée partage son parcours personnel\, les leçons qu’elle a tirées de son expérience\, ainsi que les défis qu’elle a dû relever. \nSalomé Prada Pottecher\, formée en histoire de l’art à Madrid et à Paris et riche d’une solide expérience au sein de galeries et d’ateliers internationaux\, a fondé Creative Productions Prada puis Sélavy Superfoods\, deux initiatives qui traduisent sa vision interdisciplinaire en alliant pratique artistique\, savoir-faire technique\, innovation et artisanat. \nMardi 30 septembre 2025 à 19h30 \nÉvénement gratuit sur inscription
URL:https://evokcollection.com/event/brilliant-women-circle-avec-salome-prada-pottecher-animee-par-sara-zaldivar/
LOCATION:Brach Madrid\, Gran Vía\, Madrid\, Madrid\, 28004\, Spain
CATEGORIES:Brilliant Women Circle
ATTACH;FMTTYPE=image/png:https://evokcollection.com/wp-content/uploads/2025/09/sara-x-salome-prada-new-in-scaled.png
GEO:40.4200395;-3.7019354
X-APPLE-STRUCTURED-LOCATION;VALUE=URI;X-ADDRESS=Brach Madrid Gran Vía Madrid Madrid 28004 Spain;X-APPLE-RADIUS=500;X-TITLE=Gran Vía:geo:-3.7019354,40.4200395
END:VEVENT
END:VCALENDAR