BEGIN:VCALENDAR
VERSION:2.0
PRODID:-//Evok Collection - ECPv6.15.17.1//NONSGML v1.0//EN
CALSCALE:GREGORIAN
METHOD:PUBLISH
X-WR-CALNAME:Evok Collection
X-ORIGINAL-URL:https://evokcollection.com
X-WR-CALDESC:Évènements pour Evok Collection
REFRESH-INTERVAL;VALUE=DURATION:PT1H
X-Robots-Tag:noindex
X-PUBLISHED-TTL:PT1H
BEGIN:VTIMEZONE
TZID:Europe/London
BEGIN:DAYLIGHT
TZOFFSETFROM:+0000
TZOFFSETTO:+0100
TZNAME:BST
DTSTART:20250330T010000
END:DAYLIGHT
BEGIN:STANDARD
TZOFFSETFROM:+0100
TZOFFSETTO:+0000
TZNAME:GMT
DTSTART:20251026T010000
END:STANDARD
BEGIN:DAYLIGHT
TZOFFSETFROM:+0000
TZOFFSETTO:+0100
TZNAME:BST
DTSTART:20260329T010000
END:DAYLIGHT
BEGIN:STANDARD
TZOFFSETFROM:+0100
TZOFFSETTO:+0000
TZNAME:GMT
DTSTART:20261025T010000
END:STANDARD
BEGIN:DAYLIGHT
TZOFFSETFROM:+0000
TZOFFSETTO:+0100
TZNAME:BST
DTSTART:20270328T010000
END:DAYLIGHT
BEGIN:STANDARD
TZOFFSETFROM:+0100
TZOFFSETTO:+0000
TZNAME:GMT
DTSTART:20271031T010000
END:STANDARD
END:VTIMEZONE
BEGIN:VEVENT
DTSTART;TZID=Europe/London:20260204T190000
DTEND;TZID=Europe/London:20260204T210000
DTSTAMP:20260422T113553
CREATED:20260105T084352Z
LAST-MODIFIED:20260216T130916Z
UID:10000671-1770231600-1770238800@evokcollection.com
SUMMARY:Champions x Brach Paris avec Lisa Barbelin et Thomas Chirault
DESCRIPTION:Brach Paris organise des rencontres en compagnie d’athlètes de haut niveau qui font le sport d’aujourd’hui et de demain. Ces champions partagent leur parcours\, leurs succès et leurs défis\, offrant ainsi des enseignements précieux. \nNous sommes ravis de vous convier à une rencontre avec Lisa Barbelin et Thomas Chirault\, figures majeures du tir à l’arc français et médaillés aux Jeux Olympiques de Paris 2024. En couple dans la vie\, Lisa\, 25 ans\, a remporté la médaille de bronze en individuel\, tandis que Thomas\, 28 ans\, a décroché l’argent par équipes. \nLeurs performances remarquées sur l’esplanade des Invalides ont marqué les esprits et confirmé leur statut sur la scène internationale. Depuis leurs exploits olympiques\, ce duo désormais incontournable partage son temps entre compétitions internationales\, études supérieures et préparation pour les Jeux de Los Angeles 2028\, tout en continuant de faire rayonner le tir à l’arc français dans le monde. \nÉvénement gratuit sur inscription.
URL:https://evokcollection.com/event/champions-x-brach-paris-avec-lisa-barbelin-et-thomas-chirault/
LOCATION:Brach Paris\, Rue Jean Richepin\, Paris\, Département de Paris\, 75016\, France
CATEGORIES:Champions x Brach Paris
ATTACH;FMTTYPE=image/png:https://evokcollection.com/wp-content/uploads/2025/12/new-in-rencontre-sportive-04-02-26.png
GEO:48.8615812;2.2744242
X-APPLE-STRUCTURED-LOCATION;VALUE=URI;X-ADDRESS=Brach Paris Rue Jean Richepin Paris Département de Paris 75016 France;X-APPLE-RADIUS=500;X-TITLE=Rue Jean Richepin:geo:2.2744242,48.8615812
END:VEVENT
BEGIN:VEVENT
DTSTART;TZID=Europe/London:20260211T190000
DTEND;TZID=Europe/London:20260211T203000
DTSTAMP:20260422T113553
CREATED:20260115T160305Z
LAST-MODIFIED:20260216T131113Z
UID:10000675-1770836400-1770841800@evokcollection.com
SUMMARY:Concert de piano au Nolinski Venezia
DESCRIPTION:Evok Collection vous invite à vivre une expérience musicale unique à travers une série de récitals de piano donnés par de jeunes artistes virtuoses qui feront résonner la musique entre le Nolinski Paris et le Nolinski Venezia\, lieux d’exception où la mélodie résonne avec une importance particulière. \nNous avons le plaisir de vous convier à un concert de Virgile Roche le mercredi 11 février à 19h\, au Nolinski Venezia. \nVirgile Roche est l’un des pianistes les plus polyvalents de la jeune scène européenne. Admis à 17 ans au Conservatoire de Paris\, il y a obtenu huit diplômes et intégré le sélectif programme de Diplôme d’Artiste en 2024. Lauréat de nombreux prix internationaux\, il se produit dans le monde entier en soliste\, musique de chambre et avec orchestre. En 2026\, il fera ses débuts au Carnegie Hall et à l’Ambassade de France à Washington D.C. \nCe concert\, organisé en partenariat avec Coline en Ré\, unit l’excellence musicale à un engagement solidaire en faveur des enfants de Madagascar.
URL:https://evokcollection.com/event/23022/
LOCATION:Nolinski Venezia\, Calle Larga XXII Marzo\, Venezia\, Città Metropolitana di Venezia\, 30124\, Italy
CATEGORIES:Concerts de piano caritatifs
ATTACH;FMTTYPE=image/png:https://evokcollection.com/wp-content/uploads/2025/01/nolinski-venezia-bar-biliotheque.png
GEO:45.4329337;12.3347398
X-APPLE-STRUCTURED-LOCATION;VALUE=URI;X-ADDRESS=Nolinski Venezia Calle Larga XXII Marzo Venezia Città Metropolitana di Venezia 30124 Italy;X-APPLE-RADIUS=500;X-TITLE=Calle Larga XXII Marzo:geo:12.3347398,45.4329337
END:VEVENT
BEGIN:VEVENT
DTSTART;TZID=Europe/London:20260215T160000
DTEND;TZID=Europe/London:20260215T180000
DTSTAMP:20260422T113553
CREATED:20260116T100908Z
LAST-MODIFIED:20260216T131129Z
UID:10000679-1771171200-1771178400@evokcollection.com
SUMMARY:Atelier Showgirl au Nolinski Paris
DESCRIPTION:Une fois par mois\, Kalon vous propose des ateliers « Showgirl » au Nolinski Paris dans l’ambiance feutrée et intime du Grand Salon.\nLa méthode Kalon et ses différents ateliers ont été conçus pour affiner et sculpter le corps comme une danseuse\, sans avoir besoin de l’être. Lors de cet atelier\, retrouvez les danseuses Kalon pour une séance intense de Cardio Barre suivie de l’apprentissage d’une vraie chorégraphie « Showgirl ». \nPROGRAMME\n16H00\n30 minutes de Kalon Cardio Barre pour tonifier\, renforcer et affiner son corps\, tout en échauffant ses muscles pour la chorégraphie qui suivra\n16H30\nApprentissage de marche en talons avec élégance pour se préparer à la chorégraphie\, puis chorégraphie showgirl\n17H30 – 18H00\nCocktail et moment d’échange \nPour cet atelier\, pensez à prendre avec vous : chaussures à talons confortables\, legging/shorty\, brassière/petit haut et chaussettes.
URL:https://evokcollection.com/event/atelier-showgirl-au-nolinski-paris-5/
LOCATION:Nolinski Paris\, Avenue de l'Opéra\, Paris\, Département de Paris\, 75001\, France
CATEGORIES:Ateliers Showgirl Kalon
ATTACH;FMTTYPE=image/jpeg:https://evokcollection.com/wp-content/uploads/2024/02/img-2705-scaled.jpeg
GEO:48.8667241;2.3339412
X-APPLE-STRUCTURED-LOCATION;VALUE=URI;X-ADDRESS=Nolinski Paris Avenue de l'Opéra Paris Département de Paris 75001 France;X-APPLE-RADIUS=500;X-TITLE=Avenue de l'Opéra:geo:2.3339412,48.8667241
END:VEVENT
BEGIN:VEVENT
DTSTART;TZID=Europe/London:20260216T194500
DTEND;TZID=Europe/London:20260216T213000
DTSTAMP:20260422T113553
CREATED:20260115T164848Z
LAST-MODIFIED:20260216T125741Z
UID:10000678-1771271100-1771277400@evokcollection.com
SUMMARY:Rencontre philosophique avec la Ministre Sarah El Haïry animée par Emmanuel Leclercq
DESCRIPTION:Chaque mois\, le Grand Salon du Nolinski Paris est le théâtre d’une discussion privilégiée entre le philosophe Emmanuel Leclercq\, fondateur de « Devenir pour Agir »\, et une personnalité publique.\nLe lundi 16 février\, vous êtes conviés à une rencontre philosophique avec la Ministre Sarah El Haiïry. \nMinistre et Haute-commissaire à l’Enfance depuis 2025\, elle est fille de parents marocains naturalisés français et a grandi au Maroc avant de revenir en France après l’attentat de Casablanca en 2003. \nJuriste de formation\, elle s’est engagée très tôt dans le syndicalisme puis dans la vie politique\, d’abord au sein de l’UMP puis du Mouvement démocrate. Élue locale à Nantes et vice-présidente du MoDem\, elle a également exercé plusieurs fonctions gouvernementales\, notamment sur la jeunesse\, la famille et la biodiversité. Elle est reconnue pour son expertise des politiques publiques et son engagement en faveur de l’enfance et de la jeunesse. \nLe lundi 16 février 2025 à 19h45 \nÉvénement gratuit sur inscription
URL:https://evokcollection.com/event/rencontre-philosophique-avec-la-ministre-sarah-el-hairy-animee-par-emmanuel-leclercq/
LOCATION:Nolinski Paris\, Avenue de l'Opéra\, Paris\, Département de Paris\, 75001\, France
CATEGORIES:Les rencontres philosophiques
ATTACH;FMTTYPE=image/png:https://evokcollection.com/wp-content/uploads/2026/01/rencontre-philosophique-ministre-sarah-el-hairy.png
GEO:48.8667241;2.3339412
X-APPLE-STRUCTURED-LOCATION;VALUE=URI;X-ADDRESS=Nolinski Paris Avenue de l'Opéra Paris Département de Paris 75001 France;X-APPLE-RADIUS=500;X-TITLE=Avenue de l'Opéra:geo:2.3339412,48.8667241
END:VEVENT
BEGIN:VEVENT
DTSTART;VALUE=DATE:20260225
DTEND;VALUE=DATE:20260413
DTSTAMP:20260422T113553
CREATED:20260216T163806Z
LAST-MODIFIED:20260216T164538Z
UID:10000690-1771977600-1776038399@evokcollection.com
SUMMARY:L'exposition "Blue as velvet" de Baptiste Laurent
DESCRIPTION:Blue as Velvet joue sur une comparaison incongru\, rendue possible par le velours et le bleu lapis-lazuli\, matières centrales de la série. Ces deux éléments évoquent des images chargées d’émotion et de références: le bleu\, entre nostalgie\, musique du blues\, mystère de la nuit\, pigment indigo méditerranéen ou bleu « Klein »; le velours\, par sa douceur et son élégance\, rappelle rideaux de scène et tapisseries anciennes. \nLes figures et objets peints en négatif se définissent par leurs contours\, la matière absorbant la lumière pour créer un contraste unique. Baptiste y revient par intermittence\, donnant à la série Blue as Velvet de s’étendre sur plus de six ans.
URL:https://evokcollection.com/event/lexposition-blue-as-velvet-de-baptiste-laurent/
LOCATION:Brach Madrid\, Gran Vía\, Madrid\, Madrid\, 28004\, Spain
ATTACH;FMTTYPE=image/png:https://evokcollection.com/wp-content/uploads/2026/02/expo-bram.png
GEO:40.4200395;-3.7019354
X-APPLE-STRUCTURED-LOCATION;VALUE=URI;X-ADDRESS=Brach Madrid Gran Vía Madrid Madrid 28004 Spain;X-APPLE-RADIUS=500;X-TITLE=Gran Vía:geo:-3.7019354,40.4200395
END:VEVENT
BEGIN:VEVENT
DTSTART;TZID=Europe/London:20260225T190000
DTEND;TZID=Europe/London:20260225T210000
DTSTAMP:20260422T113553
CREATED:20260206T165959Z
LAST-MODIFIED:20260420T100700Z
UID:10000685-1772046000-1772053200@evokcollection.com
SUMMARY:Rencontre Tortora x Brach Paris avec Tony Yoka
DESCRIPTION:Avec la complicité de Stéphane Tortora\, Brach Paris organise des rencontres mensuelles avec des personnalités publiques de tout horizon. \nNous sommes ravis de vous convier à une rencontre avec Tony Yoka\, champion olympique de boxe. \nTony Yoka\, né le 28 avril 1992 à Paris\, est un boxeur français. Évoluant dans les catégories des poids lourds et super-lourds\, il est le premier Français à être champion du monde amateur dans la catégorie super-lourds en 2015\, puis champion olympique des super-lourds aux Jeux olympiques d’été de 2016 à Rio de Janeiro. \nÉvénement gratuit sur inscription.
URL:https://evokcollection.com/event/tortora-x-brach-paris-avec-tony-yoka-2/
LOCATION:Brach Paris\, Rue Jean Richepin\, Paris\, Département de Paris\, 75016\, France
ATTACH;FMTTYPE=image/jpeg:https://evokcollection.com/wp-content/uploads/2026/02/1180132-tony-yoka-laisse-echapper-sa-joie-au-moment-ou-il-remporte-la-medaille-d-or-en-boxe-categorie-91kg-lors-des-jo-de-rio-le-21-aout-2016.jpg
GEO:48.8615812;2.2744242
X-APPLE-STRUCTURED-LOCATION;VALUE=URI;X-ADDRESS=Brach Paris Rue Jean Richepin Paris Département de Paris 75016 France;X-APPLE-RADIUS=500;X-TITLE=Rue Jean Richepin:geo:2.2744242,48.8615812
END:VEVENT
END:VCALENDAR