BEGIN:VCALENDAR
VERSION:2.0
PRODID:-//Evok Collection - ECPv6.15.17.1//NONSGML v1.0//EN
CALSCALE:GREGORIAN
METHOD:PUBLISH
X-ORIGINAL-URL:https://evokcollection.com
X-WR-CALDESC:Évènements pour Evok Collection
REFRESH-INTERVAL;VALUE=DURATION:PT1H
X-Robots-Tag:noindex
X-PUBLISHED-TTL:PT1H
BEGIN:VTIMEZONE
TZID:Europe/London
BEGIN:DAYLIGHT
TZOFFSETFROM:+0000
TZOFFSETTO:+0100
TZNAME:BST
DTSTART:20250330T010000
END:DAYLIGHT
BEGIN:STANDARD
TZOFFSETFROM:+0100
TZOFFSETTO:+0000
TZNAME:GMT
DTSTART:20251026T010000
END:STANDARD
BEGIN:DAYLIGHT
TZOFFSETFROM:+0000
TZOFFSETTO:+0100
TZNAME:BST
DTSTART:20260329T010000
END:DAYLIGHT
BEGIN:STANDARD
TZOFFSETFROM:+0100
TZOFFSETTO:+0000
TZNAME:GMT
DTSTART:20261025T010000
END:STANDARD
BEGIN:DAYLIGHT
TZOFFSETFROM:+0000
TZOFFSETTO:+0100
TZNAME:BST
DTSTART:20270328T010000
END:DAYLIGHT
BEGIN:STANDARD
TZOFFSETFROM:+0100
TZOFFSETTO:+0000
TZNAME:GMT
DTSTART:20271031T010000
END:STANDARD
END:VTIMEZONE
BEGIN:VEVENT
DTSTART;TZID=Europe/London:20260614T160000
DTEND;TZID=Europe/London:20260614T180000
DTSTAMP:20260423T032846
CREATED:20260403T131712Z
LAST-MODIFIED:20260403T131712Z
UID:10000714-1781452800-1781460000@evokcollection.com
SUMMARY:Atelier Showgirl au Nolinski Paris
DESCRIPTION:Une fois par mois\, Kalon vous propose des ateliers « Showgirl » au Nolinski Paris dans l’ambiance feutrée et intime du Grand Salon.\nLa méthode Kalon et ses différents ateliers ont été conçus pour affiner et sculpter le corps comme une danseuse\, sans avoir besoin de l’être. Lors de cet atelier\, retrouvez les danseuses Kalon pour une séance intense de Cardio Barre suivie de l’apprentissage d’une vraie chorégraphie « Showgirl ». \nPROGRAMME\n16H00\n30 minutes de Kalon Cardio Barre pour tonifier\, renforcer et affiner son corps\, tout en échauffant ses muscles pour la chorégraphie qui suivra\n16H30\nApprentissage de marche en talons avec élégance pour se préparer à la chorégraphie\, puis chorégraphie showgirl\n17H30 – 18H00\nCocktail et moment d’échange \nPour cet atelier\, pensez à prendre avec vous : chaussures à talons confortables\, legging/shorty\, brassière/petit haut et chaussettes.
URL:https://evokcollection.com/event/atelier-showgirl-au-nolinski-paris-9/
LOCATION:Nolinski Paris\, Avenue de l'Opéra\, Paris\, Département de Paris\, 75001\, France
CATEGORIES:Ateliers Showgirl Kalon
ATTACH;FMTTYPE=image/png:https://evokcollection.com/wp-content/uploads/2024/07/ateliers-showgirl-kalon-nolinski-paris.png
GEO:48.8667241;2.3339412
X-APPLE-STRUCTURED-LOCATION;VALUE=URI;X-ADDRESS=Nolinski Paris Avenue de l'Opéra Paris Département de Paris 75001 France;X-APPLE-RADIUS=500;X-TITLE=Avenue de l'Opéra:geo:2.3339412,48.8667241
END:VEVENT
END:VCALENDAR