BEGIN:VCALENDAR
VERSION:2.0
PRODID:-//Evok Collection - ECPv6.15.17.1//NONSGML v1.0//EN
CALSCALE:GREGORIAN
METHOD:PUBLISH
X-ORIGINAL-URL:https://evokcollection.com
X-WR-CALDESC:Évènements pour Evok Collection
REFRESH-INTERVAL;VALUE=DURATION:PT1H
X-Robots-Tag:noindex
X-PUBLISHED-TTL:PT1H
BEGIN:VTIMEZONE
TZID:Europe/London
BEGIN:DAYLIGHT
TZOFFSETFROM:+0000
TZOFFSETTO:+0100
TZNAME:BST
DTSTART:20230326T010000
END:DAYLIGHT
BEGIN:STANDARD
TZOFFSETFROM:+0100
TZOFFSETTO:+0000
TZNAME:GMT
DTSTART:20231029T010000
END:STANDARD
BEGIN:DAYLIGHT
TZOFFSETFROM:+0000
TZOFFSETTO:+0100
TZNAME:BST
DTSTART:20240331T010000
END:DAYLIGHT
BEGIN:STANDARD
TZOFFSETFROM:+0100
TZOFFSETTO:+0000
TZNAME:GMT
DTSTART:20241027T010000
END:STANDARD
BEGIN:DAYLIGHT
TZOFFSETFROM:+0000
TZOFFSETTO:+0100
TZNAME:BST
DTSTART:20250330T010000
END:DAYLIGHT
BEGIN:STANDARD
TZOFFSETFROM:+0100
TZOFFSETTO:+0000
TZNAME:GMT
DTSTART:20251026T010000
END:STANDARD
END:VTIMEZONE
BEGIN:VEVENT
DTSTART;TZID=Europe/London:20241017T200000
DTEND;TZID=Europe/London:20241017T213000
DTSTAMP:20260423T065040
CREATED:20240712T135645Z
LAST-MODIFIED:20250725T081154Z
UID:10000339-1729195200-1729200600@evokcollection.com
SUMMARY:Récital de piano par John Gade
DESCRIPTION:Une série de récitals de piano mensuels au Nolinski Paris par John Gade\, reconnu pour sa virtuosité et sa sensibilité artistique.\nAmbassadeur de la Fondation Banque Populaire en Méditerranée\, John Gade est un célèbre pianiste\, violoniste et compositeur français de renommée internationale. Il a remporté de nombreux prix prestigieux\, dont le premier prix du concours international Scriabine. \nLe jeudi 17 octobre 2024 à 20h\, Nolinski Paris vibrera au rythme de son univers sonore riche et captivant\, où chaque note résonne avec grâce et émotion. \nCes concerts mensuels seront une occasion unique de découvrir ou redécouvrir la magie de la musique classique dans le cadre élégant et intimiste du Nolinski Paris. Que vous soyez un mélomane averti ou un amateur curieux. \nPROGRAMME \n\nFrédéric Chopin\nSonate n°2 op.35\nFranz Liszt\nVallée d’Obermann\nMephisto Waltz
URL:https://evokcollection.com/event/recital-de-piano-par-john-gade/
LOCATION:Nolinski Paris\, Avenue de l'Opéra\, Paris\, Département de Paris\, 75001\, France
CATEGORIES:John Gade x Nolinski Paris - Récital de piano
ATTACH;FMTTYPE=image/png:https://evokcollection.com/wp-content/uploads/2024/07/recital-piano-john-gade.png
GEO:48.8667241;2.3339412
X-APPLE-STRUCTURED-LOCATION;VALUE=URI;X-ADDRESS=Nolinski Paris Avenue de l'Opéra Paris Département de Paris 75001 France;X-APPLE-RADIUS=500;X-TITLE=Avenue de l'Opéra:geo:2.3339412,48.8667241
END:VEVENT
BEGIN:VEVENT
DTSTART;TZID=Europe/London:20241017T190000
DTEND;TZID=Europe/London:20241017T203000
DTSTAMP:20260423T065040
CREATED:20240715T101600Z
LAST-MODIFIED:20250725T075904Z
UID:10000391-1729191600-1729197000@evokcollection.com
SUMMARY:Concert de piano caritatif au Nolinski Venezia
DESCRIPTION:Aux côtés de l’association Coline en Ré\, Evok Collection organise des concerts de piano caritatifs de jeunes artistes virtuoses.\nLa musique voyagera entre Nolinski Paris et Nolinski Venezia\, lieux où la mélodie résonne avec une importance particulière.\nColine en Ré est l’alliance de la musique classique jouée au plus haut niveau et d’une cause humanitaire. Les dons récoltés à la fin de chaque concert et la contribution d’Evok Collection participent à « renutrir » des enfants de familles malgaches. Sauver un enfant dénutri coûte 10€. \nVous êtes invité à un concert de l’artiste Marina Saiki\, le jeudi 17 octobre à 19h.
URL:https://evokcollection.com/event/concert-de-piano-caritatif-au-nolinski-venezia/
LOCATION:Nolinski Venezia\, Calle Larga XXII Marzo\, Venezia\, Città Metropolitana di Venezia\, 30124\, Italy
CATEGORIES:Concerts de piano caritatifs
ATTACH;FMTTYPE=image/png:https://evokcollection.com/wp-content/uploads/2024/07/concert-coline-en-re-nolinski-venezia.png
GEO:45.4329337;12.3347398
X-APPLE-STRUCTURED-LOCATION;VALUE=URI;X-ADDRESS=Nolinski Venezia Calle Larga XXII Marzo Venezia Città Metropolitana di Venezia 30124 Italy;X-APPLE-RADIUS=500;X-TITLE=Calle Larga XXII Marzo:geo:12.3347398,45.4329337
END:VEVENT
BEGIN:VEVENT
DTSTART;TZID=Europe/London:20241014T194500
DTEND;TZID=Europe/London:20241014T213000
DTSTAMP:20260423T065040
CREATED:20240715T093633Z
LAST-MODIFIED:20250725T075730Z
UID:10000381-1728935100-1728941400@evokcollection.com
SUMMARY:Rencontre philosophique au Nolinski Paris avec François Alu
DESCRIPTION:Chaque mois\, le Grand Salon du Nolinski Paris est le théâtre d’une discussion privilégiée entre le philosophe Emmanuel Leclercq et une personnalité publique.\nNous sommes heureux de vous convier à une rencontre philosophique avec François Alu\, « danseur étoile » ayant fait partie du Ballet de l’Opéra de Paris. Cette rencontre se clôturera par une dédicace de son livre « Le Prix de l’étoile » paru aux Editions Robert Laffont en octobre 2024. Dans ce livre autobiographique et poétique\, François Alu raconte les secrets des couloirs de l’Opéra Garnier\, les lumières des soirs de spectacle\, la souffrance\, la colère et la discipline. \nAprès douze années au sein de l’Opéra de Paris\, François Alu est nommé danseur étoile en 2022. Quelques mois après sa nomination\, il annonce son départ pour poursuivre une carrière artistique personnelle. \nEmmanuel Leclercq est philosophe\, essayiste et conférencier. Il enseigne la philosophie et l’éthique de l’IA et est le fondateur de « Devenir pour Agir ».
URL:https://evokcollection.com/event/rencontre-philosophique-au-nolinski-paris-5/
LOCATION:Nolinski Paris\, Avenue de l'Opéra\, Paris\, Département de Paris\, 75001\, France
CATEGORIES:Les rencontres philosophiques
ATTACH;FMTTYPE=image/png:https://evokcollection.com/wp-content/uploads/2024/07/rencontre-philosophique-francois-alu.png
GEO:48.8667241;2.3339412
X-APPLE-STRUCTURED-LOCATION;VALUE=URI;X-ADDRESS=Nolinski Paris Avenue de l'Opéra Paris Département de Paris 75001 France;X-APPLE-RADIUS=500;X-TITLE=Avenue de l'Opéra:geo:2.3339412,48.8667241
END:VEVENT
BEGIN:VEVENT
DTSTART;TZID=Europe/London:20241013T160000
DTEND;TZID=Europe/London:20241013T180000
DTSTAMP:20260423T065040
CREATED:20240715T152409Z
LAST-MODIFIED:20251013T153715Z
UID:10000397-1728835200-1728842400@evokcollection.com
SUMMARY:Atelier Showgirl au Nolinski Paris
DESCRIPTION:Une fois par mois\, Kalon vous propose des ateliers « Showgirl » au Nolinski Paris dans l’ambiance feutrée et intime du Grand Salon.\nLa méthode Kalon et ses différents ateliers ont été conçus pour affiner et sculpter le corps comme une danseuse\, sans avoir besoin de l’être. Lors de cet atelier\, retrouvez les danseuses Kalon pour une séance intense de Cardio Barre suivie de l’apprentissage d’une vraie chorégraphie « Showgirl ». \nPROGRAMME\n16H00\n30 minutes de Kalon Cardio Barre pour tonifier\, renforcer et affiner son corps\, tout en échauffant ses muscles pour la chorégraphie qui suivra\n16H30\nApprentissage de marche en talons avec élégance pour se préparer à la chorégraphie\, puis chorégraphie showgirl\n17H30 – 18H00\nCocktail et moment d’échange \nPour cet atelier\, pensez à prendre avec vous : chaussures à talons confortables\, legging/shorty\, brassière/petit haut et chaussettes.
URL:https://evokcollection.com/event/atelier-showgirl-au-nolinski-paris/2024-10-13/
LOCATION:Nolinski Paris\, Avenue de l'Opéra\, Paris\, Département de Paris\, 75001\, France
CATEGORIES:Ateliers Showgirl Kalon
ATTACH;FMTTYPE=image/png:https://evokcollection.com/wp-content/uploads/2024/07/ateliers-showgirl-kalon-nolinski-paris.png
GEO:48.8667241;2.3339412
X-APPLE-STRUCTURED-LOCATION;VALUE=URI;X-ADDRESS=Nolinski Paris Avenue de l'Opéra Paris Département de Paris 75001 France;X-APPLE-RADIUS=500;X-TITLE=Avenue de l'Opéra:geo:2.3339412,48.8667241
END:VEVENT
BEGIN:VEVENT
DTSTART;TZID=Europe/London:20241008T190000
DTEND;TZID=Europe/London:20241008T203000
DTSTAMP:20260423T065040
CREATED:20240712T095947Z
LAST-MODIFIED:20250725T075652Z
UID:10000307-1728414000-1728419400@evokcollection.com
SUMMARY:Conversation avec des enchanteurs avec Barbara Bui
DESCRIPTION:Le rendez-vous imaginé par Nolinski Paris et Laurence Benaïm convie des créateurs inspirés et inspirants.\nDe la mode à la littérature\, du design aux fleurs\, un hommage au métier\, à l’art d’illuminer le quotidien.\nLe mardi 8 octobre à 19h\, Laurence Benaïm recevra Barbara Bui au Nolinski Paris. \nBarbara Bui\nElle se destinait à être écrivain avant de se tourner vers la mode dans les années 1980. Autodidacte\, elle crée sa marque en 1987\, alliant force et sensibilité dans ses vêtements. Son style masculin/féminin\, reconnaissable et moderne\, valorise la personnalité des femmes. \nLaurence Benaïm\nJournaliste et auteure française spécialisée dans le domaine de la mode\, biographe d’Yves Saint Laurent\, de Jean-Michel Frank\, de Marie-Laure de Noailles\, Laurence Benaïm est Commandeure des Arts et des Lettres.
URL:https://evokcollection.com/event/conversation-avec-des-enchanteurs-barbara-bui-2/
LOCATION:Nolinski Paris\, Avenue de l'Opéra\, Paris\, Département de Paris\, 75001\, France
CATEGORIES:Conversations avec des enchanteurs
ATTACH;FMTTYPE=image/png:https://evokcollection.com/wp-content/uploads/2024/07/conversations-enchanteurs-barbara-bui.png
GEO:48.8667241;2.3339412
X-APPLE-STRUCTURED-LOCATION;VALUE=URI;X-ADDRESS=Nolinski Paris Avenue de l'Opéra Paris Département de Paris 75001 France;X-APPLE-RADIUS=500;X-TITLE=Avenue de l'Opéra:geo:2.3339412,48.8667241
END:VEVENT
BEGIN:VEVENT
DTSTART;TZID=Europe/London:20241007T190000
DTEND;TZID=Europe/London:20241007T203000
DTSTAMP:20260423T065040
CREATED:20240712T134624Z
LAST-MODIFIED:20241001T144149Z
UID:10000337-1728327600-1728333000@evokcollection.com
SUMMARY:Masterclass wellness par Valérie Espinasse
DESCRIPTION:Brach Paris poursuit l’organisation de rendez-vous bien être.\nAnimées par des experts\, les Masterclasses Wellness ont pour thématiques la nutrition\, le bien-être holistique\, la gestion du stress\, l’équilibre mental et physique\, et bien plus encore. \nNous avons le plaisir de vous convier la masterclass « rétablir l’ordre dans le chaos des hormones »\, animée par la micro-nutritionniste Valérie Espinasse. Une session spécialement conçue pour retrouver un équilibre harmonieux entre votre poids et votre corps. \nValérie Espinasse\nValérie Espinasse est\, docteure en pharmacie\, Micro-nutritionniste et également diplômée de médecine prédictive et anti-âge. Elle s’est spécialisée sur les intolérances alimentaires et le microbiote intestinal. A ce titre\, elle consulte à Paris et a fondé la « MÉTHODE ESPINASSE » qui est une approche globale et personnalisée de la santé.
URL:https://evokcollection.com/event/masterclass-wellness-par-valerie-espinasse/
LOCATION:Brach Paris\, Rue Jean Richepin\, Paris\, Département de Paris\, 75016\, France
CATEGORIES:Masterclass Wellness
ATTACH;FMTTYPE=image/png:https://evokcollection.com/wp-content/uploads/2024/07/valerie-espinasse-fr-page-events-2.png
GEO:48.8615812;2.2744242
X-APPLE-STRUCTURED-LOCATION;VALUE=URI;X-ADDRESS=Brach Paris Rue Jean Richepin Paris Département de Paris 75016 France;X-APPLE-RADIUS=500;X-TITLE=Rue Jean Richepin:geo:2.2744242,48.8615812
END:VEVENT
BEGIN:VEVENT
DTSTART;TZID=Europe/London:20240930T190000
DTEND;TZID=Europe/London:20240930T203000
DTSTAMP:20260423T065040
CREATED:20240712T121627Z
LAST-MODIFIED:20240916T084007Z
UID:10000313-1727722800-1727728200@evokcollection.com
SUMMARY:Masterclass épigénétique par Clarins
DESCRIPTION:L’épigénétique et la peau\nClarins repousse encore les frontières de l’innovation anti-âge avec la nouvelle génération de son emblématique Double Sérum. À cette occasion\, nous avons le plaisir de vous convier à une masterclass sur l’épigénétique\, animée par Marie-Hélène Lair\, Docteur en Pharmacie\, directrice de l’innovation responsable de Clarins. \nLundi 30 septembre 2024 à 19h  \nL’épigénétique\, cette science qui explore la modification de l’expression des gènes\, a inspiré la technologie du nouveau Double Sérum. Enrichi en extrait de grand roseau de Provence\, ce soin révolutionnaire lutte contre les signes de l’âge.
URL:https://evokcollection.com/event/masterclass-epigenetique-par-clarins/
LOCATION:Brach Paris\, Rue Jean Richepin\, Paris\, Département de Paris\, 75016\, France
CATEGORIES:Masterclass Wellness
ATTACH;FMTTYPE=image/png:https://evokcollection.com/wp-content/uploads/2024/07/brach-latelier-1-gdelaubier-1.png
GEO:48.8615812;2.2744242
X-APPLE-STRUCTURED-LOCATION;VALUE=URI;X-ADDRESS=Brach Paris Rue Jean Richepin Paris Département de Paris 75016 France;X-APPLE-RADIUS=500;X-TITLE=Rue Jean Richepin:geo:2.2744242,48.8615812
END:VEVENT
BEGIN:VEVENT
DTSTART;TZID=Europe/London:20240926T200000
DTEND;TZID=Europe/London:20240926T213000
DTSTAMP:20260423T065040
CREATED:20240708T132402Z
LAST-MODIFIED:20250725T081955Z
UID:10000069-1727380800-1727386200@evokcollection.com
SUMMARY:Récital de piano par John Gade
DESCRIPTION:Une série de récitals de piano mensuels au Nolinski Paris par John Gade\, reconnu pour sa virtuosité et sa sensibilité artistique.\nAmbassadeur de la Fondation Banque Populaire en Méditerranée\, John Gade est un célèbre pianiste\, violoniste et compositeur français de renommée internationale. Il a remporté de nombreux prix prestigieux\, dont le premier prix du concours international Scriabine. \nLe jeudi 26 septembre 2024 à 20h\, Nolinski Paris vibrera au rythme de son univers sonore riche et captivant\, où chaque note résonne avec grâce et émotion. \nCes concerts mensuels seront une occasion unique de découvrir ou redécouvrir la magie de la musique classique dans le cadre élégant et intimiste du Nolinski Paris. Que vous soyez un mélomane averti ou un amateur curieux. \nPROGRAMME\n\nRobert Schumann\nFantaisie op.17 \nFrédéric Chopin\nAndante Spianato et grande polonaise brillante op.22\nNocturne op.48 n°1
URL:https://evokcollection.com/event/recital-piano-john-gade-nolinski-paris/
LOCATION:Nolinski Paris\, Avenue de l'Opéra\, Paris\, Département de Paris\, 75001\, France
ATTACH;FMTTYPE=image/png:https://evokcollection.com/wp-content/uploads/2024/07/recital-piano-john-gade.png
GEO:48.8667241;2.3339412
X-APPLE-STRUCTURED-LOCATION;VALUE=URI;X-ADDRESS=Nolinski Paris Avenue de l'Opéra Paris Département de Paris 75001 France;X-APPLE-RADIUS=500;X-TITLE=Avenue de l'Opéra:geo:2.3339412,48.8667241
END:VEVENT
BEGIN:VEVENT
DTSTART;TZID=Europe/London:20240919T190000
DTEND;TZID=Europe/London:20240919T203000
DTSTAMP:20260423T065040
CREATED:20240715T095859Z
LAST-MODIFIED:20250725T081815Z
UID:10000387-1726772400-1726777800@evokcollection.com
SUMMARY:Concert de piano caritatif au Nolinski Paris
DESCRIPTION:Aux côtés de l’association Coline en Ré\, Evok Collection organise des concerts de piano caritatifs de jeunes artistes virtuoses.\nLa musique voyagera entre Nolinski Paris et Nolinski Venezia\, lieux où la mélodie résonne avec une importance particulière.\nColine en Ré est l’alliance de la musique classique jouée au plus haut niveau et d’une cause humanitaire. Les dons récoltés à la fin de chaque concert et la contribution d’Evok Collection participent à « renutrir » des enfants de familles malgaches extrêmement pauvres. Sauver un enfant dénutri coûte 10€. \nVous êtes invité à un concert de l’artiste Yiheng Wang\, le jeudi 19 septembre à 19h.
URL:https://evokcollection.com/event/concert-de-piano-caritatif-au-nolinski-paris/
LOCATION:Nolinski Paris\, Avenue de l'Opéra\, Paris\, Département de Paris\, 75001\, France
CATEGORIES:Concerts de piano caritatifs
ATTACH;FMTTYPE=image/png:https://evokcollection.com/wp-content/uploads/2024/07/concert-coline-en-re-nolinski-paris.png
GEO:48.8667241;2.3339412
X-APPLE-STRUCTURED-LOCATION;VALUE=URI;X-ADDRESS=Nolinski Paris Avenue de l'Opéra Paris Département de Paris 75001 France;X-APPLE-RADIUS=500;X-TITLE=Avenue de l'Opéra:geo:2.3339412,48.8667241
END:VEVENT
BEGIN:VEVENT
DTSTART;VALUE=DATE:20240917
DTEND;VALUE=DATE:20240918
DTSTAMP:20260423T065040
CREATED:20240712T124101Z
LAST-MODIFIED:20240712T130511Z
UID:10000316-1726531200-1726617599@evokcollection.com
SUMMARY:Nolinski Le Restaurant propose une nouvelle carte signée Philip Chronopoulos
DESCRIPTION:Dès le mois de septembre 2024\, Nolinski Le Restaurant proposera une nouvelle carte toujours signée Philip Chronopoulos qui fait la part belle à la cuisine bourgeoise\, de celle qui sied à l’atmosphère des grandes institutions parisiennes.\nLa nouvelle carte imaginée met à l’honneur les recettes qui ont fait le succès de la cuisine parisienne. Elle propose des «madeleines de Proust» pour satisfaire les envies d’aujourd’hui\, en apportant une sensation de bonheur et de réconfort. Philip Chronopoulos propose ici une cuisine moins sophistiquée\, plus rassurante\, mais toujours agréablement surprenante. \nDes plats emblématiques tels que le pot-au-feu\, la volaille et le gratin de macaronis aux morilles sont réalisés avec sa touche délicate et unique. La carte\, enrichie de suggestions quotidiennes\, invite les convives à redécouvrir la richesse et la finesse de la gastronomie française\, mettant en lumière les grands classiques de la cuisine bourgeoise. Les desserts évoquent des souvenirs d’enfance et des moments partagés autour de la table familiale : la charlotte\, le baba et le mille-feuille… \n 
URL:https://evokcollection.com/event/nolinski-le-restaurant-propose-une-nouvelle-carte-signee-philip-chronopoulos/
LOCATION:Nolinski Paris\, Avenue de l'Opéra\, Paris\, Département de Paris\, 75001\, France
ATTACH;FMTTYPE=image/png:https://evokcollection.com/wp-content/uploads/2024/07/nouvell-carte-restaurant-nolinski-paris-homard.png
GEO:48.8667241;2.3339412
X-APPLE-STRUCTURED-LOCATION;VALUE=URI;X-ADDRESS=Nolinski Paris Avenue de l'Opéra Paris Département de Paris 75001 France;X-APPLE-RADIUS=500;X-TITLE=Avenue de l'Opéra:geo:2.3339412,48.8667241
END:VEVENT
BEGIN:VEVENT
DTSTART;TZID=Europe/London:20240916T080000
DTEND;TZID=Europe/London:20240916T170000
DTSTAMP:20260423T065040
CREATED:20240715T152409Z
LAST-MODIFIED:20251013T153715Z
UID:10000456-1726473600-1726506000@evokcollection.com
SUMMARY:Atelier Showgirl au Nolinski Paris
DESCRIPTION:Une fois par mois\, Kalon vous propose des ateliers « Showgirl » au Nolinski Paris dans l’ambiance feutrée et intime du Grand Salon.\nLa méthode Kalon et ses différents ateliers ont été conçus pour affiner et sculpter le corps comme une danseuse\, sans avoir besoin de l’être. Lors de cet atelier\, retrouvez les danseuses Kalon pour une séance intense de Cardio Barre suivie de l’apprentissage d’une vraie chorégraphie « Showgirl ». \nPROGRAMME\n16H00\n30 minutes de Kalon Cardio Barre pour tonifier\, renforcer et affiner son corps\, tout en échauffant ses muscles pour la chorégraphie qui suivra\n16H30\nApprentissage de marche en talons avec élégance pour se préparer à la chorégraphie\, puis chorégraphie showgirl\n17H30 – 18H00\nCocktail et moment d’échange \nPour cet atelier\, pensez à prendre avec vous : chaussures à talons confortables\, legging/shorty\, brassière/petit haut et chaussettes.
URL:https://evokcollection.com/event/atelier-showgirl-au-nolinski-paris/2024-09-16/
LOCATION:Nolinski Paris\, Avenue de l'Opéra\, Paris\, Département de Paris\, 75001\, France
CATEGORIES:Ateliers Showgirl Kalon
ATTACH;FMTTYPE=image/png:https://evokcollection.com/wp-content/uploads/2024/07/ateliers-showgirl-kalon-nolinski-paris.png
GEO:48.8667241;2.3339412
X-APPLE-STRUCTURED-LOCATION;VALUE=URI;X-ADDRESS=Nolinski Paris Avenue de l'Opéra Paris Département de Paris 75001 France;X-APPLE-RADIUS=500;X-TITLE=Avenue de l'Opéra:geo:2.3339412,48.8667241
END:VEVENT
BEGIN:VEVENT
DTSTART;TZID=Europe/London:20240913T090000
DTEND;TZID=Europe/London:20240913T110000
DTSTAMP:20260423T065040
CREATED:20240822T092941Z
LAST-MODIFIED:20250725T081623Z
UID:10000407-1726218000-1726225200@evokcollection.com
SUMMARY:Sessions Ice Bath par Caroline Arditti
DESCRIPTION:Vivez la magie de votre premier bain de glace au Brach Paris : une expérience animée par Caroline Arditti\, fondatrice du Paris Ice Club\, formée et certifiée de la méthode Wim Hof. \nLe vendredi 13 septembre 2024 de 9h à 11h \nVous êtes convié à une expérience de dépassement de soi par le froid comme vous ne l’avez jamais vécue. Plongez dans une eau glacée et explorez les pouvoirs de la respiration pour révéler le potentiel caché de votre corps. Une aventure holistique aux nombreux bienfaits pour le corps et l’esprit. \nPROGRAMME \nIntroduction aux bienfaits de la méthode Wim Hof\nRespiration guidée\, préparation physique et mentale\nImmersion dans un bain glacé\nDétente autour d’une boisson chaude \nPrix : 120€
URL:https://evokcollection.com/event/sessions-ice-bath-par-caroline-arditti/
LOCATION:Brach Paris\, Rue Jean Richepin\, Paris\, Département de Paris\, 75016\, France
ATTACH;FMTTYPE=image/png:https://evokcollection.com/wp-content/uploads/2024/08/paris-ice-club.png
GEO:48.8615812;2.2744242
X-APPLE-STRUCTURED-LOCATION;VALUE=URI;X-ADDRESS=Brach Paris Rue Jean Richepin Paris Département de Paris 75016 France;X-APPLE-RADIUS=500;X-TITLE=Rue Jean Richepin:geo:2.2744242,48.8615812
END:VEVENT
BEGIN:VEVENT
DTSTART;TZID=Europe/London:20240912T190000
DTEND;TZID=Europe/London:20240912T203000
DTSTAMP:20260423T065040
CREATED:20240822T090408Z
LAST-MODIFIED:20250725T081519Z
UID:10000405-1726167600-1726173000@evokcollection.com
SUMMARY:Masterclass Design Humain par Mélodie Jeanniard du Dot
DESCRIPTION:Le Design Humain est une pratique qui permet de comprendre et d’optimiser ses flux énergétiques personnels. Nous avons le plaisir de vous convier à une masterclass dédiée à cette approche\, animée par Melodie Jeanniard du Dot. \nLe jeudi 12 septembre à 19h \nLe Design Humain combine l’astrologie\, le I’ching\, le système de chakras et l’arbre de vie\, offrant un schéma corporel unique pour chacun. En découvrant son Design Humain\, il est possible de mieux gérer ses émotions\, utiliser son temps de manière optimale et naviguer dans ses relations avec plus d’harmonie. \nMelodie Jeanniard du Dot\, ancienne professionnelle de la beauté\, a découvert cette discipline en 2018 et est rapidement devenue une référence en France. Son approche pédagogique et son expertise rendent le Design Humain accessible et transformateur.
URL:https://evokcollection.com/event/masterclass-design-humain-par-melodie-jeanniard-du-dot/
LOCATION:Brach Paris\, Rue Jean Richepin\, Paris\, Département de Paris\, 75016\, France
CATEGORIES:Masterclass Wellness
ATTACH;FMTTYPE=image/png:https://evokcollection.com/wp-content/uploads/2024/08/design-humain.png
GEO:48.8615812;2.2744242
X-APPLE-STRUCTURED-LOCATION;VALUE=URI;X-ADDRESS=Brach Paris Rue Jean Richepin Paris Département de Paris 75016 France;X-APPLE-RADIUS=500;X-TITLE=Rue Jean Richepin:geo:2.2744242,48.8615812
END:VEVENT
BEGIN:VEVENT
DTSTART;TZID=Europe/London:20240911T080000
DTEND;TZID=Europe/London:20240911T103000
DTSTAMP:20260423T065040
CREATED:20240704T134310Z
LAST-MODIFIED:20250724T152205Z
UID:10000002-1726041600-1726050600@evokcollection.com
SUMMARY:Petit-déjeuner Legend Ladies avec Gérald Karsenti
DESCRIPTION:Pour Nolinski Paris\, 2024 rime avec rencontres d’exception. Avec la complicité de Laura Lesueur\, le Nolinski initie désormais des rencontres avec des femmes inspirantes d’horizons divers\, afin d’échanger sur l’entrepreneuriat au féminin\, mais également l’équilibre entre vie professionnelle et personnelle. \nLaura Lesueur accueillera le mercredi 11 septembre de 8h à 10h30\, Gérald Karsenti\, Associé Qualium Investissements\, ancien dirigeant investi de longue date pour la parité\, animateur Radio Classique et conférencier. Une invitation à échanger sur son parcours et sur les grandes femmes qui ont marqué l’Histoire faisant écho à son podcast « Grands Leaders\, les leçons de l’Histoire ». \nLAURA LESUEUR\nLaura Lesueur est motivational business speaker\, conférencière et autrice. Elle a créé « Legend Ladies »\, premier podcast sur l’ambition féminine ainsi qu’une académie digitale et présentielle\, dédiée à la montée en compétence et en confiance des femmes au sein des organisations.
URL:https://evokcollection.com/event/petits-dejeuners-legend-ladies-avec-gerald-karsenti/
LOCATION:Nolinski Paris\, Avenue de l'Opéra\, Paris\, Département de Paris\, 75001\, France
CATEGORIES:Les petits-déjeuners Legend Ladies
ATTACH;FMTTYPE=image/png:https://evokcollection.com/wp-content/uploads/2024/07/legend-ladies-gerald-karsenti-4.png
ORGANIZER;CN="Laura Lesueur":MAILTO:laura@lauralesueur.com
GEO:48.8667241;2.3339412
X-APPLE-STRUCTURED-LOCATION;VALUE=URI;X-ADDRESS=Nolinski Paris Avenue de l'Opéra Paris Département de Paris 75001 France;X-APPLE-RADIUS=500;X-TITLE=Avenue de l'Opéra:geo:2.3339412,48.8667241
END:VEVENT
BEGIN:VEVENT
DTSTART;TZID=Europe/London:20240909T190000
DTEND;TZID=Europe/London:20240909T203000
DTSTAMP:20260423T065040
CREATED:20240712T073011Z
LAST-MODIFIED:20250725T081432Z
UID:10000298-1725908400-1725913800@evokcollection.com
SUMMARY:Conversation avec des enchanteurs avec Karine Dijoud
DESCRIPTION:Le rendez-vous imaginé par Nolinski Paris et Laurence Benaïm convie des créateurs inspirés et inspirants.\nDe la mode à la littérature\, du design aux fleurs\, un hommage au métier\, à l’art d’illuminer le quotidien.\nLe Lundi 9 septembre à 19h\, Laurence Benaïm recevra Karine Dijoud au Nolinski Paris. \nKarine Dijoud\nKarine Dijoud est enseignante de lettres classiques en collège REP+\, elle a publié des ouvrages partageant des conseils pour manier le français avec style et élégance et anime un compte Instagram dédié à la langue française\, intitulé @lesparentheseselementaires. \nLaurence Benaïm\nJournaliste et auteure française spécialisée dans le domaine de la mode\, biographe d’Yves Saint Laurent\, de Jean-Michel Frank\, de Marie-Laure de Noailles\, est Commandeure des Arts et des Lettres.
URL:https://evokcollection.com/event/conversations-avec-des-enchanteurs-karine-dijoud/
LOCATION:Nolinski Paris\, Avenue de l'Opéra\, Paris\, Département de Paris\, 75001\, France
CATEGORIES:Conversations avec des enchanteurs
ATTACH;FMTTYPE=image/png:https://evokcollection.com/wp-content/uploads/2024/07/conversations-enchanteurs.png
GEO:48.8667241;2.3339412
X-APPLE-STRUCTURED-LOCATION;VALUE=URI;X-ADDRESS=Nolinski Paris Avenue de l'Opéra Paris Département de Paris 75001 France;X-APPLE-RADIUS=500;X-TITLE=Avenue de l'Opéra:geo:2.3339412,48.8667241
END:VEVENT
BEGIN:VEVENT
DTSTART;TZID=Europe/London:20240708T120000
DTEND;TZID=Europe/London:20240722T180000
DTSTAMP:20260423T065040
CREATED:20240704T140841Z
LAST-MODIFIED:20240712T150122Z
UID:10000004-1720440000-1721671200@evokcollection.com
SUMMARY:Pop-up Lacoste Paris 1924
DESCRIPTION:Lacoste et Brach Paris\, partenaires depuis plusieurs années\, s’unissent à l’occasion d’un nouveau pop-up sportif à ne pas manquer.\nLacoste\, dont l’histoire est entremêlée à celle du sport\, rend hommage aux Jeux Olympiques passés\, et montre l’iconicité de la Maison à travers le lancement de sa nouvelle collection « Paris 1924 ». Cette ligne célèbre à travers huit pièces distinctes\, les légendaires Jeux Olympiques qui faisaient déjà battre le coeur de la ville de Paris il y a 100 ans. Il s’agit de la sixième collection « Olympic Heritage » créée dans le cadre de l’accord de licence conclu avec le Comité International Olympique.Une collection capsule qui reflète parfaitement les valeurs communes de la marque au Crocodile et de l’héritage olympique\, parmi lesquelles : l’audace\, le fairplay et l’authenticité. \nÀ retrouver au rez-de-chaussée de Brach Paris du 8 au 22 juillet 2024.
URL:https://evokcollection.com/event/pop-up-lacoste-paris-1924/
LOCATION:Brach Paris\, Rue Jean Richepin\, Paris\, Département de Paris\, 75016\, France
CATEGORIES:Pop-ups au Brach Paris
ATTACH;FMTTYPE=image/jpeg:https://evokcollection.com/wp-content/uploads/2024/07/040-020-16-9-scaled.jpg
GEO:48.8615812;2.2744242
X-APPLE-STRUCTURED-LOCATION;VALUE=URI;X-ADDRESS=Brach Paris Rue Jean Richepin Paris Département de Paris 75016 France;X-APPLE-RADIUS=500;X-TITLE=Rue Jean Richepin:geo:2.2744242,48.8615812
END:VEVENT
END:VCALENDAR